BEGIN:VCALENDAR
VERSION:2.0
PRODID:-//Suncoast Florida Region - PCA - ECPv6.15.20//NONSGML v1.0//EN
CALSCALE:GREGORIAN
METHOD:PUBLISH
X-ORIGINAL-URL:https://suncoastpca.org
X-WR-CALDESC:Events for Suncoast Florida Region - PCA
REFRESH-INTERVAL;VALUE=DURATION:PT1H
X-Robots-Tag:noindex
X-PUBLISHED-TTL:PT1H
BEGIN:VTIMEZONE
TZID:America/New_York
BEGIN:DAYLIGHT
TZOFFSETFROM:-0500
TZOFFSETTO:-0400
TZNAME:EDT
DTSTART:20220313T070000
END:DAYLIGHT
BEGIN:STANDARD
TZOFFSETFROM:-0400
TZOFFSETTO:-0500
TZNAME:EST
DTSTART:20221106T060000
END:STANDARD
BEGIN:DAYLIGHT
TZOFFSETFROM:-0500
TZOFFSETTO:-0400
TZNAME:EDT
DTSTART:20230312T070000
END:DAYLIGHT
BEGIN:STANDARD
TZOFFSETFROM:-0400
TZOFFSETTO:-0500
TZNAME:EST
DTSTART:20231105T060000
END:STANDARD
BEGIN:DAYLIGHT
TZOFFSETFROM:-0500
TZOFFSETTO:-0400
TZNAME:EDT
DTSTART:20240310T070000
END:DAYLIGHT
BEGIN:STANDARD
TZOFFSETFROM:-0400
TZOFFSETTO:-0500
TZNAME:EST
DTSTART:20241103T060000
END:STANDARD
END:VTIMEZONE
BEGIN:VEVENT
DTSTART;TZID=America/New_York:20230919T180000
DTEND;TZID=America/New_York:20230919T210000
DTSTAMP:20260423T022854
CREATED:20230806T135346Z
LAST-MODIFIED:20230806T135516Z
UID:10001013-1695146400-1695157200@suncoastpca.org
SUMMARY:Date Your Porsche Night
DESCRIPTION:Members and guests\, come out for DYPN Tuesday September 19\, 2023 at 6:00pm at Waterfrontoo located at 2205 N Tamiami Trail Nokomis\, FL 34275. \nFull menu will be available and can be viewed on their website. \nREGISTRATION IS REQUIRED to ensure proper staffing. Food and beverage will be covered by the individual.\nWe look forward to seeing you there! \nhttps://clubregistration.net/events/event-details.cfm?event_id=13694
URL:https://suncoastpca.org/event/date-your-porsche-night-62/
LOCATION:Waterfrontoo\, 2205 N Tamiami Trail\, Nokomis\, FL\, 34275\, United States
CATEGORIES:Social
END:VEVENT
END:VCALENDAR