BEGIN:VCALENDAR
VERSION:2.0
PRODID:-//Suncoast Florida Region - PCA - ECPv6.15.20//NONSGML v1.0//EN
CALSCALE:GREGORIAN
METHOD:PUBLISH
X-ORIGINAL-URL:https://suncoastpca.org
X-WR-CALDESC:Events for Suncoast Florida Region - PCA
REFRESH-INTERVAL;VALUE=DURATION:PT1H
X-Robots-Tag:noindex
X-PUBLISHED-TTL:PT1H
BEGIN:VTIMEZONE
TZID:America/New_York
BEGIN:DAYLIGHT
TZOFFSETFROM:-0500
TZOFFSETTO:-0400
TZNAME:EDT
DTSTART:20180311T070000
END:DAYLIGHT
BEGIN:STANDARD
TZOFFSETFROM:-0400
TZOFFSETTO:-0500
TZNAME:EST
DTSTART:20181104T060000
END:STANDARD
BEGIN:DAYLIGHT
TZOFFSETFROM:-0500
TZOFFSETTO:-0400
TZNAME:EDT
DTSTART:20190310T070000
END:DAYLIGHT
BEGIN:STANDARD
TZOFFSETFROM:-0400
TZOFFSETTO:-0500
TZNAME:EST
DTSTART:20191103T060000
END:STANDARD
BEGIN:DAYLIGHT
TZOFFSETFROM:-0500
TZOFFSETTO:-0400
TZNAME:EDT
DTSTART:20200308T070000
END:DAYLIGHT
BEGIN:STANDARD
TZOFFSETFROM:-0400
TZOFFSETTO:-0500
TZNAME:EST
DTSTART:20201101T060000
END:STANDARD
BEGIN:DAYLIGHT
TZOFFSETFROM:-0500
TZOFFSETTO:-0400
TZNAME:EDT
DTSTART:20210314T070000
END:DAYLIGHT
BEGIN:STANDARD
TZOFFSETFROM:-0400
TZOFFSETTO:-0500
TZNAME:EST
DTSTART:20211107T060000
END:STANDARD
BEGIN:DAYLIGHT
TZOFFSETFROM:-0500
TZOFFSETTO:-0400
TZNAME:EDT
DTSTART:20220313T070000
END:DAYLIGHT
BEGIN:STANDARD
TZOFFSETFROM:-0400
TZOFFSETTO:-0500
TZNAME:EST
DTSTART:20221106T060000
END:STANDARD
END:VTIMEZONE
BEGIN:VEVENT
DTSTART;TZID=America/New_York:20211121T080000
DTEND;TZID=America/New_York:20211121T170000
DTSTAMP:20260422T213929
CREATED:20201218T181234Z
LAST-MODIFIED:20210815T144432Z
UID:10000742-1637481600-1637514000@suncoastpca.org
SUMMARY:Autocross Venice Airport
DESCRIPTION:
URL:https://suncoastpca.org/event/autocross-venice-airport-2/
LOCATION:Venice Airport\, 150 Airport Ave E\, Venice\, FL\, 34285\, United States
CATEGORIES:Autocross
END:VEVENT
BEGIN:VEVENT
DTSTART;TZID=America/New_York:20210418T080000
DTEND;TZID=America/New_York:20210418T170000
DTSTAMP:20260422T213929
CREATED:20201218T181007Z
LAST-MODIFIED:20210318T220532Z
UID:10000739-1618732800-1618765200@suncoastpca.org
SUMMARY:TBA - Tentative Autocross Venice Airport
DESCRIPTION:
URL:https://suncoastpca.org/event/autocross-venice-airport/
LOCATION:Venice Airport\, 150 Airport Ave E\, Venice\, FL\, 34285\, United States
CATEGORIES:Autocross
END:VEVENT
BEGIN:VEVENT
DTSTART;TZID=America/New_York:20191103T080000
DTEND;TZID=America/New_York:20191103T170000
DTSTAMP:20260422T213929
CREATED:20181222T191214Z
LAST-MODIFIED:20190903T121437Z
UID:10000675-1572768000-1572800400@suncoastpca.org
SUMMARY:Autocross Venice Airport
DESCRIPTION:Need help with creating an account on ClubReg? Click here. 
URL:https://suncoastpca.org/event/autocross-venice-1/
LOCATION:Venice Airport\, 150 Airport Ave E\, Venice\, FL\, 34285\, United States
CATEGORIES:Autocross
END:VEVENT
BEGIN:VEVENT
DTSTART;TZID=America/New_York:20190915T080000
DTEND;TZID=America/New_York:20190915T170000
DTSTAMP:20260422T213929
CREATED:20181222T191058Z
LAST-MODIFIED:20190903T121030Z
UID:10000673-1568534400-1568566800@suncoastpca.org
SUMMARY:Autocross Venice Airport
DESCRIPTION:Need help with creating an account on ClubReg? Click here. 
URL:https://suncoastpca.org/event/autocross-venice/
LOCATION:Venice Airport\, 150 Airport Ave E\, Venice\, FL\, 34285\, United States
CATEGORIES:Autocross
END:VEVENT
BEGIN:VEVENT
DTSTART;TZID=America/New_York:20190324T080000
DTEND;TZID=America/New_York:20190324T170000
DTSTAMP:20260422T213929
CREATED:20181222T183643Z
LAST-MODIFIED:20190125T183858Z
UID:10000671-1553414400-1553446800@suncoastpca.org
SUMMARY:Autocross Venice
DESCRIPTION:Need help with creating an account on ClubReg? Click here. 
URL:https://suncoastpca.org/event/autocross-brooksville-15/
LOCATION:Venice Airport\, 150 Airport Ave E\, Venice\, FL\, 34285\, United States
CATEGORIES:Autocross
END:VEVENT
END:VCALENDAR