BEGIN:VCALENDAR
VERSION:2.0
PRODID:-//Suncoast Florida Region - PCA - ECPv6.15.20//NONSGML v1.0//EN
CALSCALE:GREGORIAN
METHOD:PUBLISH
X-WR-CALNAME:Suncoast Florida Region - PCA
X-ORIGINAL-URL:https://suncoastpca.org
X-WR-CALDESC:Events for Suncoast Florida Region - PCA
REFRESH-INTERVAL;VALUE=DURATION:PT1H
X-Robots-Tag:noindex
X-PUBLISHED-TTL:PT1H
BEGIN:VTIMEZONE
TZID:UTC
BEGIN:STANDARD
TZOFFSETFROM:+0000
TZOFFSETTO:+0000
TZNAME:UTC
DTSTART:20140101T000000
END:STANDARD
END:VTIMEZONE
BEGIN:VEVENT
DTSTART;VALUE=DATE:20150606
DTEND;VALUE=DATE:20150607
DTSTAMP:20260422T195426
CREATED:20150318T221436Z
LAST-MODIFIED:20150318T221436Z
UID:10000532-1433548800-1433635199@suncoastpca.org
SUMMARY:The Larry Wilson Collection Tour
DESCRIPTION:GET YOUR PORSCHES READY FOR A SPECTACULAR EVENT \nOn\, Saturday\, June 6\, we have planned a tour to visit The Larry Wilson Collection. The Larry Wilson Collection is a private display of nearly 100 cars which includes Porsches\, Jaguar\, MG\, Mercedes-Benz\, various race cars\, numerous special interest cars and so many other things. This again is a private collection and is not open to the public; however\, we are fortunate enough to be invited to view these cars. Add this experience to your prior visit to the Collier Museum\, you will come away and say “Oh my\, where do these cars come from?”. \nThe collection is located in Palm Beach Gardens. Because our region is so spread out\, we will meet at several predetermined locations and caravan down together. Those locations will be announced as we get closer to the event. \nOur caravans will end up in Jupiter and lunch will be on our own. After lunch we will meet in the Publix parking lot located at Jupiter Farms Village\, 10142 Indiantown Road at 2:00 pm. We will tour as a group to the warehouse location. \nWe will try for a group dinner after the tour. For those wishing to spend the night in the area and do some sight seeing on Sunday\, we will list a few suggestions for hotels in Jupiter. These arrangements will also be announced as we get closer to the event. \nContact missyteasley@aol.com to get on the list and for more information.
URL:https://suncoastpca.org/event/the-larry-wilson-collection-tour/
LOCATION:Unnamed Venue\, FL\, United States
CATEGORIES:Other
ORGANIZER;CN="Missy Teasley":MAILTO:missyteasley@aol.com
GEO:27.6648274;-81.5157535
END:VEVENT
END:VCALENDAR