BEGIN:VCALENDAR
VERSION:2.0
PRODID:-//Suncoast Florida Region - PCA - ECPv6.15.20//NONSGML v1.0//EN
CALSCALE:GREGORIAN
METHOD:PUBLISH
X-WR-CALNAME:Suncoast Florida Region - PCA
X-ORIGINAL-URL:https://suncoastpca.org
X-WR-CALDESC:Events for Suncoast Florida Region - PCA
REFRESH-INTERVAL;VALUE=DURATION:PT1H
X-Robots-Tag:noindex
X-PUBLISHED-TTL:PT1H
BEGIN:VTIMEZONE
TZID:UTC
BEGIN:STANDARD
TZOFFSETFROM:+0000
TZOFFSETTO:+0000
TZNAME:UTC
DTSTART:20140101T000000
END:STANDARD
END:VTIMEZONE
BEGIN:VEVENT
DTSTART;VALUE=DATE:20150912
DTEND;VALUE=DATE:20150913
DTSTAMP:20260422T230745
CREATED:20150619T105947Z
LAST-MODIFIED:20150727T102949Z
UID:10000539-1442016000-1442102399@suncoastpca.org
SUMMARY:Crystal River Invasion
DESCRIPTION:2nd Annual Crystal River Invasion \nHere we go again folks.  A ride to the “crocked road\, wild curves and flat mini Tale of the Dragon”ending up at a great seafood restaurant. A great time was had by all at our First Annual Crystal River Invasion. This road trip is back by popular demand.  \nIf interested email missyteasley@aol.com for more information and to get on the list.
URL:https://suncoastpca.org/event/crystal-river-invasion-2/
LOCATION:Unnamed Venue\, FL\, United States
CATEGORIES:Social
ORGANIZER;CN="Missy Teasley":MAILTO:missyteasley@aol.com
GEO:27.6648274;-81.5157535
END:VEVENT
END:VCALENDAR