BEGIN:VCALENDAR
VERSION:2.0
PRODID:-//Suncoast Florida Region - PCA - ECPv6.15.20//NONSGML v1.0//EN
CALSCALE:GREGORIAN
METHOD:PUBLISH
X-ORIGINAL-URL:https://suncoastpca.org
X-WR-CALDESC:Events for Suncoast Florida Region - PCA
REFRESH-INTERVAL;VALUE=DURATION:PT1H
X-Robots-Tag:noindex
X-PUBLISHED-TTL:PT1H
BEGIN:VTIMEZONE
TZID:America/New_York
BEGIN:DAYLIGHT
TZOFFSETFROM:-0500
TZOFFSETTO:-0400
TZNAME:EDT
DTSTART:20210314T070000
END:DAYLIGHT
BEGIN:STANDARD
TZOFFSETFROM:-0400
TZOFFSETTO:-0500
TZNAME:EST
DTSTART:20211107T060000
END:STANDARD
BEGIN:DAYLIGHT
TZOFFSETFROM:-0500
TZOFFSETTO:-0400
TZNAME:EDT
DTSTART:20220313T070000
END:DAYLIGHT
BEGIN:STANDARD
TZOFFSETFROM:-0400
TZOFFSETTO:-0500
TZNAME:EST
DTSTART:20221106T060000
END:STANDARD
BEGIN:DAYLIGHT
TZOFFSETFROM:-0500
TZOFFSETTO:-0400
TZNAME:EDT
DTSTART:20230312T070000
END:DAYLIGHT
BEGIN:STANDARD
TZOFFSETFROM:-0400
TZOFFSETTO:-0500
TZNAME:EST
DTSTART:20231105T060000
END:STANDARD
END:VTIMEZONE
BEGIN:VEVENT
DTSTART;TZID=America/New_York:20220420T180000
DTEND;TZID=America/New_York:20220420T220000
DTSTAMP:20260423T004431
CREATED:20220405T145727Z
LAST-MODIFIED:20220405T145727Z
UID:10000786-1650477600-1650492000@suncoastpca.org
SUMMARY:Date Your Porsche Night
DESCRIPTION:Recently\, members have requested DYPN’s in the northern part of Suncoast PCA Region. Well\, here you are: \nCome and join your fellow Suncoast Porsche members and guests for dinner at Thomas P’s Sports Bar and Patio in Tampa\, at 12836 Henderson Road. We will be gathering at 6:00 PM\, Wednesday\, April 20th. They have a large and diversified menu\, with many unique items sure to satisfy everyone. Register at www.clubregistration.net \nWe look forward to seeing many of you there. And\, please let Ed know if there are other restaurants in our northern and eastern parts of Suncoast Region for future DYPN’s.
URL:https://suncoastpca.org/event/date-your-porsche-night-52/
LOCATION:Thomas Ps Sports Bar & Patio\, 12836 Henderson Rd\, Tampa\, FL\, 33625\, United States
CATEGORIES:Social
END:VEVENT
END:VCALENDAR