BEGIN:VCALENDAR
VERSION:2.0
PRODID:-//Suncoast Florida Region - PCA - ECPv6.15.20//NONSGML v1.0//EN
CALSCALE:GREGORIAN
METHOD:PUBLISH
X-ORIGINAL-URL:https://suncoastpca.org
X-WR-CALDESC:Events for Suncoast Florida Region - PCA
REFRESH-INTERVAL;VALUE=DURATION:PT1H
X-Robots-Tag:noindex
X-PUBLISHED-TTL:PT1H
BEGIN:VTIMEZONE
TZID:America/New_York
BEGIN:DAYLIGHT
TZOFFSETFROM:-0500
TZOFFSETTO:-0400
TZNAME:EDT
DTSTART:20150308T070000
END:DAYLIGHT
BEGIN:STANDARD
TZOFFSETFROM:-0400
TZOFFSETTO:-0500
TZNAME:EST
DTSTART:20151101T060000
END:STANDARD
BEGIN:DAYLIGHT
TZOFFSETFROM:-0500
TZOFFSETTO:-0400
TZNAME:EDT
DTSTART:20160313T070000
END:DAYLIGHT
BEGIN:STANDARD
TZOFFSETFROM:-0400
TZOFFSETTO:-0500
TZNAME:EST
DTSTART:20161106T060000
END:STANDARD
BEGIN:DAYLIGHT
TZOFFSETFROM:-0500
TZOFFSETTO:-0400
TZNAME:EDT
DTSTART:20170312T070000
END:DAYLIGHT
BEGIN:STANDARD
TZOFFSETFROM:-0400
TZOFFSETTO:-0500
TZNAME:EST
DTSTART:20171105T060000
END:STANDARD
END:VTIMEZONE
BEGIN:VTIMEZONE
TZID:UTC
BEGIN:STANDARD
TZOFFSETFROM:+0000
TZOFFSETTO:+0000
TZNAME:UTC
DTSTART:20130101T000000
END:STANDARD
END:VTIMEZONE
BEGIN:VEVENT
DTSTART;TZID=America/New_York:20160921T183000
DTEND;TZID=America/New_York:20160921T183000
DTSTAMP:20260422T181729
CREATED:20160804T125336Z
LAST-MODIFIED:20160804T130209Z
UID:10000581-1474482600-1474482600@suncoastpca.org
SUMMARY:Date Your Porsche Night
DESCRIPTION:Date your Porsche night at the NEW Island Grille & Raw Bar in Tierra Verde! \nIsland Grille & Raw Bar is now located in  the Marina Area off Pinellas Bayway.  The new building is behind the Marina area and by the boat storage building. Enter the parking area from Madonna which is the first street to the right after the bridge. Come when you choose starting from happy hour.   \nRSVP clubregistration.net starting  August 15 and ending September 18.   \nCome casual and enjoy the evening!
URL:https://suncoastpca.org/event/date-your-porsche-night-18/
LOCATION:The Island Grille & Raw Bar\, 210 Madonna Boulevard\, Tierra Verde\, FL\, 33715\, United States
CATEGORIES:Social
GEO:27.6905993;-82.7224964
X-APPLE-STRUCTURED-LOCATION;VALUE=URI;X-ADDRESS=The Island Grille & Raw Bar 210 Madonna Boulevard Tierra Verde FL 33715 United States;X-APPLE-RADIUS=500;X-TITLE=210 Madonna Boulevard:geo:-82.7224964,27.6905993
END:VEVENT
BEGIN:VEVENT
DTSTART;TZID=UTC:20140917T190000
DTEND;TZID=UTC:20140917T220000
DTSTAMP:20260422T181729
CREATED:20131110T201502Z
LAST-MODIFIED:20140819T195905Z
UID:10000469-1410980400-1410991200@suncoastpca.org
SUMMARY:Date Your Porsche Night
DESCRIPTION:The Island Grille & Raw Bar
URL:https://suncoastpca.org/event/date-your-porsche-night-6/
LOCATION:The Island Grille & Raw Bar\, 210 Madonna Boulevard\, Tierra Verde\, FL\, 33715\, United States
CATEGORIES:Social
ORGANIZER;CN="Missy Teasley":MAILTO:missyteasley@aol.com
GEO:27.6905993;-82.7224964
X-APPLE-STRUCTURED-LOCATION;VALUE=URI;X-ADDRESS=The Island Grille & Raw Bar 210 Madonna Boulevard Tierra Verde FL 33715 United States;X-APPLE-RADIUS=500;X-TITLE=210 Madonna Boulevard:geo:-82.7224964,27.6905993
END:VEVENT
END:VCALENDAR