BEGIN:VCALENDAR
VERSION:2.0
PRODID:-//Suncoast Florida Region - PCA - ECPv6.15.20//NONSGML v1.0//EN
CALSCALE:GREGORIAN
METHOD:PUBLISH
X-ORIGINAL-URL:https://suncoastpca.org
X-WR-CALDESC:Events for Suncoast Florida Region - PCA
REFRESH-INTERVAL;VALUE=DURATION:PT1H
X-Robots-Tag:noindex
X-PUBLISHED-TTL:PT1H
BEGIN:VTIMEZONE
TZID:America/New_York
BEGIN:DAYLIGHT
TZOFFSETFROM:-0500
TZOFFSETTO:-0400
TZNAME:EDT
DTSTART:20170312T070000
END:DAYLIGHT
BEGIN:STANDARD
TZOFFSETFROM:-0400
TZOFFSETTO:-0500
TZNAME:EST
DTSTART:20171105T060000
END:STANDARD
BEGIN:DAYLIGHT
TZOFFSETFROM:-0500
TZOFFSETTO:-0400
TZNAME:EDT
DTSTART:20180311T070000
END:DAYLIGHT
BEGIN:STANDARD
TZOFFSETFROM:-0400
TZOFFSETTO:-0500
TZNAME:EST
DTSTART:20181104T060000
END:STANDARD
BEGIN:DAYLIGHT
TZOFFSETFROM:-0500
TZOFFSETTO:-0400
TZNAME:EDT
DTSTART:20190310T070000
END:DAYLIGHT
BEGIN:STANDARD
TZOFFSETFROM:-0400
TZOFFSETTO:-0500
TZNAME:EST
DTSTART:20191103T060000
END:STANDARD
BEGIN:DAYLIGHT
TZOFFSETFROM:-0500
TZOFFSETTO:-0400
TZNAME:EDT
DTSTART:20200308T070000
END:DAYLIGHT
BEGIN:STANDARD
TZOFFSETFROM:-0400
TZOFFSETTO:-0500
TZNAME:EST
DTSTART:20201101T060000
END:STANDARD
BEGIN:DAYLIGHT
TZOFFSETFROM:-0500
TZOFFSETTO:-0400
TZNAME:EDT
DTSTART:20210314T070000
END:DAYLIGHT
BEGIN:STANDARD
TZOFFSETFROM:-0400
TZOFFSETTO:-0500
TZNAME:EST
DTSTART:20211107T060000
END:STANDARD
BEGIN:DAYLIGHT
TZOFFSETFROM:-0500
TZOFFSETTO:-0400
TZNAME:EDT
DTSTART:20220313T070000
END:DAYLIGHT
BEGIN:STANDARD
TZOFFSETFROM:-0400
TZOFFSETTO:-0500
TZNAME:EST
DTSTART:20221106T060000
END:STANDARD
BEGIN:DAYLIGHT
TZOFFSETFROM:-0500
TZOFFSETTO:-0400
TZNAME:EDT
DTSTART:20230312T070000
END:DAYLIGHT
BEGIN:STANDARD
TZOFFSETFROM:-0400
TZOFFSETTO:-0500
TZNAME:EST
DTSTART:20231105T060000
END:STANDARD
BEGIN:DAYLIGHT
TZOFFSETFROM:-0500
TZOFFSETTO:-0400
TZNAME:EDT
DTSTART:20240310T070000
END:DAYLIGHT
BEGIN:STANDARD
TZOFFSETFROM:-0400
TZOFFSETTO:-0500
TZNAME:EST
DTSTART:20241103T060000
END:STANDARD
BEGIN:DAYLIGHT
TZOFFSETFROM:-0500
TZOFFSETTO:-0400
TZNAME:EDT
DTSTART:20250309T070000
END:DAYLIGHT
BEGIN:STANDARD
TZOFFSETFROM:-0400
TZOFFSETTO:-0500
TZNAME:EST
DTSTART:20251102T060000
END:STANDARD
BEGIN:DAYLIGHT
TZOFFSETFROM:-0500
TZOFFSETTO:-0400
TZNAME:EDT
DTSTART:20260308T070000
END:DAYLIGHT
BEGIN:STANDARD
TZOFFSETFROM:-0400
TZOFFSETTO:-0500
TZNAME:EST
DTSTART:20261101T060000
END:STANDARD
BEGIN:DAYLIGHT
TZOFFSETFROM:-0500
TZOFFSETTO:-0400
TZNAME:EDT
DTSTART:20270314T070000
END:DAYLIGHT
BEGIN:STANDARD
TZOFFSETFROM:-0400
TZOFFSETTO:-0500
TZNAME:EST
DTSTART:20271107T060000
END:STANDARD
END:VTIMEZONE
BEGIN:VEVENT
DTSTART;TZID=America/New_York:20260124T080000
DTEND;TZID=America/New_York:20260124T080000
DTSTAMP:20260422T202350
CREATED:20260106T171410Z
LAST-MODIFIED:20260106T171410Z
UID:10001313-1769241600-1769241600@suncoastpca.org
SUMMARY:Monthly Breakfast - St. Pete
DESCRIPTION:8:00AM for fellowship in the SE parking lot. Breakfast at 8:30. \nCome join your fellow Suncoast Porsche Club members and guests at The Hangar Restaurant & Flight Lounge! \n2nd Floor of the Albert Whitted Airport\n540 1st St S\, St. Petersburg\, FL 33701 \nYour host for this event is Travis O’Brien: travisobrien1023@gmail.com.
URL:https://suncoastpca.org/event/monthly-breakfast-st-pete/
LOCATION:The Hangar\, 540 1st St SE\, St. Petersburg\, FL\, 34238\, United States
CATEGORIES:Social
GEO:27.7646873;-82.633336
X-APPLE-STRUCTURED-LOCATION;VALUE=URI;X-ADDRESS=The Hangar 540 1st St SE St. Petersburg FL 34238 United States;X-APPLE-RADIUS=500;X-TITLE=540 1st St SE:geo:-82.633336,27.7646873
END:VEVENT
BEGIN:VEVENT
DTSTART;TZID=America/New_York:20251227T080000
DTEND;TZID=America/New_York:20251227T103000
DTSTAMP:20260422T202350
CREATED:20250218T212537Z
LAST-MODIFIED:20250321T123431Z
UID:10001179-1766822400-1766831400@suncoastpca.org
SUMMARY:Monthly Breakfast at The Hangar
DESCRIPTION:Saturday\, March 22\, 2025 at 8:00AM for fellowship in the SE parking lot. Breakfast at 8:30. \nCome join your fellow Suncoast Porsche Club members and guests at The Hangar Restaurant & Flight Lounge! \n2nd Floor of the Albert Whitted Airport\n540 1st St S\, St. Petersburg\, FL 33701 \nYour host for this event is Charlie MacRossie 720-273-2716. \nRegister here: https://clubregistration.net
URL:https://suncoastpca.org/event/monthly-breakfast-at-the-hangar/2025-12-27/
LOCATION:The Hangar\, 540 1st St SE\, St. Petersburg\, FL\, 34238\, United States
CATEGORIES:Social
GEO:27.7646873;-82.633336
X-APPLE-STRUCTURED-LOCATION;VALUE=URI;X-ADDRESS=The Hangar 540 1st St SE St. Petersburg FL 34238 United States;X-APPLE-RADIUS=500;X-TITLE=540 1st St SE:geo:-82.633336,27.7646873
END:VEVENT
BEGIN:VEVENT
DTSTART;TZID=America/New_York:20251122T080000
DTEND;TZID=America/New_York:20251122T103000
DTSTAMP:20260422T202350
CREATED:20250218T212537Z
LAST-MODIFIED:20250321T123431Z
UID:10001178-1763798400-1763807400@suncoastpca.org
SUMMARY:Monthly Breakfast at The Hangar
DESCRIPTION:Saturday\, March 22\, 2025 at 8:00AM for fellowship in the SE parking lot. Breakfast at 8:30. \nCome join your fellow Suncoast Porsche Club members and guests at The Hangar Restaurant & Flight Lounge! \n2nd Floor of the Albert Whitted Airport\n540 1st St S\, St. Petersburg\, FL 33701 \nYour host for this event is Charlie MacRossie 720-273-2716. \nRegister here: https://clubregistration.net
URL:https://suncoastpca.org/event/monthly-breakfast-at-the-hangar/2025-11-22/
LOCATION:The Hangar\, 540 1st St SE\, St. Petersburg\, FL\, 34238\, United States
CATEGORIES:Social
GEO:27.7646873;-82.633336
X-APPLE-STRUCTURED-LOCATION;VALUE=URI;X-ADDRESS=The Hangar 540 1st St SE St. Petersburg FL 34238 United States;X-APPLE-RADIUS=500;X-TITLE=540 1st St SE:geo:-82.633336,27.7646873
END:VEVENT
BEGIN:VEVENT
DTSTART;TZID=America/New_York:20251025T080000
DTEND;TZID=America/New_York:20251025T103000
DTSTAMP:20260422T202350
CREATED:20250218T212537Z
LAST-MODIFIED:20250321T123431Z
UID:10001177-1761379200-1761388200@suncoastpca.org
SUMMARY:Monthly Breakfast at The Hangar
DESCRIPTION:Saturday\, March 22\, 2025 at 8:00AM for fellowship in the SE parking lot. Breakfast at 8:30. \nCome join your fellow Suncoast Porsche Club members and guests at The Hangar Restaurant & Flight Lounge! \n2nd Floor of the Albert Whitted Airport\n540 1st St S\, St. Petersburg\, FL 33701 \nYour host for this event is Charlie MacRossie 720-273-2716. \nRegister here: https://clubregistration.net
URL:https://suncoastpca.org/event/monthly-breakfast-at-the-hangar/2025-10-25/
LOCATION:The Hangar\, 540 1st St SE\, St. Petersburg\, FL\, 34238\, United States
CATEGORIES:Social
GEO:27.7646873;-82.633336
X-APPLE-STRUCTURED-LOCATION;VALUE=URI;X-ADDRESS=The Hangar 540 1st St SE St. Petersburg FL 34238 United States;X-APPLE-RADIUS=500;X-TITLE=540 1st St SE:geo:-82.633336,27.7646873
END:VEVENT
BEGIN:VEVENT
DTSTART;TZID=America/New_York:20250927T080000
DTEND;TZID=America/New_York:20250927T103000
DTSTAMP:20260422T202350
CREATED:20250218T212537Z
LAST-MODIFIED:20250321T123431Z
UID:10001176-1758960000-1758969000@suncoastpca.org
SUMMARY:Monthly Breakfast at The Hangar
DESCRIPTION:Saturday\, March 22\, 2025 at 8:00AM for fellowship in the SE parking lot. Breakfast at 8:30. \nCome join your fellow Suncoast Porsche Club members and guests at The Hangar Restaurant & Flight Lounge! \n2nd Floor of the Albert Whitted Airport\n540 1st St S\, St. Petersburg\, FL 33701 \nYour host for this event is Charlie MacRossie 720-273-2716. \nRegister here: https://clubregistration.net
URL:https://suncoastpca.org/event/monthly-breakfast-at-the-hangar/2025-09-27/
LOCATION:The Hangar\, 540 1st St SE\, St. Petersburg\, FL\, 34238\, United States
CATEGORIES:Social
GEO:27.7646873;-82.633336
X-APPLE-STRUCTURED-LOCATION;VALUE=URI;X-ADDRESS=The Hangar 540 1st St SE St. Petersburg FL 34238 United States;X-APPLE-RADIUS=500;X-TITLE=540 1st St SE:geo:-82.633336,27.7646873
END:VEVENT
BEGIN:VEVENT
DTSTART;TZID=America/New_York:20250823T080000
DTEND;TZID=America/New_York:20250823T103000
DTSTAMP:20260422T202350
CREATED:20250218T212537Z
LAST-MODIFIED:20250321T123431Z
UID:10001175-1755936000-1755945000@suncoastpca.org
SUMMARY:Monthly Breakfast at The Hangar
DESCRIPTION:Saturday\, March 22\, 2025 at 8:00AM for fellowship in the SE parking lot. Breakfast at 8:30. \nCome join your fellow Suncoast Porsche Club members and guests at The Hangar Restaurant & Flight Lounge! \n2nd Floor of the Albert Whitted Airport\n540 1st St S\, St. Petersburg\, FL 33701 \nYour host for this event is Charlie MacRossie 720-273-2716. \nRegister here: https://clubregistration.net
URL:https://suncoastpca.org/event/monthly-breakfast-at-the-hangar/2025-08-23/
LOCATION:The Hangar\, 540 1st St SE\, St. Petersburg\, FL\, 34238\, United States
CATEGORIES:Social
GEO:27.7646873;-82.633336
X-APPLE-STRUCTURED-LOCATION;VALUE=URI;X-ADDRESS=The Hangar 540 1st St SE St. Petersburg FL 34238 United States;X-APPLE-RADIUS=500;X-TITLE=540 1st St SE:geo:-82.633336,27.7646873
END:VEVENT
BEGIN:VEVENT
DTSTART;TZID=America/New_York:20250726T080000
DTEND;TZID=America/New_York:20250726T103000
DTSTAMP:20260422T202350
CREATED:20250218T212537Z
LAST-MODIFIED:20250321T123431Z
UID:10001174-1753516800-1753525800@suncoastpca.org
SUMMARY:Monthly Breakfast at The Hangar
DESCRIPTION:Saturday\, March 22\, 2025 at 8:00AM for fellowship in the SE parking lot. Breakfast at 8:30. \nCome join your fellow Suncoast Porsche Club members and guests at The Hangar Restaurant & Flight Lounge! \n2nd Floor of the Albert Whitted Airport\n540 1st St S\, St. Petersburg\, FL 33701 \nYour host for this event is Charlie MacRossie 720-273-2716. \nRegister here: https://clubregistration.net
URL:https://suncoastpca.org/event/monthly-breakfast-at-the-hangar/2025-07-26/
LOCATION:The Hangar\, 540 1st St SE\, St. Petersburg\, FL\, 34238\, United States
CATEGORIES:Social
GEO:27.7646873;-82.633336
X-APPLE-STRUCTURED-LOCATION;VALUE=URI;X-ADDRESS=The Hangar 540 1st St SE St. Petersburg FL 34238 United States;X-APPLE-RADIUS=500;X-TITLE=540 1st St SE:geo:-82.633336,27.7646873
END:VEVENT
BEGIN:VEVENT
DTSTART;TZID=America/New_York:20250628T080000
DTEND;TZID=America/New_York:20250628T103000
DTSTAMP:20260422T202350
CREATED:20250218T212537Z
LAST-MODIFIED:20250321T123431Z
UID:10001173-1751097600-1751106600@suncoastpca.org
SUMMARY:Monthly Breakfast at The Hangar
DESCRIPTION:Saturday\, March 22\, 2025 at 8:00AM for fellowship in the SE parking lot. Breakfast at 8:30. \nCome join your fellow Suncoast Porsche Club members and guests at The Hangar Restaurant & Flight Lounge! \n2nd Floor of the Albert Whitted Airport\n540 1st St S\, St. Petersburg\, FL 33701 \nYour host for this event is Charlie MacRossie 720-273-2716. \nRegister here: https://clubregistration.net
URL:https://suncoastpca.org/event/monthly-breakfast-at-the-hangar/2025-06-28/
LOCATION:The Hangar\, 540 1st St SE\, St. Petersburg\, FL\, 34238\, United States
CATEGORIES:Social
GEO:27.7646873;-82.633336
X-APPLE-STRUCTURED-LOCATION;VALUE=URI;X-ADDRESS=The Hangar 540 1st St SE St. Petersburg FL 34238 United States;X-APPLE-RADIUS=500;X-TITLE=540 1st St SE:geo:-82.633336,27.7646873
END:VEVENT
BEGIN:VEVENT
DTSTART;TZID=America/New_York:20250524T080000
DTEND;TZID=America/New_York:20250524T103000
DTSTAMP:20260422T202350
CREATED:20250218T212537Z
LAST-MODIFIED:20250321T123431Z
UID:10001172-1748073600-1748082600@suncoastpca.org
SUMMARY:Monthly Breakfast at The Hangar
DESCRIPTION:Saturday\, March 22\, 2025 at 8:00AM for fellowship in the SE parking lot. Breakfast at 8:30. \nCome join your fellow Suncoast Porsche Club members and guests at The Hangar Restaurant & Flight Lounge! \n2nd Floor of the Albert Whitted Airport\n540 1st St S\, St. Petersburg\, FL 33701 \nYour host for this event is Charlie MacRossie 720-273-2716. \nRegister here: https://clubregistration.net
URL:https://suncoastpca.org/event/monthly-breakfast-at-the-hangar/2025-05-24/
LOCATION:The Hangar\, 540 1st St SE\, St. Petersburg\, FL\, 34238\, United States
CATEGORIES:Social
GEO:27.7646873;-82.633336
X-APPLE-STRUCTURED-LOCATION;VALUE=URI;X-ADDRESS=The Hangar 540 1st St SE St. Petersburg FL 34238 United States;X-APPLE-RADIUS=500;X-TITLE=540 1st St SE:geo:-82.633336,27.7646873
END:VEVENT
BEGIN:VEVENT
DTSTART;TZID=America/New_York:20250426T080000
DTEND;TZID=America/New_York:20250426T103000
DTSTAMP:20260422T202350
CREATED:20250218T212537Z
LAST-MODIFIED:20250321T123431Z
UID:10001171-1745654400-1745663400@suncoastpca.org
SUMMARY:Monthly Breakfast at The Hangar
DESCRIPTION:Saturday\, March 22\, 2025 at 8:00AM for fellowship in the SE parking lot. Breakfast at 8:30. \nCome join your fellow Suncoast Porsche Club members and guests at The Hangar Restaurant & Flight Lounge! \n2nd Floor of the Albert Whitted Airport\n540 1st St S\, St. Petersburg\, FL 33701 \nYour host for this event is Charlie MacRossie 720-273-2716. \nRegister here: https://clubregistration.net
URL:https://suncoastpca.org/event/monthly-breakfast-at-the-hangar/2025-04-26/
LOCATION:The Hangar\, 540 1st St SE\, St. Petersburg\, FL\, 34238\, United States
CATEGORIES:Social
GEO:27.7646873;-82.633336
X-APPLE-STRUCTURED-LOCATION;VALUE=URI;X-ADDRESS=The Hangar 540 1st St SE St. Petersburg FL 34238 United States;X-APPLE-RADIUS=500;X-TITLE=540 1st St SE:geo:-82.633336,27.7646873
END:VEVENT
BEGIN:VEVENT
DTSTART;TZID=America/New_York:20250322T080000
DTEND;TZID=America/New_York:20250322T103000
DTSTAMP:20260422T202350
CREATED:20250218T212537Z
LAST-MODIFIED:20250321T123431Z
UID:10001168-1742630400-1742639400@suncoastpca.org
SUMMARY:Monthly Breakfast at The Hangar
DESCRIPTION:Saturday\, March 22\, 2025 at 8:00AM for fellowship in the SE parking lot. Breakfast at 8:30. \nCome join your fellow Suncoast Porsche Club members and guests at The Hangar Restaurant & Flight Lounge! \n2nd Floor of the Albert Whitted Airport\n540 1st St S\, St. Petersburg\, FL 33701 \nYour host for this event is Charlie MacRossie 720-273-2716. \nRegister here: https://clubregistration.net
URL:https://suncoastpca.org/event/monthly-breakfast-at-the-hangar/2025-03-22/
LOCATION:The Hangar\, 540 1st St SE\, St. Petersburg\, FL\, 34238\, United States
CATEGORIES:Social
GEO:27.7646873;-82.633336
X-APPLE-STRUCTURED-LOCATION;VALUE=URI;X-ADDRESS=The Hangar 540 1st St SE St. Petersburg FL 34238 United States;X-APPLE-RADIUS=500;X-TITLE=540 1st St SE:geo:-82.633336,27.7646873
END:VEVENT
BEGIN:VEVENT
DTSTART;TZID=America/New_York:20190831T100000
DTEND;TZID=America/New_York:20190831T130000
DTSTAMP:20260422T202350
CREATED:20190803T165304Z
LAST-MODIFIED:20190803T165304Z
UID:10000699-1567245600-1567256400@suncoastpca.org
SUMMARY:Porsches & Pancakes
DESCRIPTION:August 31\, 2019 @ 10am to 1:00 pm for pancake breakfast buffet \nPlease join your fellow Suncoast PCA members at one of our favorite places for Porsches & Pancakes on Saturday\, August 31 from 10 a.m. to 1 pm at The Hangar Restaurant\, Albert Whitted Airport\, downtown St. Petersburg (540 1st St. SE).  Cost is $23 which includes pancake breakfast buffet\, coffee and soft drinks (this includes taxes and gratuity); please pay at the event.  Please register by August 24th so we can make sure we have the right amount of food available. \nPreregistration is required at ClubReg: Porshes and Pancakes at the Hangar Restaurant
URL:https://suncoastpca.org/event/porsches-pancakes-2/
LOCATION:The Hangar\, 540 1st St SE\, St. Petersburg\, FL\, 34238\, United States
CATEGORIES:Social
GEO:27.7646873;-82.633336
X-APPLE-STRUCTURED-LOCATION;VALUE=URI;X-ADDRESS=The Hangar 540 1st St SE St. Petersburg FL 34238 United States;X-APPLE-RADIUS=500;X-TITLE=540 1st St SE:geo:-82.633336,27.7646873
END:VEVENT
BEGIN:VEVENT
DTSTART;TZID=America/New_York:20180331T090000
DTEND;TZID=America/New_York:20180331T120000
DTSTAMP:20260422T202350
CREATED:20180117T160651Z
LAST-MODIFIED:20180327T190705Z
UID:10000650-1522486800-1522497600@suncoastpca.org
SUMMARY:Porsches & Pancakes
DESCRIPTION:Need help with creating an account on ClubReg? Click here.  
URL:https://suncoastpca.org/event/porsches-pancakes/
LOCATION:The Hangar\, 540 1st St SE\, St. Petersburg\, FL\, 34238\, United States
CATEGORIES:Social
GEO:27.7646873;-82.633336
X-APPLE-STRUCTURED-LOCATION;VALUE=URI;X-ADDRESS=The Hangar 540 1st St SE St. Petersburg FL 34238 United States;X-APPLE-RADIUS=500;X-TITLE=540 1st St SE:geo:-82.633336,27.7646873
END:VEVENT
END:VCALENDAR