BEGIN:VCALENDAR
VERSION:2.0
PRODID:-//Suncoast Florida Region - PCA - ECPv6.15.20//NONSGML v1.0//EN
CALSCALE:GREGORIAN
METHOD:PUBLISH
X-WR-CALNAME:Suncoast Florida Region - PCA
X-ORIGINAL-URL:https://suncoastpca.org
X-WR-CALDESC:Events for Suncoast Florida Region - PCA
REFRESH-INTERVAL;VALUE=DURATION:PT1H
X-Robots-Tag:noindex
X-PUBLISHED-TTL:PT1H
BEGIN:VTIMEZONE
TZID:America/New_York
BEGIN:DAYLIGHT
TZOFFSETFROM:-0500
TZOFFSETTO:-0400
TZNAME:EDT
DTSTART:20150308T070000
END:DAYLIGHT
BEGIN:STANDARD
TZOFFSETFROM:-0400
TZOFFSETTO:-0500
TZNAME:EST
DTSTART:20151101T060000
END:STANDARD
BEGIN:DAYLIGHT
TZOFFSETFROM:-0500
TZOFFSETTO:-0400
TZNAME:EDT
DTSTART:20160313T070000
END:DAYLIGHT
BEGIN:STANDARD
TZOFFSETFROM:-0400
TZOFFSETTO:-0500
TZNAME:EST
DTSTART:20161106T060000
END:STANDARD
BEGIN:DAYLIGHT
TZOFFSETFROM:-0500
TZOFFSETTO:-0400
TZNAME:EDT
DTSTART:20170312T070000
END:DAYLIGHT
BEGIN:STANDARD
TZOFFSETFROM:-0400
TZOFFSETTO:-0500
TZNAME:EST
DTSTART:20171105T060000
END:STANDARD
END:VTIMEZONE
BEGIN:VTIMEZONE
TZID:UTC
BEGIN:STANDARD
TZOFFSETFROM:+0000
TZOFFSETTO:+0000
TZNAME:UTC
DTSTART:20130101T000000
END:STANDARD
END:VTIMEZONE
BEGIN:VEVENT
DTSTART;TZID=America/New_York:20160423T094500
DTEND;TZID=America/New_York:20160423T094500
DTSTAMP:20260422T181331
CREATED:20160227T225242Z
LAST-MODIFIED:20160227T225505Z
UID:10000572-1461404700-1461404700@suncoastpca.org
SUMMARY:Collier Museum Tour
DESCRIPTION:Limited space for this exciting Museum Tour! \nRSVP via  clubregistration.net    \nPrice is $18.00 per person and each member can RSVP for two only. \nRSVP opens March 7\, 2016 and closes on April 4\, 2016 or when the tour fills. \nThe tour will start at 10 am and everyone registered should be there by 9:45 am  to check in and be in position for the start of an entertaining morning.
URL:https://suncoastpca.org/event/collier-museum-tour/
LOCATION:The Collier Collection\, 2500 South Horseshoe Drive\, Naples\, FL\, 34104\, United States
CATEGORIES:Social
GEO:26.1617665;-81.7750273
X-APPLE-STRUCTURED-LOCATION;VALUE=URI;X-ADDRESS=The Collier Collection 2500 South Horseshoe Drive Naples FL 34104 United States;X-APPLE-RADIUS=500;X-TITLE=2500 South Horseshoe Drive:geo:-81.7750273,26.1617665
END:VEVENT
BEGIN:VEVENT
DTSTART;TZID=UTC:20140322T100000
DTEND;TZID=UTC:20140322T120000
DTSTAMP:20260422T181331
CREATED:20131109T185746Z
LAST-MODIFIED:20140217T134842Z
UID:10000457-1395482400-1395489600@suncoastpca.org
SUMMARY:The Collier Collection
DESCRIPTION:Mark your calendar for the much-anticipated Collier Museum Tour on March 22nd. You can only register for this event through clubregistration.net. Registration will start February 15th and must be completed by March 6th as the list attending and paper work are due in the Collier Museum office March 7th. \nPlease note that no cell phones or photos will be permitted inside the museum.
URL:https://suncoastpca.org/event/the-collier-collection/
LOCATION:The Collier Collection\, 2500 South Horseshoe Drive\, Naples\, FL\, 34104\, United States
CATEGORIES:Other
GEO:26.1617665;-81.7750273
X-APPLE-STRUCTURED-LOCATION;VALUE=URI;X-ADDRESS=The Collier Collection 2500 South Horseshoe Drive Naples FL 34104 United States;X-APPLE-RADIUS=500;X-TITLE=2500 South Horseshoe Drive:geo:-81.7750273,26.1617665
END:VEVENT
END:VCALENDAR