BEGIN:VCALENDAR
VERSION:2.0
PRODID:-//Suncoast Florida Region - PCA - ECPv6.15.20//NONSGML v1.0//EN
CALSCALE:GREGORIAN
METHOD:PUBLISH
X-ORIGINAL-URL:https://suncoastpca.org
X-WR-CALDESC:Events for Suncoast Florida Region - PCA
REFRESH-INTERVAL;VALUE=DURATION:PT1H
X-Robots-Tag:noindex
X-PUBLISHED-TTL:PT1H
BEGIN:VTIMEZONE
TZID:America/New_York
BEGIN:DAYLIGHT
TZOFFSETFROM:-0500
TZOFFSETTO:-0400
TZNAME:EDT
DTSTART:20150308T070000
END:DAYLIGHT
BEGIN:STANDARD
TZOFFSETFROM:-0400
TZOFFSETTO:-0500
TZNAME:EST
DTSTART:20151101T060000
END:STANDARD
BEGIN:DAYLIGHT
TZOFFSETFROM:-0500
TZOFFSETTO:-0400
TZNAME:EDT
DTSTART:20160313T070000
END:DAYLIGHT
BEGIN:STANDARD
TZOFFSETFROM:-0400
TZOFFSETTO:-0500
TZNAME:EST
DTSTART:20161106T060000
END:STANDARD
BEGIN:DAYLIGHT
TZOFFSETFROM:-0500
TZOFFSETTO:-0400
TZNAME:EDT
DTSTART:20170312T070000
END:DAYLIGHT
BEGIN:STANDARD
TZOFFSETFROM:-0400
TZOFFSETTO:-0500
TZNAME:EST
DTSTART:20171105T060000
END:STANDARD
END:VTIMEZONE
BEGIN:VEVENT
DTSTART;TZID=America/New_York:20160413T190000
DTEND;TZID=America/New_York:20160413T220000
DTSTAMP:20260422T213816
CREATED:20160212T030914Z
LAST-MODIFIED:20160301T133259Z
UID:10000570-1460574000-1460584800@suncoastpca.org
SUMMARY:Date Your Porsche Night
DESCRIPTION:Too many selections to mention and what to try first will be a challenge! We will meet at 7pm.  \nThere is an entrance from inside the mall and from the mall parking lot area as well. The Brass Tap is located by the DWS store which opens only from the parking area. \nThis event will be hosted by Bill and Mary Caldwell.  \nRSVP opens March 9 and closes April 10   missyteasley@aol.com
URL:https://suncoastpca.org/event/date-your-porsche-night-15/
LOCATION:The Brass Trap\, 6901 22nd Avenue\, St. Petersburg\, FL\, 33710\, United States
CATEGORIES:Social
ORGANIZER;CN="Missy Teasley":MAILTO:missyteasley@aol.com
GEO:27.7918662;-82.734187
X-APPLE-STRUCTURED-LOCATION;VALUE=URI;X-ADDRESS=The Brass Trap 6901 22nd Avenue St. Petersburg FL 33710 United States;X-APPLE-RADIUS=500;X-TITLE=6901 22nd Avenue:geo:-82.734187,27.7918662
END:VEVENT
END:VCALENDAR