BEGIN:VCALENDAR
VERSION:2.0
PRODID:-//Suncoast Florida Region - PCA - ECPv6.15.20//NONSGML v1.0//EN
CALSCALE:GREGORIAN
METHOD:PUBLISH
X-ORIGINAL-URL:https://suncoastpca.org
X-WR-CALDESC:Events for Suncoast Florida Region - PCA
REFRESH-INTERVAL;VALUE=DURATION:PT1H
X-Robots-Tag:noindex
X-PUBLISHED-TTL:PT1H
BEGIN:VTIMEZONE
TZID:America/New_York
BEGIN:DAYLIGHT
TZOFFSETFROM:-0500
TZOFFSETTO:-0400
TZNAME:EDT
DTSTART:20240310T070000
END:DAYLIGHT
BEGIN:STANDARD
TZOFFSETFROM:-0400
TZOFFSETTO:-0500
TZNAME:EST
DTSTART:20241103T060000
END:STANDARD
BEGIN:DAYLIGHT
TZOFFSETFROM:-0500
TZOFFSETTO:-0400
TZNAME:EDT
DTSTART:20250309T070000
END:DAYLIGHT
BEGIN:STANDARD
TZOFFSETFROM:-0400
TZOFFSETTO:-0500
TZNAME:EST
DTSTART:20251102T060000
END:STANDARD
BEGIN:DAYLIGHT
TZOFFSETFROM:-0500
TZOFFSETTO:-0400
TZNAME:EDT
DTSTART:20260308T070000
END:DAYLIGHT
BEGIN:STANDARD
TZOFFSETFROM:-0400
TZOFFSETTO:-0500
TZNAME:EST
DTSTART:20261101T060000
END:STANDARD
END:VTIMEZONE
BEGIN:VEVENT
DTSTART;TZID=America/New_York:20251011T080000
DTEND;TZID=America/New_York:20251011T110000
DTSTAMP:20260423T034706
CREATED:20250911T174701Z
LAST-MODIFIED:20250911T174728Z
UID:10001185-1760169600-1760180400@suncoastpca.org
SUMMARY:Cars & Coffee
DESCRIPTION:Join us for Cars\, Coffee & Sweet Treats!! \nCome hang out with fellow car enthusiasts while enjoying premium coffee. Bring your friends\, bring your ride – or just bring your love of Porsches! See you there! \nWhen\n8:00-11:00AM\nSaturday\, Oct. 11\, 2025 \nWhere\nThe Auto Den\n4007 W. Alva Street Suite A\nTampa\, FL 33614\n813-999-2599 \nYour host is: John Punzak 813-760-7055 \nThere should be plenty of parking on site and across the street. \nPlease register at: https://clubregistration.net/events/signUp.cfm/event/16165
URL:https://suncoastpca.org/event/cars-coffee/
LOCATION:The Auto Den\, 4007 W. Alva Street Suite A\, Tampa\, 33614\, United States
CATEGORIES:Social
END:VEVENT
END:VCALENDAR