BEGIN:VCALENDAR
VERSION:2.0
PRODID:-//Suncoast Florida Region - PCA - ECPv6.15.20//NONSGML v1.0//EN
CALSCALE:GREGORIAN
METHOD:PUBLISH
X-ORIGINAL-URL:https://suncoastpca.org
X-WR-CALDESC:Events for Suncoast Florida Region - PCA
REFRESH-INTERVAL;VALUE=DURATION:PT1H
X-Robots-Tag:noindex
X-PUBLISHED-TTL:PT1H
BEGIN:VTIMEZONE
TZID:UTC
BEGIN:STANDARD
TZOFFSETFROM:+0000
TZOFFSETTO:+0000
TZNAME:UTC
DTSTART:20130101T000000
END:STANDARD
END:VTIMEZONE
BEGIN:VEVENT
DTSTART;TZID=UTC:20140906T090000
DTEND;TZID=UTC:20140906T120000
DTSTAMP:20260422T231633
CREATED:20140404T152402Z
LAST-MODIFIED:20140819T195740Z
UID:10000488-1409994000-1410004800@suncoastpca.org
SUMMARY:Skeet Shoot
DESCRIPTION:Skeet Shoot\nSeptember 6\, 2014 \nLocation:  Tampa Bay Sporting Clay & Archery\n10514 Ehren Cutoff\nLand O Lakes\, Florida  34639\n813-927-6200 \n$70.00 per shooter includes \n\n50 targets\n2 boxes of Ammo\nGolf cart (1 per 4 person team)\nPavilion\, ear protection and score cards\n\nThis is with you bringing your own gun.  The cost to rent a gun is $5.00 per cart. \nWe will meet at 9:00am for registration.\nSafety briefing ( mandatory )  then the fun  and / or competition begins. \nMorning snacks and beverages will be served at the pavilion during registration.  Beverages and various food items such as sandwiches\, chips\, fruit and of course some dessert items will be available throughout the shoot compliments of the Suncoast Region PCA. \nFollowing is the price list for practice \n\nThe golf cart which is required is $20.00 total\, this is for one or four persons..\nTargets $.48 each\n\nThis is a beautiful woodsy area.  I am sure being out in the “rough” shooting your gun and having fun with fellow club members will make great conversation later\, maybe even some laughter as you recount some of the  vocal expressions voiced during the morning of fun. \nQuestions or to be included contact missyteaslely@aol.com.
URL:https://suncoastpca.org/event/skeet-shoot/
LOCATION:Tampa Bay Sporting Clays and Archery\, 10514 Ehren Cutoff\, Land O' Lakes\, FL\, 34639\, United States
CATEGORIES:Social
ORGANIZER;CN="Missy Teasley":MAILTO:missyteasley@aol.com
GEO:28.3012428;-82.4313091
X-APPLE-STRUCTURED-LOCATION;VALUE=URI;X-ADDRESS=Tampa Bay Sporting Clays and Archery 10514 Ehren Cutoff Land O' Lakes FL 34639 United States;X-APPLE-RADIUS=500;X-TITLE=10514 Ehren Cutoff:geo:-82.4313091,28.3012428
END:VEVENT
END:VCALENDAR