BEGIN:VCALENDAR
VERSION:2.0
PRODID:-//Suncoast Florida Region - PCA - ECPv6.15.20//NONSGML v1.0//EN
CALSCALE:GREGORIAN
METHOD:PUBLISH
X-ORIGINAL-URL:https://suncoastpca.org
X-WR-CALDESC:Events for Suncoast Florida Region - PCA
REFRESH-INTERVAL;VALUE=DURATION:PT1H
X-Robots-Tag:noindex
X-PUBLISHED-TTL:PT1H
BEGIN:VTIMEZONE
TZID:America/New_York
BEGIN:DAYLIGHT
TZOFFSETFROM:-0500
TZOFFSETTO:-0400
TZNAME:EDT
DTSTART:20140309T070000
END:DAYLIGHT
BEGIN:STANDARD
TZOFFSETFROM:-0400
TZOFFSETTO:-0500
TZNAME:EST
DTSTART:20141102T060000
END:STANDARD
BEGIN:DAYLIGHT
TZOFFSETFROM:-0500
TZOFFSETTO:-0400
TZNAME:EDT
DTSTART:20150308T070000
END:DAYLIGHT
BEGIN:STANDARD
TZOFFSETFROM:-0400
TZOFFSETTO:-0500
TZNAME:EST
DTSTART:20151101T060000
END:STANDARD
BEGIN:DAYLIGHT
TZOFFSETFROM:-0500
TZOFFSETTO:-0400
TZNAME:EDT
DTSTART:20160313T070000
END:DAYLIGHT
BEGIN:STANDARD
TZOFFSETFROM:-0400
TZOFFSETTO:-0500
TZNAME:EST
DTSTART:20161106T060000
END:STANDARD
BEGIN:DAYLIGHT
TZOFFSETFROM:-0500
TZOFFSETTO:-0400
TZNAME:EDT
DTSTART:20170312T070000
END:DAYLIGHT
BEGIN:STANDARD
TZOFFSETFROM:-0400
TZOFFSETTO:-0500
TZNAME:EST
DTSTART:20171105T060000
END:STANDARD
BEGIN:DAYLIGHT
TZOFFSETFROM:-0500
TZOFFSETTO:-0400
TZNAME:EDT
DTSTART:20180311T070000
END:DAYLIGHT
BEGIN:STANDARD
TZOFFSETFROM:-0400
TZOFFSETTO:-0500
TZNAME:EST
DTSTART:20181104T060000
END:STANDARD
BEGIN:DAYLIGHT
TZOFFSETFROM:-0500
TZOFFSETTO:-0400
TZNAME:EDT
DTSTART:20190310T070000
END:DAYLIGHT
BEGIN:STANDARD
TZOFFSETFROM:-0400
TZOFFSETTO:-0500
TZNAME:EST
DTSTART:20191103T060000
END:STANDARD
BEGIN:DAYLIGHT
TZOFFSETFROM:-0500
TZOFFSETTO:-0400
TZNAME:EDT
DTSTART:20200308T070000
END:DAYLIGHT
BEGIN:STANDARD
TZOFFSETFROM:-0400
TZOFFSETTO:-0500
TZNAME:EST
DTSTART:20201101T060000
END:STANDARD
BEGIN:DAYLIGHT
TZOFFSETFROM:-0500
TZOFFSETTO:-0400
TZNAME:EDT
DTSTART:20210314T070000
END:DAYLIGHT
BEGIN:STANDARD
TZOFFSETFROM:-0400
TZOFFSETTO:-0500
TZNAME:EST
DTSTART:20211107T060000
END:STANDARD
BEGIN:DAYLIGHT
TZOFFSETFROM:-0500
TZOFFSETTO:-0400
TZNAME:EDT
DTSTART:20220313T070000
END:DAYLIGHT
BEGIN:STANDARD
TZOFFSETFROM:-0400
TZOFFSETTO:-0500
TZNAME:EST
DTSTART:20221106T060000
END:STANDARD
BEGIN:DAYLIGHT
TZOFFSETFROM:-0500
TZOFFSETTO:-0400
TZNAME:EDT
DTSTART:20230312T070000
END:DAYLIGHT
BEGIN:STANDARD
TZOFFSETFROM:-0400
TZOFFSETTO:-0500
TZNAME:EST
DTSTART:20231105T060000
END:STANDARD
BEGIN:DAYLIGHT
TZOFFSETFROM:-0500
TZOFFSETTO:-0400
TZNAME:EDT
DTSTART:20240310T070000
END:DAYLIGHT
BEGIN:STANDARD
TZOFFSETFROM:-0400
TZOFFSETTO:-0500
TZNAME:EST
DTSTART:20241103T060000
END:STANDARD
END:VTIMEZONE
BEGIN:VEVENT
DTSTART;TZID=America/New_York:20231216T180000
DTEND;TZID=America/New_York:20231216T220000
DTSTAMP:20260422T181758
CREATED:20230806T153012Z
LAST-MODIFIED:20230806T153012Z
UID:10001018-1702749600-1702764000@suncoastpca.org
SUMMARY:Gala - Annual Member Celebration
DESCRIPTION:Join your fellow Suncoast PCA members for our annual Gala (Member Celebration) on Saturday\, December 16 from 6:00 p.m. to 10:00 p.m. at the St. Petersburg Yacht Club in St. Petersburg to celebrate another wonderful year! \nAdditional details will be provided as we get closer to the event date. \nThe St. Petersburg Yacht Club address is: 10 Central Avenue\, St. Petersburg\, FL 33701. Valet parking will be provided. There is limited on-street parking. \nhttps://clubregistration.net/events/event-details.cfm?event_id=13044
URL:https://suncoastpca.org/event/gala-annual-member-celebration-2/
LOCATION:St. Petersburg Yacht Club\, 11 Central Ave\, St. Petersburg\, FL\, 33701\, United States
CATEGORIES:Social
GEO:27.771472;-82.632594
X-APPLE-STRUCTURED-LOCATION;VALUE=URI;X-ADDRESS=St. Petersburg Yacht Club 11 Central Ave St. Petersburg FL 33701 United States;X-APPLE-RADIUS=500;X-TITLE=11 Central Ave:geo:-82.632594,27.771472
END:VEVENT
BEGIN:VEVENT
DTSTART;TZID=America/New_York:20200119T173000
DTEND;TZID=America/New_York:20200119T213000
DTSTAMP:20260422T181758
CREATED:20191204T230639Z
LAST-MODIFIED:20200106T120127Z
UID:10000714-1579455000-1579469400@suncoastpca.org
SUMMARY:Annual Member Celebration
DESCRIPTION:Join your fellow Suncoast PCA members for our annual Member Celebration or Gala on Sunday\, January 19\, from 6:00 p.m. to 10:00 p.m. at the St. Petersburg Yacht Club (SPYC). \nThe first hour (6 to 7 pm) will be a hosted bar with cocktails\, wine\, beer and soda and hors d’oeuvres. The buffet stations will then open for dinner and include several selections of salads and entrees\, a carving station and assorted desserts. Cash bar after 7 pm. We’ll have music and a dance floor where you can show off your moves! We’ll also offer the Casino tables with Black Jack\, Roulette\, Craps\, Texas Hold ‘Em\, etc. You’ll start off with $500 worth of chips. Dress code from business casual to evening attire – whatever you prefer! The evening will also include a short business meeting\, formal change of leadership\, and annual awards. We’ll celebrate the past year and kick off 2020! \nThe SPYC address is: 11 Central Ave\, St. Petersburg\, FL 33701. For guest parking\, enter the garage through the entrance on Central Avenue (south side of the building). Valet is available – tell them you are with the Porsche group\, we will pay for parking. \nRegistration is required\, fee is $50. The direct link is: https://clubregistration.net/events/signUp.cfm/event/10138
URL:https://suncoastpca.org/event/annual-member-celebration/
LOCATION:St. Petersburg Yacht Club\, 11 Central Ave\, St. Petersburg\, FL\, 33701\, United States
CATEGORIES:Social
GEO:27.771472;-82.632594
X-APPLE-STRUCTURED-LOCATION;VALUE=URI;X-ADDRESS=St. Petersburg Yacht Club 11 Central Ave St. Petersburg FL 33701 United States;X-APPLE-RADIUS=500;X-TITLE=11 Central Ave:geo:-82.632594,27.771472
END:VEVENT
BEGIN:VEVENT
DTSTART;TZID=America/New_York:20181214T180000
DTEND;TZID=America/New_York:20181214T220000
DTSTAMP:20260422T181758
CREATED:20180509T234612Z
LAST-MODIFIED:20181206T031014Z
UID:10000657-1544810400-1544824800@suncoastpca.org
SUMMARY:Holiday Celebration
DESCRIPTION:The holidays are rapidly approaching and you do not want to miss the chance to join your other Suncoast PCA members at our annual Holiday Celebration on Friday\, December 14thfrom 6 to 10 pm at the St. Petersburg Yacht Club. Please register before December 10 in ClubRegistration.net (Direct Link: Holiday Celebration). \nWe have a very special evening planned. This year we’re returning to the early years of Suncoast PCA with a celebration of the 60’s! Join us for delicious food\, great music and gambling fun! From 6 to 7 pm there will be hosted bar with cocktails\, wine\, beer and soda and hors d’oeuvres. The buffet stations will open at 7 pm for dinner and include tempting selections of salads and entrees\, a carving station and assorted holiday desserts. Cash bar from 7 to 10 pm. Throughout the evening we’ll have music reminiscent of the Rat Pack and a dance floor where you can show off your moves! The casino will be open from 6 to 10 pm offering you a chance to play Black Jack\, Roulette\, Craps\, Texas Hold ‘Em\, and other card games. You’ll start off with $1\,000 worth of chips (more available with a $10 donation to our charity\, Ready for Life). \nJoin us for this fantastic celebration! Feel free to come straight from work. Dress for the evening will range from business casual (yes – you can come straight from work!)\, to Vegas glamour\, or even your favorite outfit from the 60’s! \nHope to see you there! \nQuestions? Contact Fiona Brooks\, Social Chair\, Social@SuncoastPCA.org or Denise Remus\, Vice President\, VP@SuncoastPCA.org
URL:https://suncoastpca.org/event/holiday-celebration/
LOCATION:St. Petersburg Yacht Club\, 11 Central Ave\, St. Petersburg\, FL\, 33701\, United States
CATEGORIES:Social
GEO:27.771472;-82.632594
X-APPLE-STRUCTURED-LOCATION;VALUE=URI;X-ADDRESS=St. Petersburg Yacht Club 11 Central Ave St. Petersburg FL 33701 United States;X-APPLE-RADIUS=500;X-TITLE=11 Central Ave:geo:-82.632594,27.771472
END:VEVENT
BEGIN:VEVENT
DTSTART;TZID=America/New_York:20151205T083000
DTEND;TZID=America/New_York:20151205T120000
DTSTAMP:20260422T181758
CREATED:20151030T112712Z
LAST-MODIFIED:20151030T112712Z
UID:10000556-1449304200-1449316800@suncoastpca.org
SUMMARY:Holiday Breakfast Buffet
DESCRIPTION:Start the day off with a great holiday breakfast at St Petersburg Yacht Club\, December 5 @ 8:30 am\, located at 11 Central Avenue in downtown St. Petersburg. The club comes alive with holiday decorations and a great buffet. All you care to eat\, breakfast drinks\, tax and tip for $16.00. Children 4-12 years of age: $6.00\, all-inclusive as well. Valet park for $6.00. \nStay in town for the Santa Parade\, the Saturday morning market\, a museum or two or maybe a walk in the park. All in all\, a great way to get the holiday season started! \nRSVP to clubregistration.net  by Monday\, December 1. 
URL:https://suncoastpca.org/event/holiday-breakfast-buffet/
LOCATION:St. Petersburg Yacht Club\, 11 Central Ave\, St. Petersburg\, FL\, 33701\, United States
CATEGORIES:Social
GEO:27.771472;-82.632594
X-APPLE-STRUCTURED-LOCATION;VALUE=URI;X-ADDRESS=St. Petersburg Yacht Club 11 Central Ave St. Petersburg FL 33701 United States;X-APPLE-RADIUS=500;X-TITLE=11 Central Ave:geo:-82.632594,27.771472
END:VEVENT
END:VCALENDAR