BEGIN:VCALENDAR
VERSION:2.0
PRODID:-//Suncoast Florida Region - PCA - ECPv6.15.20//NONSGML v1.0//EN
CALSCALE:GREGORIAN
METHOD:PUBLISH
X-ORIGINAL-URL:https://suncoastpca.org
X-WR-CALDESC:Events for Suncoast Florida Region - PCA
REFRESH-INTERVAL;VALUE=DURATION:PT1H
X-Robots-Tag:noindex
X-PUBLISHED-TTL:PT1H
BEGIN:VTIMEZONE
TZID:America/New_York
BEGIN:DAYLIGHT
TZOFFSETFROM:-0500
TZOFFSETTO:-0400
TZNAME:EDT
DTSTART:20200308T070000
END:DAYLIGHT
BEGIN:STANDARD
TZOFFSETFROM:-0400
TZOFFSETTO:-0500
TZNAME:EST
DTSTART:20201101T060000
END:STANDARD
BEGIN:DAYLIGHT
TZOFFSETFROM:-0500
TZOFFSETTO:-0400
TZNAME:EDT
DTSTART:20210314T070000
END:DAYLIGHT
BEGIN:STANDARD
TZOFFSETFROM:-0400
TZOFFSETTO:-0500
TZNAME:EST
DTSTART:20211107T060000
END:STANDARD
BEGIN:DAYLIGHT
TZOFFSETFROM:-0500
TZOFFSETTO:-0400
TZNAME:EDT
DTSTART:20220313T070000
END:DAYLIGHT
BEGIN:STANDARD
TZOFFSETFROM:-0400
TZOFFSETTO:-0500
TZNAME:EST
DTSTART:20221106T060000
END:STANDARD
BEGIN:DAYLIGHT
TZOFFSETFROM:-0500
TZOFFSETTO:-0400
TZNAME:EDT
DTSTART:20230312T070000
END:DAYLIGHT
BEGIN:STANDARD
TZOFFSETFROM:-0400
TZOFFSETTO:-0500
TZNAME:EST
DTSTART:20231105T060000
END:STANDARD
END:VTIMEZONE
BEGIN:VEVENT
DTSTART;TZID=America/New_York:20220130T080000
DTEND;TZID=America/New_York:20220130T170000
DTSTAMP:20260422T214034
CREATED:20211213T181956Z
LAST-MODIFIED:20211213T183359Z
UID:10000769-1643529600-1643562000@suncoastpca.org
SUMMARY:Autocross St Petersburg College AllState Center
DESCRIPTION:Registration link: https://clubregistration.net/events/signUp.cfm/event/12041
URL:https://suncoastpca.org/event/autocross-st-petersburg-college-allstate-center/
LOCATION:St. Petersburg College Allstate Center\, 3200 34th St S\, St Petersburg\, 33711
CATEGORIES:Autocross
END:VEVENT
BEGIN:VEVENT
DTSTART;TZID=America/New_York:20211212T080000
DTEND;TZID=America/New_York:20211212T170000
DTSTAMP:20260422T214034
CREATED:20201218T181305Z
LAST-MODIFIED:20210413T225722Z
UID:10000743-1639296000-1639328400@suncoastpca.org
SUMMARY:Autocross St Petersburg College AllState Center
DESCRIPTION:St Petersburg College AllState Center – Law Enforcement Driving Pad
URL:https://suncoastpca.org/event/st-pete-college-3/
LOCATION:St. Petersburg College Allstate Center\, 3200 34th St S\, St Petersburg\, 33711
CATEGORIES:Autocross
END:VEVENT
BEGIN:VEVENT
DTSTART;TZID=America/New_York:20211017T080000
DTEND;TZID=America/New_York:20211017T170000
DTSTAMP:20260422T214034
CREATED:20201218T181153Z
LAST-MODIFIED:20210827T201339Z
UID:10000741-1634457600-1634490000@suncoastpca.org
SUMMARY:Autocross St Petersburg College AllState Center
DESCRIPTION:St Petersburg College AllState Center – Law Enforcement Driving Pad
URL:https://suncoastpca.org/event/st-pete-college-2/
LOCATION:St. Petersburg College Allstate Center\, 3200 34th St S\, St Petersburg\, 33711
CATEGORIES:Autocross
END:VEVENT
BEGIN:VEVENT
DTSTART;TZID=America/New_York:20210516T080000
DTEND;TZID=America/New_York:20210516T170000
DTSTAMP:20260422T214034
CREATED:20201218T181035Z
LAST-MODIFIED:20210413T225033Z
UID:10000740-1621152000-1621184400@suncoastpca.org
SUMMARY:Autocross St Petersburg College AllState Center
DESCRIPTION:St Petersburg College AllState Center – Law Enforcement Driving Pad
URL:https://suncoastpca.org/event/st-pete-college/
LOCATION:St. Petersburg College Allstate Center\, 3200 34th St S\, St Petersburg\, 33711
CATEGORIES:Autocross
END:VEVENT
END:VCALENDAR