BEGIN:VCALENDAR
VERSION:2.0
PRODID:-//Suncoast Florida Region - PCA - ECPv6.15.20//NONSGML v1.0//EN
CALSCALE:GREGORIAN
METHOD:PUBLISH
X-ORIGINAL-URL:https://suncoastpca.org
X-WR-CALDESC:Events for Suncoast Florida Region - PCA
REFRESH-INTERVAL;VALUE=DURATION:PT1H
X-Robots-Tag:noindex
X-PUBLISHED-TTL:PT1H
BEGIN:VTIMEZONE
TZID:America/New_York
BEGIN:DAYLIGHT
TZOFFSETFROM:-0500
TZOFFSETTO:-0400
TZNAME:EDT
DTSTART:20170312T070000
END:DAYLIGHT
BEGIN:STANDARD
TZOFFSETFROM:-0400
TZOFFSETTO:-0500
TZNAME:EST
DTSTART:20171105T060000
END:STANDARD
BEGIN:DAYLIGHT
TZOFFSETFROM:-0500
TZOFFSETTO:-0400
TZNAME:EDT
DTSTART:20180311T070000
END:DAYLIGHT
BEGIN:STANDARD
TZOFFSETFROM:-0400
TZOFFSETTO:-0500
TZNAME:EST
DTSTART:20181104T060000
END:STANDARD
BEGIN:DAYLIGHT
TZOFFSETFROM:-0500
TZOFFSETTO:-0400
TZNAME:EDT
DTSTART:20190310T070000
END:DAYLIGHT
BEGIN:STANDARD
TZOFFSETFROM:-0400
TZOFFSETTO:-0500
TZNAME:EST
DTSTART:20191103T060000
END:STANDARD
END:VTIMEZONE
BEGIN:VEVENT
DTSTART;VALUE=DATE:20180421
DTEND;VALUE=DATE:20180422
DTSTAMP:20260422T184332
CREATED:20180216T210329Z
LAST-MODIFIED:20180327T190821Z
UID:10000651-1524268800-1524301200@suncoastpca.org
SUMMARY:Porsches Around Munn Park
DESCRIPTION: This Suncoast PCA event will be held in conjunction with Lakeland’s weekly downtown farmers market\, which hosts approximately 200 vendors. The streets on the West  (Tennessee) and the North (Pine Street) sides of the Park will be used for Porsche staging\, but closed for traffic and all other parking. Lunch will be catered at Suncoast PCA member Mike Campbell‘s home\, the Sommer Building\, 230 N. Kentucky Ave. (See – https://www.facebook.com/LakelandWedding.SommerBuilding/ and https://thelakelander.com/the-sommer-building/).  \nSpaces are limited and the price will be $20/per person for lunch.  Payment through ClubReg will guarantee your lunch\, otherwise be aware we may not have enough food to accommodate you.  \n\nYou can arrive as early as 9 a.m. if you want to park and enjoy the vendors\, but you can arrive later.  We anticipate all activities will be done by about 3 pm.\n\nhttps://clubregistration.net/events/signUp.cfm/event/8924\n \nNeed help with creating an account on ClubReg? Click here. 
URL:https://suncoastpca.org/event/porsches-around-munn-park/
LOCATION:Sommer Building\, 230 N. Kentucky Avenue\, Lakeland\, FL\, 33801\, United States
CATEGORIES:Social
GEO:28.0462783;-81.9553579
X-APPLE-STRUCTURED-LOCATION;VALUE=URI;X-ADDRESS=Sommer Building 230 N. Kentucky Avenue Lakeland FL 33801 United States;X-APPLE-RADIUS=500;X-TITLE=230 N. Kentucky Avenue:geo:-81.9553579,28.0462783
END:VEVENT
END:VCALENDAR