BEGIN:VCALENDAR
VERSION:2.0
PRODID:-//Suncoast Florida Region - PCA - ECPv6.15.20//NONSGML v1.0//EN
CALSCALE:GREGORIAN
METHOD:PUBLISH
X-ORIGINAL-URL:https://suncoastpca.org
X-WR-CALDESC:Events for Suncoast Florida Region - PCA
REFRESH-INTERVAL;VALUE=DURATION:PT1H
X-Robots-Tag:noindex
X-PUBLISHED-TTL:PT1H
BEGIN:VTIMEZONE
TZID:America/New_York
BEGIN:DAYLIGHT
TZOFFSETFROM:-0500
TZOFFSETTO:-0400
TZNAME:EDT
DTSTART:20280312T070000
END:DAYLIGHT
BEGIN:STANDARD
TZOFFSETFROM:-0400
TZOFFSETTO:-0500
TZNAME:EST
DTSTART:20281105T060000
END:STANDARD
BEGIN:DAYLIGHT
TZOFFSETFROM:-0500
TZOFFSETTO:-0400
TZNAME:EDT
DTSTART:20290311T070000
END:DAYLIGHT
BEGIN:STANDARD
TZOFFSETFROM:-0400
TZOFFSETTO:-0500
TZNAME:EST
DTSTART:20291104T060000
END:STANDARD
BEGIN:DAYLIGHT
TZOFFSETFROM:-0500
TZOFFSETTO:-0400
TZNAME:EDT
DTSTART:20300310T070000
END:DAYLIGHT
BEGIN:STANDARD
TZOFFSETFROM:-0400
TZOFFSETTO:-0500
TZNAME:EST
DTSTART:20301103T060000
END:STANDARD
BEGIN:DAYLIGHT
TZOFFSETFROM:-0500
TZOFFSETTO:-0400
TZNAME:EDT
DTSTART:20310309T070000
END:DAYLIGHT
BEGIN:STANDARD
TZOFFSETFROM:-0400
TZOFFSETTO:-0500
TZNAME:EST
DTSTART:20311102T060000
END:STANDARD
BEGIN:DAYLIGHT
TZOFFSETFROM:-0500
TZOFFSETTO:-0400
TZNAME:EDT
DTSTART:20320314T070000
END:DAYLIGHT
BEGIN:STANDARD
TZOFFSETFROM:-0400
TZOFFSETTO:-0500
TZNAME:EST
DTSTART:20321107T060000
END:STANDARD
END:VTIMEZONE
BEGIN:VEVENT
DTSTART;TZID=America/New_York:20290901T083000
DTEND;TZID=America/New_York:20290901T083000
DTSTAMP:20260422T184545
CREATED:20230804T145344Z
LAST-MODIFIED:20260106T164740Z
UID:10001096-1882945800-1882945800@suncoastpca.org
SUMMARY:Monthly Breakfast - Bradenton
DESCRIPTION:Come join your fellow Suncoast Porsche Club members and guests for our monthly breakfast at Skillets Restaurant! \nREGISTRATION REQUIRED via ClubReg so Skillet’s Bradenton can provide proper staffing for our group.  \nhttps://clubregistration.net/
URL:https://suncoastpca.org/event/monthly-breakfast-at-skillets-3/2029-09-01/
LOCATION:Skillets Bradenton\, 9722 FL-64\, Bradenton\, FL\, 34212\, United States
CATEGORIES:Social
END:VEVENT
BEGIN:VEVENT
DTSTART;TZID=America/New_York:20291006T083000
DTEND;TZID=America/New_York:20291006T083000
DTSTAMP:20260422T184545
CREATED:20230804T145344Z
LAST-MODIFIED:20260106T164740Z
UID:10001097-1885969800-1885969800@suncoastpca.org
SUMMARY:Monthly Breakfast - Bradenton
DESCRIPTION:Come join your fellow Suncoast Porsche Club members and guests for our monthly breakfast at Skillets Restaurant! \nREGISTRATION REQUIRED via ClubReg so Skillet’s Bradenton can provide proper staffing for our group.  \nhttps://clubregistration.net/
URL:https://suncoastpca.org/event/monthly-breakfast-at-skillets-3/2029-10-06/
LOCATION:Skillets Bradenton\, 9722 FL-64\, Bradenton\, FL\, 34212\, United States
CATEGORIES:Social
END:VEVENT
BEGIN:VEVENT
DTSTART;TZID=America/New_York:20291103T083000
DTEND;TZID=America/New_York:20291103T083000
DTSTAMP:20260422T184545
CREATED:20230804T145344Z
LAST-MODIFIED:20260106T164740Z
UID:10001098-1888389000-1888389000@suncoastpca.org
SUMMARY:Monthly Breakfast - Bradenton
DESCRIPTION:Come join your fellow Suncoast Porsche Club members and guests for our monthly breakfast at Skillets Restaurant! \nREGISTRATION REQUIRED via ClubReg so Skillet’s Bradenton can provide proper staffing for our group.  \nhttps://clubregistration.net/
URL:https://suncoastpca.org/event/monthly-breakfast-at-skillets-3/2029-11-03/
LOCATION:Skillets Bradenton\, 9722 FL-64\, Bradenton\, FL\, 34212\, United States
CATEGORIES:Social
END:VEVENT
BEGIN:VEVENT
DTSTART;TZID=America/New_York:20291201T083000
DTEND;TZID=America/New_York:20291201T083000
DTSTAMP:20260422T184545
CREATED:20230804T145344Z
LAST-MODIFIED:20260106T164740Z
UID:10001099-1890808200-1890808200@suncoastpca.org
SUMMARY:Monthly Breakfast - Bradenton
DESCRIPTION:Come join your fellow Suncoast Porsche Club members and guests for our monthly breakfast at Skillets Restaurant! \nREGISTRATION REQUIRED via ClubReg so Skillet’s Bradenton can provide proper staffing for our group.  \nhttps://clubregistration.net/
URL:https://suncoastpca.org/event/monthly-breakfast-at-skillets-3/2029-12-01/
LOCATION:Skillets Bradenton\, 9722 FL-64\, Bradenton\, FL\, 34212\, United States
CATEGORIES:Social
END:VEVENT
BEGIN:VEVENT
DTSTART;TZID=America/New_York:20300105T083000
DTEND;TZID=America/New_York:20300105T083000
DTSTAMP:20260422T184545
CREATED:20230804T145344Z
LAST-MODIFIED:20260106T164740Z
UID:10001299-1893832200-1893832200@suncoastpca.org
SUMMARY:Monthly Breakfast - Bradenton
DESCRIPTION:Come join your fellow Suncoast Porsche Club members and guests for our monthly breakfast at Skillets Restaurant! \nREGISTRATION REQUIRED via ClubReg so Skillet’s Bradenton can provide proper staffing for our group.  \nhttps://clubregistration.net/
URL:https://suncoastpca.org/event/monthly-breakfast-at-skillets-3/2030-01-05/
LOCATION:Skillets Bradenton\, 9722 FL-64\, Bradenton\, FL\, 34212\, United States
CATEGORIES:Social
END:VEVENT
BEGIN:VEVENT
DTSTART;TZID=America/New_York:20300202T083000
DTEND;TZID=America/New_York:20300202T083000
DTSTAMP:20260422T184545
CREATED:20230804T145344Z
LAST-MODIFIED:20260106T164740Z
UID:10001300-1896251400-1896251400@suncoastpca.org
SUMMARY:Monthly Breakfast - Bradenton
DESCRIPTION:Come join your fellow Suncoast Porsche Club members and guests for our monthly breakfast at Skillets Restaurant! \nREGISTRATION REQUIRED via ClubReg so Skillet’s Bradenton can provide proper staffing for our group.  \nhttps://clubregistration.net/
URL:https://suncoastpca.org/event/monthly-breakfast-at-skillets-3/2030-02-02/
LOCATION:Skillets Bradenton\, 9722 FL-64\, Bradenton\, FL\, 34212\, United States
CATEGORIES:Social
END:VEVENT
BEGIN:VEVENT
DTSTART;TZID=America/New_York:20300302T083000
DTEND;TZID=America/New_York:20300302T083000
DTSTAMP:20260422T184545
CREATED:20230804T145344Z
LAST-MODIFIED:20260106T164740Z
UID:10001301-1898670600-1898670600@suncoastpca.org
SUMMARY:Monthly Breakfast - Bradenton
DESCRIPTION:Come join your fellow Suncoast Porsche Club members and guests for our monthly breakfast at Skillets Restaurant! \nREGISTRATION REQUIRED via ClubReg so Skillet’s Bradenton can provide proper staffing for our group.  \nhttps://clubregistration.net/
URL:https://suncoastpca.org/event/monthly-breakfast-at-skillets-3/2030-03-02/
LOCATION:Skillets Bradenton\, 9722 FL-64\, Bradenton\, FL\, 34212\, United States
CATEGORIES:Social
END:VEVENT
BEGIN:VEVENT
DTSTART;TZID=America/New_York:20300406T083000
DTEND;TZID=America/New_York:20300406T083000
DTSTAMP:20260422T184545
CREATED:20230804T145344Z
LAST-MODIFIED:20260106T164740Z
UID:10001302-1901694600-1901694600@suncoastpca.org
SUMMARY:Monthly Breakfast - Bradenton
DESCRIPTION:Come join your fellow Suncoast Porsche Club members and guests for our monthly breakfast at Skillets Restaurant! \nREGISTRATION REQUIRED via ClubReg so Skillet’s Bradenton can provide proper staffing for our group.  \nhttps://clubregistration.net/
URL:https://suncoastpca.org/event/monthly-breakfast-at-skillets-3/2030-04-06/
LOCATION:Skillets Bradenton\, 9722 FL-64\, Bradenton\, FL\, 34212\, United States
CATEGORIES:Social
END:VEVENT
BEGIN:VEVENT
DTSTART;TZID=America/New_York:20300504T083000
DTEND;TZID=America/New_York:20300504T083000
DTSTAMP:20260422T184545
CREATED:20230804T145344Z
LAST-MODIFIED:20260106T164740Z
UID:10001303-1904113800-1904113800@suncoastpca.org
SUMMARY:Monthly Breakfast - Bradenton
DESCRIPTION:Come join your fellow Suncoast Porsche Club members and guests for our monthly breakfast at Skillets Restaurant! \nREGISTRATION REQUIRED via ClubReg so Skillet’s Bradenton can provide proper staffing for our group.  \nhttps://clubregistration.net/
URL:https://suncoastpca.org/event/monthly-breakfast-at-skillets-3/2030-05-04/
LOCATION:Skillets Bradenton\, 9722 FL-64\, Bradenton\, FL\, 34212\, United States
CATEGORIES:Social
END:VEVENT
BEGIN:VEVENT
DTSTART;TZID=America/New_York:20300601T083000
DTEND;TZID=America/New_York:20300601T083000
DTSTAMP:20260422T184545
CREATED:20230804T145344Z
LAST-MODIFIED:20260106T164740Z
UID:10001304-1906533000-1906533000@suncoastpca.org
SUMMARY:Monthly Breakfast - Bradenton
DESCRIPTION:Come join your fellow Suncoast Porsche Club members and guests for our monthly breakfast at Skillets Restaurant! \nREGISTRATION REQUIRED via ClubReg so Skillet’s Bradenton can provide proper staffing for our group.  \nhttps://clubregistration.net/
URL:https://suncoastpca.org/event/monthly-breakfast-at-skillets-3/2030-06-01/
LOCATION:Skillets Bradenton\, 9722 FL-64\, Bradenton\, FL\, 34212\, United States
CATEGORIES:Social
END:VEVENT
BEGIN:VEVENT
DTSTART;TZID=America/New_York:20300706T083000
DTEND;TZID=America/New_York:20300706T083000
DTSTAMP:20260422T184545
CREATED:20230804T145344Z
LAST-MODIFIED:20260106T164740Z
UID:10001305-1909557000-1909557000@suncoastpca.org
SUMMARY:Monthly Breakfast - Bradenton
DESCRIPTION:Come join your fellow Suncoast Porsche Club members and guests for our monthly breakfast at Skillets Restaurant! \nREGISTRATION REQUIRED via ClubReg so Skillet’s Bradenton can provide proper staffing for our group.  \nhttps://clubregistration.net/
URL:https://suncoastpca.org/event/monthly-breakfast-at-skillets-3/2030-07-06/
LOCATION:Skillets Bradenton\, 9722 FL-64\, Bradenton\, FL\, 34212\, United States
CATEGORIES:Social
END:VEVENT
BEGIN:VEVENT
DTSTART;TZID=America/New_York:20300803T083000
DTEND;TZID=America/New_York:20300803T083000
DTSTAMP:20260422T184545
CREATED:20230804T145344Z
LAST-MODIFIED:20260106T164740Z
UID:10001306-1911976200-1911976200@suncoastpca.org
SUMMARY:Monthly Breakfast - Bradenton
DESCRIPTION:Come join your fellow Suncoast Porsche Club members and guests for our monthly breakfast at Skillets Restaurant! \nREGISTRATION REQUIRED via ClubReg so Skillet’s Bradenton can provide proper staffing for our group.  \nhttps://clubregistration.net/
URL:https://suncoastpca.org/event/monthly-breakfast-at-skillets-3/2030-08-03/
LOCATION:Skillets Bradenton\, 9722 FL-64\, Bradenton\, FL\, 34212\, United States
CATEGORIES:Social
END:VEVENT
BEGIN:VEVENT
DTSTART;TZID=America/New_York:20300907T083000
DTEND;TZID=America/New_York:20300907T083000
DTSTAMP:20260422T184545
CREATED:20230804T145344Z
LAST-MODIFIED:20260106T164740Z
UID:10001307-1915000200-1915000200@suncoastpca.org
SUMMARY:Monthly Breakfast - Bradenton
DESCRIPTION:Come join your fellow Suncoast Porsche Club members and guests for our monthly breakfast at Skillets Restaurant! \nREGISTRATION REQUIRED via ClubReg so Skillet’s Bradenton can provide proper staffing for our group.  \nhttps://clubregistration.net/
URL:https://suncoastpca.org/event/monthly-breakfast-at-skillets-3/2030-09-07/
LOCATION:Skillets Bradenton\, 9722 FL-64\, Bradenton\, FL\, 34212\, United States
CATEGORIES:Social
END:VEVENT
BEGIN:VEVENT
DTSTART;TZID=America/New_York:20301005T083000
DTEND;TZID=America/New_York:20301005T083000
DTSTAMP:20260422T184545
CREATED:20230804T145344Z
LAST-MODIFIED:20260106T164740Z
UID:10001308-1917419400-1917419400@suncoastpca.org
SUMMARY:Monthly Breakfast - Bradenton
DESCRIPTION:Come join your fellow Suncoast Porsche Club members and guests for our monthly breakfast at Skillets Restaurant! \nREGISTRATION REQUIRED via ClubReg so Skillet’s Bradenton can provide proper staffing for our group.  \nhttps://clubregistration.net/
URL:https://suncoastpca.org/event/monthly-breakfast-at-skillets-3/2030-10-05/
LOCATION:Skillets Bradenton\, 9722 FL-64\, Bradenton\, FL\, 34212\, United States
CATEGORIES:Social
END:VEVENT
BEGIN:VEVENT
DTSTART;TZID=America/New_York:20301102T083000
DTEND;TZID=America/New_York:20301102T083000
DTSTAMP:20260422T184545
CREATED:20230804T145344Z
LAST-MODIFIED:20260106T164740Z
UID:10001309-1919838600-1919838600@suncoastpca.org
SUMMARY:Monthly Breakfast - Bradenton
DESCRIPTION:Come join your fellow Suncoast Porsche Club members and guests for our monthly breakfast at Skillets Restaurant! \nREGISTRATION REQUIRED via ClubReg so Skillet’s Bradenton can provide proper staffing for our group.  \nhttps://clubregistration.net/
URL:https://suncoastpca.org/event/monthly-breakfast-at-skillets-3/2030-11-02/
LOCATION:Skillets Bradenton\, 9722 FL-64\, Bradenton\, FL\, 34212\, United States
CATEGORIES:Social
END:VEVENT
BEGIN:VEVENT
DTSTART;TZID=America/New_York:20301207T083000
DTEND;TZID=America/New_York:20301207T083000
DTSTAMP:20260422T184545
CREATED:20230804T145344Z
LAST-MODIFIED:20260106T164740Z
UID:10001310-1922862600-1922862600@suncoastpca.org
SUMMARY:Monthly Breakfast - Bradenton
DESCRIPTION:Come join your fellow Suncoast Porsche Club members and guests for our monthly breakfast at Skillets Restaurant! \nREGISTRATION REQUIRED via ClubReg so Skillet’s Bradenton can provide proper staffing for our group.  \nhttps://clubregistration.net/
URL:https://suncoastpca.org/event/monthly-breakfast-at-skillets-3/2030-12-07/
LOCATION:Skillets Bradenton\, 9722 FL-64\, Bradenton\, FL\, 34212\, United States
CATEGORIES:Social
END:VEVENT
BEGIN:VEVENT
DTSTART;TZID=America/New_York:20310104T083000
DTEND;TZID=America/New_York:20310104T083000
DTSTAMP:20260422T184545
CREATED:20230804T145344Z
LAST-MODIFIED:20260106T164740Z
UID:10001311-1925281800-1925281800@suncoastpca.org
SUMMARY:Monthly Breakfast - Bradenton
DESCRIPTION:Come join your fellow Suncoast Porsche Club members and guests for our monthly breakfast at Skillets Restaurant! \nREGISTRATION REQUIRED via ClubReg so Skillet’s Bradenton can provide proper staffing for our group.  \nhttps://clubregistration.net/
URL:https://suncoastpca.org/event/monthly-breakfast-at-skillets-3/2031-01-04/
LOCATION:Skillets Bradenton\, 9722 FL-64\, Bradenton\, FL\, 34212\, United States
CATEGORIES:Social
END:VEVENT
END:VCALENDAR