BEGIN:VCALENDAR
VERSION:2.0
PRODID:-//Suncoast Florida Region - PCA - ECPv6.15.20//NONSGML v1.0//EN
CALSCALE:GREGORIAN
METHOD:PUBLISH
X-WR-CALNAME:Suncoast Florida Region - PCA
X-ORIGINAL-URL:https://suncoastpca.org
X-WR-CALDESC:Events for Suncoast Florida Region - PCA
REFRESH-INTERVAL;VALUE=DURATION:PT1H
X-Robots-Tag:noindex
X-PUBLISHED-TTL:PT1H
BEGIN:VTIMEZONE
TZID:America/New_York
BEGIN:DAYLIGHT
TZOFFSETFROM:-0500
TZOFFSETTO:-0400
TZNAME:EDT
DTSTART:20260308T070000
END:DAYLIGHT
BEGIN:STANDARD
TZOFFSETFROM:-0400
TZOFFSETTO:-0500
TZNAME:EST
DTSTART:20261101T060000
END:STANDARD
BEGIN:DAYLIGHT
TZOFFSETFROM:-0500
TZOFFSETTO:-0400
TZNAME:EDT
DTSTART:20270314T070000
END:DAYLIGHT
BEGIN:STANDARD
TZOFFSETFROM:-0400
TZOFFSETTO:-0500
TZNAME:EST
DTSTART:20271107T060000
END:STANDARD
BEGIN:DAYLIGHT
TZOFFSETFROM:-0500
TZOFFSETTO:-0400
TZNAME:EDT
DTSTART:20280312T070000
END:DAYLIGHT
BEGIN:STANDARD
TZOFFSETFROM:-0400
TZOFFSETTO:-0500
TZNAME:EST
DTSTART:20281105T060000
END:STANDARD
BEGIN:DAYLIGHT
TZOFFSETFROM:-0500
TZOFFSETTO:-0400
TZNAME:EDT
DTSTART:20290311T070000
END:DAYLIGHT
BEGIN:STANDARD
TZOFFSETFROM:-0400
TZOFFSETTO:-0500
TZNAME:EST
DTSTART:20291104T060000
END:STANDARD
BEGIN:DAYLIGHT
TZOFFSETFROM:-0500
TZOFFSETTO:-0400
TZNAME:EDT
DTSTART:20300310T070000
END:DAYLIGHT
BEGIN:STANDARD
TZOFFSETFROM:-0400
TZOFFSETTO:-0500
TZNAME:EST
DTSTART:20301103T060000
END:STANDARD
END:VTIMEZONE
BEGIN:VEVENT
DTSTART;TZID=America/New_York:20270306T083000
DTEND;TZID=America/New_York:20270306T083000
DTSTAMP:20260422T132206
CREATED:20230804T145344Z
LAST-MODIFIED:20260106T164740Z
UID:10000934-1804321800-1804321800@suncoastpca.org
SUMMARY:Monthly Breakfast - Bradenton
DESCRIPTION:Come join your fellow Suncoast Porsche Club members and guests for our monthly breakfast at Skillets Restaurant! \nREGISTRATION REQUIRED via ClubReg so Skillet’s Bradenton can provide proper staffing for our group.  \nhttps://clubregistration.net/
URL:https://suncoastpca.org/event/monthly-breakfast-at-skillets-3/2027-03-06/
LOCATION:Skillets Bradenton\, 9722 FL-64\, Bradenton\, FL\, 34212\, United States
CATEGORIES:Social
END:VEVENT
BEGIN:VEVENT
DTSTART;TZID=America/New_York:20270403T083000
DTEND;TZID=America/New_York:20270403T083000
DTSTAMP:20260422T132206
CREATED:20230804T145344Z
LAST-MODIFIED:20260106T164740Z
UID:10000935-1806741000-1806741000@suncoastpca.org
SUMMARY:Monthly Breakfast - Bradenton
DESCRIPTION:Come join your fellow Suncoast Porsche Club members and guests for our monthly breakfast at Skillets Restaurant! \nREGISTRATION REQUIRED via ClubReg so Skillet’s Bradenton can provide proper staffing for our group.  \nhttps://clubregistration.net/
URL:https://suncoastpca.org/event/monthly-breakfast-at-skillets-3/2027-04-03/
LOCATION:Skillets Bradenton\, 9722 FL-64\, Bradenton\, FL\, 34212\, United States
CATEGORIES:Social
END:VEVENT
BEGIN:VEVENT
DTSTART;TZID=America/New_York:20270501T083000
DTEND;TZID=America/New_York:20270501T083000
DTSTAMP:20260422T132206
CREATED:20230804T145344Z
LAST-MODIFIED:20260106T164740Z
UID:10000936-1809160200-1809160200@suncoastpca.org
SUMMARY:Monthly Breakfast - Bradenton
DESCRIPTION:Come join your fellow Suncoast Porsche Club members and guests for our monthly breakfast at Skillets Restaurant! \nREGISTRATION REQUIRED via ClubReg so Skillet’s Bradenton can provide proper staffing for our group.  \nhttps://clubregistration.net/
URL:https://suncoastpca.org/event/monthly-breakfast-at-skillets-3/2027-05-01/
LOCATION:Skillets Bradenton\, 9722 FL-64\, Bradenton\, FL\, 34212\, United States
CATEGORIES:Social
END:VEVENT
BEGIN:VEVENT
DTSTART;TZID=America/New_York:20270605T083000
DTEND;TZID=America/New_York:20270605T083000
DTSTAMP:20260422T132206
CREATED:20230804T145344Z
LAST-MODIFIED:20260106T164740Z
UID:10000937-1812184200-1812184200@suncoastpca.org
SUMMARY:Monthly Breakfast - Bradenton
DESCRIPTION:Come join your fellow Suncoast Porsche Club members and guests for our monthly breakfast at Skillets Restaurant! \nREGISTRATION REQUIRED via ClubReg so Skillet’s Bradenton can provide proper staffing for our group.  \nhttps://clubregistration.net/
URL:https://suncoastpca.org/event/monthly-breakfast-at-skillets-3/2027-06-05/
LOCATION:Skillets Bradenton\, 9722 FL-64\, Bradenton\, FL\, 34212\, United States
CATEGORIES:Social
END:VEVENT
BEGIN:VEVENT
DTSTART;TZID=America/New_York:20270703T083000
DTEND;TZID=America/New_York:20270703T083000
DTSTAMP:20260422T132206
CREATED:20230804T145344Z
LAST-MODIFIED:20260106T164740Z
UID:10000938-1814603400-1814603400@suncoastpca.org
SUMMARY:Monthly Breakfast - Bradenton
DESCRIPTION:Come join your fellow Suncoast Porsche Club members and guests for our monthly breakfast at Skillets Restaurant! \nREGISTRATION REQUIRED via ClubReg so Skillet’s Bradenton can provide proper staffing for our group.  \nhttps://clubregistration.net/
URL:https://suncoastpca.org/event/monthly-breakfast-at-skillets-3/2027-07-03/
LOCATION:Skillets Bradenton\, 9722 FL-64\, Bradenton\, FL\, 34212\, United States
CATEGORIES:Social
END:VEVENT
BEGIN:VEVENT
DTSTART;TZID=America/New_York:20270807T083000
DTEND;TZID=America/New_York:20270807T083000
DTSTAMP:20260422T132206
CREATED:20230804T145344Z
LAST-MODIFIED:20260106T164740Z
UID:10000939-1817627400-1817627400@suncoastpca.org
SUMMARY:Monthly Breakfast - Bradenton
DESCRIPTION:Come join your fellow Suncoast Porsche Club members and guests for our monthly breakfast at Skillets Restaurant! \nREGISTRATION REQUIRED via ClubReg so Skillet’s Bradenton can provide proper staffing for our group.  \nhttps://clubregistration.net/
URL:https://suncoastpca.org/event/monthly-breakfast-at-skillets-3/2027-08-07/
LOCATION:Skillets Bradenton\, 9722 FL-64\, Bradenton\, FL\, 34212\, United States
CATEGORIES:Social
END:VEVENT
BEGIN:VEVENT
DTSTART;TZID=America/New_York:20270904T083000
DTEND;TZID=America/New_York:20270904T083000
DTSTAMP:20260422T132206
CREATED:20230804T145344Z
LAST-MODIFIED:20260106T164740Z
UID:10000940-1820046600-1820046600@suncoastpca.org
SUMMARY:Monthly Breakfast - Bradenton
DESCRIPTION:Come join your fellow Suncoast Porsche Club members and guests for our monthly breakfast at Skillets Restaurant! \nREGISTRATION REQUIRED via ClubReg so Skillet’s Bradenton can provide proper staffing for our group.  \nhttps://clubregistration.net/
URL:https://suncoastpca.org/event/monthly-breakfast-at-skillets-3/2027-09-04/
LOCATION:Skillets Bradenton\, 9722 FL-64\, Bradenton\, FL\, 34212\, United States
CATEGORIES:Social
END:VEVENT
BEGIN:VEVENT
DTSTART;TZID=America/New_York:20271002T083000
DTEND;TZID=America/New_York:20271002T083000
DTSTAMP:20260422T132206
CREATED:20230804T145344Z
LAST-MODIFIED:20260106T164740Z
UID:10000941-1822465800-1822465800@suncoastpca.org
SUMMARY:Monthly Breakfast - Bradenton
DESCRIPTION:Come join your fellow Suncoast Porsche Club members and guests for our monthly breakfast at Skillets Restaurant! \nREGISTRATION REQUIRED via ClubReg so Skillet’s Bradenton can provide proper staffing for our group.  \nhttps://clubregistration.net/
URL:https://suncoastpca.org/event/monthly-breakfast-at-skillets-3/2027-10-02/
LOCATION:Skillets Bradenton\, 9722 FL-64\, Bradenton\, FL\, 34212\, United States
CATEGORIES:Social
END:VEVENT
BEGIN:VEVENT
DTSTART;TZID=America/New_York:20271106T083000
DTEND;TZID=America/New_York:20271106T083000
DTSTAMP:20260422T132206
CREATED:20230804T145344Z
LAST-MODIFIED:20260106T164740Z
UID:10000942-1825489800-1825489800@suncoastpca.org
SUMMARY:Monthly Breakfast - Bradenton
DESCRIPTION:Come join your fellow Suncoast Porsche Club members and guests for our monthly breakfast at Skillets Restaurant! \nREGISTRATION REQUIRED via ClubReg so Skillet’s Bradenton can provide proper staffing for our group.  \nhttps://clubregistration.net/
URL:https://suncoastpca.org/event/monthly-breakfast-at-skillets-3/2027-11-06/
LOCATION:Skillets Bradenton\, 9722 FL-64\, Bradenton\, FL\, 34212\, United States
CATEGORIES:Social
END:VEVENT
BEGIN:VEVENT
DTSTART;TZID=America/New_York:20271204T083000
DTEND;TZID=America/New_York:20271204T083000
DTSTAMP:20260422T132206
CREATED:20230804T145344Z
LAST-MODIFIED:20260106T164740Z
UID:10000943-1827909000-1827909000@suncoastpca.org
SUMMARY:Monthly Breakfast - Bradenton
DESCRIPTION:Come join your fellow Suncoast Porsche Club members and guests for our monthly breakfast at Skillets Restaurant! \nREGISTRATION REQUIRED via ClubReg so Skillet’s Bradenton can provide proper staffing for our group.  \nhttps://clubregistration.net/
URL:https://suncoastpca.org/event/monthly-breakfast-at-skillets-3/2027-12-04/
LOCATION:Skillets Bradenton\, 9722 FL-64\, Bradenton\, FL\, 34212\, United States
CATEGORIES:Social
END:VEVENT
BEGIN:VEVENT
DTSTART;TZID=America/New_York:20280101T083000
DTEND;TZID=America/New_York:20280101T083000
DTSTAMP:20260422T132206
CREATED:20230804T145344Z
LAST-MODIFIED:20260106T164740Z
UID:10000944-1830328200-1830328200@suncoastpca.org
SUMMARY:Monthly Breakfast - Bradenton
DESCRIPTION:Come join your fellow Suncoast Porsche Club members and guests for our monthly breakfast at Skillets Restaurant! \nREGISTRATION REQUIRED via ClubReg so Skillet’s Bradenton can provide proper staffing for our group.  \nhttps://clubregistration.net/
URL:https://suncoastpca.org/event/monthly-breakfast-at-skillets-3/2028-01-01/
LOCATION:Skillets Bradenton\, 9722 FL-64\, Bradenton\, FL\, 34212\, United States
CATEGORIES:Social
END:VEVENT
BEGIN:VEVENT
DTSTART;TZID=America/New_York:20280205T083000
DTEND;TZID=America/New_York:20280205T083000
DTSTAMP:20260422T132206
CREATED:20230804T145344Z
LAST-MODIFIED:20260106T164740Z
UID:10000945-1833352200-1833352200@suncoastpca.org
SUMMARY:Monthly Breakfast - Bradenton
DESCRIPTION:Come join your fellow Suncoast Porsche Club members and guests for our monthly breakfast at Skillets Restaurant! \nREGISTRATION REQUIRED via ClubReg so Skillet’s Bradenton can provide proper staffing for our group.  \nhttps://clubregistration.net/
URL:https://suncoastpca.org/event/monthly-breakfast-at-skillets-3/2028-02-05/
LOCATION:Skillets Bradenton\, 9722 FL-64\, Bradenton\, FL\, 34212\, United States
CATEGORIES:Social
END:VEVENT
BEGIN:VEVENT
DTSTART;TZID=America/New_York:20280304T083000
DTEND;TZID=America/New_York:20280304T083000
DTSTAMP:20260422T132206
CREATED:20230804T145344Z
LAST-MODIFIED:20260106T164740Z
UID:10000946-1835771400-1835771400@suncoastpca.org
SUMMARY:Monthly Breakfast - Bradenton
DESCRIPTION:Come join your fellow Suncoast Porsche Club members and guests for our monthly breakfast at Skillets Restaurant! \nREGISTRATION REQUIRED via ClubReg so Skillet’s Bradenton can provide proper staffing for our group.  \nhttps://clubregistration.net/
URL:https://suncoastpca.org/event/monthly-breakfast-at-skillets-3/2028-03-04/
LOCATION:Skillets Bradenton\, 9722 FL-64\, Bradenton\, FL\, 34212\, United States
CATEGORIES:Social
END:VEVENT
BEGIN:VEVENT
DTSTART;TZID=America/New_York:20280401T083000
DTEND;TZID=America/New_York:20280401T083000
DTSTAMP:20260422T132206
CREATED:20230804T145344Z
LAST-MODIFIED:20260106T164740Z
UID:10000947-1838190600-1838190600@suncoastpca.org
SUMMARY:Monthly Breakfast - Bradenton
DESCRIPTION:Come join your fellow Suncoast Porsche Club members and guests for our monthly breakfast at Skillets Restaurant! \nREGISTRATION REQUIRED via ClubReg so Skillet’s Bradenton can provide proper staffing for our group.  \nhttps://clubregistration.net/
URL:https://suncoastpca.org/event/monthly-breakfast-at-skillets-3/2028-04-01/
LOCATION:Skillets Bradenton\, 9722 FL-64\, Bradenton\, FL\, 34212\, United States
CATEGORIES:Social
END:VEVENT
BEGIN:VEVENT
DTSTART;TZID=America/New_York:20280506T083000
DTEND;TZID=America/New_York:20280506T083000
DTSTAMP:20260422T132206
CREATED:20230804T145344Z
LAST-MODIFIED:20260106T164740Z
UID:10000948-1841214600-1841214600@suncoastpca.org
SUMMARY:Monthly Breakfast - Bradenton
DESCRIPTION:Come join your fellow Suncoast Porsche Club members and guests for our monthly breakfast at Skillets Restaurant! \nREGISTRATION REQUIRED via ClubReg so Skillet’s Bradenton can provide proper staffing for our group.  \nhttps://clubregistration.net/
URL:https://suncoastpca.org/event/monthly-breakfast-at-skillets-3/2028-05-06/
LOCATION:Skillets Bradenton\, 9722 FL-64\, Bradenton\, FL\, 34212\, United States
CATEGORIES:Social
END:VEVENT
BEGIN:VEVENT
DTSTART;TZID=America/New_York:20280603T083000
DTEND;TZID=America/New_York:20280603T083000
DTSTAMP:20260422T132206
CREATED:20230804T145344Z
LAST-MODIFIED:20260106T164740Z
UID:10000949-1843633800-1843633800@suncoastpca.org
SUMMARY:Monthly Breakfast - Bradenton
DESCRIPTION:Come join your fellow Suncoast Porsche Club members and guests for our monthly breakfast at Skillets Restaurant! \nREGISTRATION REQUIRED via ClubReg so Skillet’s Bradenton can provide proper staffing for our group.  \nhttps://clubregistration.net/
URL:https://suncoastpca.org/event/monthly-breakfast-at-skillets-3/2028-06-03/
LOCATION:Skillets Bradenton\, 9722 FL-64\, Bradenton\, FL\, 34212\, United States
CATEGORIES:Social
END:VEVENT
BEGIN:VEVENT
DTSTART;TZID=America/New_York:20280701T083000
DTEND;TZID=America/New_York:20280701T083000
DTSTAMP:20260422T132206
CREATED:20230804T145344Z
LAST-MODIFIED:20260106T164740Z
UID:10000950-1846053000-1846053000@suncoastpca.org
SUMMARY:Monthly Breakfast - Bradenton
DESCRIPTION:Come join your fellow Suncoast Porsche Club members and guests for our monthly breakfast at Skillets Restaurant! \nREGISTRATION REQUIRED via ClubReg so Skillet’s Bradenton can provide proper staffing for our group.  \nhttps://clubregistration.net/
URL:https://suncoastpca.org/event/monthly-breakfast-at-skillets-3/2028-07-01/
LOCATION:Skillets Bradenton\, 9722 FL-64\, Bradenton\, FL\, 34212\, United States
CATEGORIES:Social
END:VEVENT
BEGIN:VEVENT
DTSTART;TZID=America/New_York:20280805T083000
DTEND;TZID=America/New_York:20280805T083000
DTSTAMP:20260422T132206
CREATED:20230804T145344Z
LAST-MODIFIED:20260106T164740Z
UID:10001045-1849077000-1849077000@suncoastpca.org
SUMMARY:Monthly Breakfast - Bradenton
DESCRIPTION:Come join your fellow Suncoast Porsche Club members and guests for our monthly breakfast at Skillets Restaurant! \nREGISTRATION REQUIRED via ClubReg so Skillet’s Bradenton can provide proper staffing for our group.  \nhttps://clubregistration.net/
URL:https://suncoastpca.org/event/monthly-breakfast-at-skillets-3/2028-08-05/
LOCATION:Skillets Bradenton\, 9722 FL-64\, Bradenton\, FL\, 34212\, United States
CATEGORIES:Social
END:VEVENT
BEGIN:VEVENT
DTSTART;TZID=America/New_York:20280902T083000
DTEND;TZID=America/New_York:20280902T083000
DTSTAMP:20260422T132206
CREATED:20230804T145344Z
LAST-MODIFIED:20260106T164740Z
UID:10001046-1851496200-1851496200@suncoastpca.org
SUMMARY:Monthly Breakfast - Bradenton
DESCRIPTION:Come join your fellow Suncoast Porsche Club members and guests for our monthly breakfast at Skillets Restaurant! \nREGISTRATION REQUIRED via ClubReg so Skillet’s Bradenton can provide proper staffing for our group.  \nhttps://clubregistration.net/
URL:https://suncoastpca.org/event/monthly-breakfast-at-skillets-3/2028-09-02/
LOCATION:Skillets Bradenton\, 9722 FL-64\, Bradenton\, FL\, 34212\, United States
CATEGORIES:Social
END:VEVENT
BEGIN:VEVENT
DTSTART;TZID=America/New_York:20281007T083000
DTEND;TZID=America/New_York:20281007T083000
DTSTAMP:20260422T132206
CREATED:20230804T145344Z
LAST-MODIFIED:20260106T164740Z
UID:10001047-1854520200-1854520200@suncoastpca.org
SUMMARY:Monthly Breakfast - Bradenton
DESCRIPTION:Come join your fellow Suncoast Porsche Club members and guests for our monthly breakfast at Skillets Restaurant! \nREGISTRATION REQUIRED via ClubReg so Skillet’s Bradenton can provide proper staffing for our group.  \nhttps://clubregistration.net/
URL:https://suncoastpca.org/event/monthly-breakfast-at-skillets-3/2028-10-07/
LOCATION:Skillets Bradenton\, 9722 FL-64\, Bradenton\, FL\, 34212\, United States
CATEGORIES:Social
END:VEVENT
BEGIN:VEVENT
DTSTART;TZID=America/New_York:20281104T083000
DTEND;TZID=America/New_York:20281104T083000
DTSTAMP:20260422T132206
CREATED:20230804T145344Z
LAST-MODIFIED:20260106T164740Z
UID:10001048-1856939400-1856939400@suncoastpca.org
SUMMARY:Monthly Breakfast - Bradenton
DESCRIPTION:Come join your fellow Suncoast Porsche Club members and guests for our monthly breakfast at Skillets Restaurant! \nREGISTRATION REQUIRED via ClubReg so Skillet’s Bradenton can provide proper staffing for our group.  \nhttps://clubregistration.net/
URL:https://suncoastpca.org/event/monthly-breakfast-at-skillets-3/2028-11-04/
LOCATION:Skillets Bradenton\, 9722 FL-64\, Bradenton\, FL\, 34212\, United States
CATEGORIES:Social
END:VEVENT
BEGIN:VEVENT
DTSTART;TZID=America/New_York:20281202T083000
DTEND;TZID=America/New_York:20281202T083000
DTSTAMP:20260422T132206
CREATED:20230804T145344Z
LAST-MODIFIED:20260106T164740Z
UID:10001049-1859358600-1859358600@suncoastpca.org
SUMMARY:Monthly Breakfast - Bradenton
DESCRIPTION:Come join your fellow Suncoast Porsche Club members and guests for our monthly breakfast at Skillets Restaurant! \nREGISTRATION REQUIRED via ClubReg so Skillet’s Bradenton can provide proper staffing for our group.  \nhttps://clubregistration.net/
URL:https://suncoastpca.org/event/monthly-breakfast-at-skillets-3/2028-12-02/
LOCATION:Skillets Bradenton\, 9722 FL-64\, Bradenton\, FL\, 34212\, United States
CATEGORIES:Social
END:VEVENT
BEGIN:VEVENT
DTSTART;TZID=America/New_York:20290106T083000
DTEND;TZID=America/New_York:20290106T083000
DTSTAMP:20260422T132206
CREATED:20230804T145344Z
LAST-MODIFIED:20260106T164740Z
UID:10001050-1862382600-1862382600@suncoastpca.org
SUMMARY:Monthly Breakfast - Bradenton
DESCRIPTION:Come join your fellow Suncoast Porsche Club members and guests for our monthly breakfast at Skillets Restaurant! \nREGISTRATION REQUIRED via ClubReg so Skillet’s Bradenton can provide proper staffing for our group.  \nhttps://clubregistration.net/
URL:https://suncoastpca.org/event/monthly-breakfast-at-skillets-3/2029-01-06/
LOCATION:Skillets Bradenton\, 9722 FL-64\, Bradenton\, FL\, 34212\, United States
CATEGORIES:Social
END:VEVENT
BEGIN:VEVENT
DTSTART;TZID=America/New_York:20290203T083000
DTEND;TZID=America/New_York:20290203T083000
DTSTAMP:20260422T132206
CREATED:20230804T145344Z
LAST-MODIFIED:20260106T164740Z
UID:10001051-1864801800-1864801800@suncoastpca.org
SUMMARY:Monthly Breakfast - Bradenton
DESCRIPTION:Come join your fellow Suncoast Porsche Club members and guests for our monthly breakfast at Skillets Restaurant! \nREGISTRATION REQUIRED via ClubReg so Skillet’s Bradenton can provide proper staffing for our group.  \nhttps://clubregistration.net/
URL:https://suncoastpca.org/event/monthly-breakfast-at-skillets-3/2029-02-03/
LOCATION:Skillets Bradenton\, 9722 FL-64\, Bradenton\, FL\, 34212\, United States
CATEGORIES:Social
END:VEVENT
BEGIN:VEVENT
DTSTART;TZID=America/New_York:20290303T083000
DTEND;TZID=America/New_York:20290303T083000
DTSTAMP:20260422T132206
CREATED:20230804T145344Z
LAST-MODIFIED:20260106T164740Z
UID:10001052-1867221000-1867221000@suncoastpca.org
SUMMARY:Monthly Breakfast - Bradenton
DESCRIPTION:Come join your fellow Suncoast Porsche Club members and guests for our monthly breakfast at Skillets Restaurant! \nREGISTRATION REQUIRED via ClubReg so Skillet’s Bradenton can provide proper staffing for our group.  \nhttps://clubregistration.net/
URL:https://suncoastpca.org/event/monthly-breakfast-at-skillets-3/2029-03-03/
LOCATION:Skillets Bradenton\, 9722 FL-64\, Bradenton\, FL\, 34212\, United States
CATEGORIES:Social
END:VEVENT
BEGIN:VEVENT
DTSTART;TZID=America/New_York:20290407T083000
DTEND;TZID=America/New_York:20290407T083000
DTSTAMP:20260422T132206
CREATED:20230804T145344Z
LAST-MODIFIED:20260106T164740Z
UID:10001053-1870245000-1870245000@suncoastpca.org
SUMMARY:Monthly Breakfast - Bradenton
DESCRIPTION:Come join your fellow Suncoast Porsche Club members and guests for our monthly breakfast at Skillets Restaurant! \nREGISTRATION REQUIRED via ClubReg so Skillet’s Bradenton can provide proper staffing for our group.  \nhttps://clubregistration.net/
URL:https://suncoastpca.org/event/monthly-breakfast-at-skillets-3/2029-04-07/
LOCATION:Skillets Bradenton\, 9722 FL-64\, Bradenton\, FL\, 34212\, United States
CATEGORIES:Social
END:VEVENT
BEGIN:VEVENT
DTSTART;TZID=America/New_York:20290505T083000
DTEND;TZID=America/New_York:20290505T083000
DTSTAMP:20260422T132206
CREATED:20230804T145344Z
LAST-MODIFIED:20260106T164740Z
UID:10001054-1872664200-1872664200@suncoastpca.org
SUMMARY:Monthly Breakfast - Bradenton
DESCRIPTION:Come join your fellow Suncoast Porsche Club members and guests for our monthly breakfast at Skillets Restaurant! \nREGISTRATION REQUIRED via ClubReg so Skillet’s Bradenton can provide proper staffing for our group.  \nhttps://clubregistration.net/
URL:https://suncoastpca.org/event/monthly-breakfast-at-skillets-3/2029-05-05/
LOCATION:Skillets Bradenton\, 9722 FL-64\, Bradenton\, FL\, 34212\, United States
CATEGORIES:Social
END:VEVENT
BEGIN:VEVENT
DTSTART;TZID=America/New_York:20290602T083000
DTEND;TZID=America/New_York:20290602T083000
DTSTAMP:20260422T132206
CREATED:20230804T145344Z
LAST-MODIFIED:20260106T164740Z
UID:10001093-1875083400-1875083400@suncoastpca.org
SUMMARY:Monthly Breakfast - Bradenton
DESCRIPTION:Come join your fellow Suncoast Porsche Club members and guests for our monthly breakfast at Skillets Restaurant! \nREGISTRATION REQUIRED via ClubReg so Skillet’s Bradenton can provide proper staffing for our group.  \nhttps://clubregistration.net/
URL:https://suncoastpca.org/event/monthly-breakfast-at-skillets-3/2029-06-02/
LOCATION:Skillets Bradenton\, 9722 FL-64\, Bradenton\, FL\, 34212\, United States
CATEGORIES:Social
END:VEVENT
BEGIN:VEVENT
DTSTART;TZID=America/New_York:20290707T083000
DTEND;TZID=America/New_York:20290707T083000
DTSTAMP:20260422T132206
CREATED:20230804T145344Z
LAST-MODIFIED:20260106T164740Z
UID:10001094-1878107400-1878107400@suncoastpca.org
SUMMARY:Monthly Breakfast - Bradenton
DESCRIPTION:Come join your fellow Suncoast Porsche Club members and guests for our monthly breakfast at Skillets Restaurant! \nREGISTRATION REQUIRED via ClubReg so Skillet’s Bradenton can provide proper staffing for our group.  \nhttps://clubregistration.net/
URL:https://suncoastpca.org/event/monthly-breakfast-at-skillets-3/2029-07-07/
LOCATION:Skillets Bradenton\, 9722 FL-64\, Bradenton\, FL\, 34212\, United States
CATEGORIES:Social
END:VEVENT
BEGIN:VEVENT
DTSTART;TZID=America/New_York:20290804T083000
DTEND;TZID=America/New_York:20290804T083000
DTSTAMP:20260422T132206
CREATED:20230804T145344Z
LAST-MODIFIED:20260106T164740Z
UID:10001095-1880526600-1880526600@suncoastpca.org
SUMMARY:Monthly Breakfast - Bradenton
DESCRIPTION:Come join your fellow Suncoast Porsche Club members and guests for our monthly breakfast at Skillets Restaurant! \nREGISTRATION REQUIRED via ClubReg so Skillet’s Bradenton can provide proper staffing for our group.  \nhttps://clubregistration.net/
URL:https://suncoastpca.org/event/monthly-breakfast-at-skillets-3/2029-08-04/
LOCATION:Skillets Bradenton\, 9722 FL-64\, Bradenton\, FL\, 34212\, United States
CATEGORIES:Social
END:VEVENT
END:VCALENDAR