BEGIN:VCALENDAR
VERSION:2.0
PRODID:-//Suncoast Florida Region - PCA - ECPv6.15.20//NONSGML v1.0//EN
CALSCALE:GREGORIAN
METHOD:PUBLISH
X-ORIGINAL-URL:https://suncoastpca.org
X-WR-CALDESC:Events for Suncoast Florida Region - PCA
REFRESH-INTERVAL;VALUE=DURATION:PT1H
X-Robots-Tag:noindex
X-PUBLISHED-TTL:PT1H
BEGIN:VTIMEZONE
TZID:America/New_York
BEGIN:DAYLIGHT
TZOFFSETFROM:-0500
TZOFFSETTO:-0400
TZNAME:EDT
DTSTART:20150308T070000
END:DAYLIGHT
BEGIN:STANDARD
TZOFFSETFROM:-0400
TZOFFSETTO:-0500
TZNAME:EST
DTSTART:20151101T060000
END:STANDARD
BEGIN:DAYLIGHT
TZOFFSETFROM:-0500
TZOFFSETTO:-0400
TZNAME:EDT
DTSTART:20160313T070000
END:DAYLIGHT
BEGIN:STANDARD
TZOFFSETFROM:-0400
TZOFFSETTO:-0500
TZNAME:EST
DTSTART:20161106T060000
END:STANDARD
BEGIN:DAYLIGHT
TZOFFSETFROM:-0500
TZOFFSETTO:-0400
TZNAME:EDT
DTSTART:20170312T070000
END:DAYLIGHT
BEGIN:STANDARD
TZOFFSETFROM:-0400
TZOFFSETTO:-0500
TZNAME:EST
DTSTART:20171105T060000
END:STANDARD
BEGIN:DAYLIGHT
TZOFFSETFROM:-0500
TZOFFSETTO:-0400
TZNAME:EDT
DTSTART:20180311T070000
END:DAYLIGHT
BEGIN:STANDARD
TZOFFSETFROM:-0400
TZOFFSETTO:-0500
TZNAME:EST
DTSTART:20181104T060000
END:STANDARD
BEGIN:DAYLIGHT
TZOFFSETFROM:-0500
TZOFFSETTO:-0400
TZNAME:EDT
DTSTART:20190310T070000
END:DAYLIGHT
BEGIN:STANDARD
TZOFFSETFROM:-0400
TZOFFSETTO:-0500
TZNAME:EST
DTSTART:20191103T060000
END:STANDARD
END:VTIMEZONE
BEGIN:VEVENT
DTSTART;TZID=America/New_York:20180422T080000
DTEND;TZID=America/New_York:20180422T153000
DTSTAMP:20260422T163946
CREATED:20171203T042338Z
LAST-MODIFIED:20180327T190845Z
UID:10000632-1524384000-1524411000@suncoastpca.org
SUMMARY:Autocross - Showtime Speedway
DESCRIPTION:Need help with creating an account on ClubReg? Click here. 
URL:https://suncoastpca.org/event/autocross-t-b-a/
LOCATION:Showtime Speedway\, 4200 126th Ave N\, Clearwater\, FL\, 33762\, United States
CATEGORIES:Autocross
GEO:27.8864845;-82.6912485
X-APPLE-STRUCTURED-LOCATION;VALUE=URI;X-ADDRESS=Showtime Speedway 4200 126th Ave N Clearwater FL 33762 United States;X-APPLE-RADIUS=500;X-TITLE=4200 126th Ave N:geo:-82.6912485,27.8864845
END:VEVENT
BEGIN:VEVENT
DTSTART;TZID=America/New_York:20170423T090000
DTEND;TZID=America/New_York:20170423T170000
DTSTAMP:20260422T163946
CREATED:20170212T182629Z
LAST-MODIFIED:20170422T164114Z
UID:10000610-1492938000-1492966800@suncoastpca.org
SUMMARY:April Autocross - Showtime Speedway
DESCRIPTION:April Autocross #4 at Showtime Speedway sponsored by Bert Smith Porsche \nWe will be autocrossing on the banked oval. \nRegistration and tech inspection 9am – 9:45am.  Novice course walk at 9:45am followed by drivers’ meeting. \nSnell 2010 helmet or newer required\, loaners available.   Please register on-line at clubregistration.net by Wednesday\, April 19th.  Lunch will be provided.  Non-Porsche vehicles are welcome.  Non-member registrations will be limited to 20\, and the event will be capped to 54 entrants total. \nCost is $30 for PCA and BMWCCA members\, $40 for non-members\, to be paid on-line. \nHere is a preliminary course map. \n\nBig thanks to Bert Smith for their support of our event! \n\nDirections:\nTake I-275 to Exit 30\, 118th Ave N in St. Petersburg\n \nKeep left at the fork\, follow signs for County Road 296/U.S. 19 and merge onto 118th Ave N \nTurn right onto 44th St N \nTurn right onto 126th Ave N and you will see the gate immediately ahead \n\n\nShowtime Speedway\n4200 126th Ave N \nClearwater\, FL 33762
URL:https://suncoastpca.org/event/april-autocross-showtime-speedway-2/
LOCATION:Showtime Speedway\, 4200 126th Ave N\, Clearwater\, FL\, 33762\, United States
CATEGORIES:Autocross
ORGANIZER;CN="Brian West":MAILTO:bwfst84@gmail.com
GEO:27.8864845;-82.6912485
X-APPLE-STRUCTURED-LOCATION;VALUE=URI;X-ADDRESS=Showtime Speedway 4200 126th Ave N Clearwater FL 33762 United States;X-APPLE-RADIUS=500;X-TITLE=4200 126th Ave N:geo:-82.6912485,27.8864845
END:VEVENT
BEGIN:VEVENT
DTSTART;TZID=America/New_York:20160424T090000
DTEND;TZID=America/New_York:20160424T170000
DTSTAMP:20260422T163946
CREATED:20151209T232452Z
LAST-MODIFIED:20160423T170015Z
UID:10000560-1461488400-1461517200@suncoastpca.org
SUMMARY:April Autocross - Showtime Speedway
DESCRIPTION:April Autocross #4 at Showtime Speedway – Sponsored by Bert Smith Porsche \nWe will be autocrossing on the banked oval located past the drag strip. \nThank you to Bert Smith Porsche for their generous sponsorship of this event. \nRegistration and tech inspection 9am – 9:45am.  Novice course walk at 9:45am followed by drivers’ meeting. \nSnell 2005 helmet or newer required\, loaners available.   Please register on-line at clubregistration.net by Wednesday\, April 20th.  Lunch will be provided.  Non-Porsche vehicles are welcome.  Non-member registrations will be limited to 20\, and the event will be capped to 54 entrants total. \nCost is $30 for PCA and BMWCCA members\, $40 for non-members\, to be paid on-line. \n\nHere is a link to the course map:  Course Map 4-24-16 \n\nDirections:\nTake I-275 to Exit 30\, 118th Ave N in St. Petersburg\n \nKeep left at the fork\, follow signs for County Road 296/U.S. 19 and merge onto 118th Ave N \nTurn right onto 44th St N \nTurn right onto 126th Ave N and you will see the gate immediately ahead \n\n\nShowtime Speedway\n4200 126th Ave N \nClearwater\, FL 33762 \n 
URL:https://suncoastpca.org/event/april-autocross-showtime-speedway/
LOCATION:Showtime Speedway\, 4200 126th Ave N\, Clearwater\, FL\, 33762\, United States
CATEGORIES:Autocross
ORGANIZER;CN="Brian West":MAILTO:bwfst84@gmail.com
GEO:27.8864845;-82.6912485
X-APPLE-STRUCTURED-LOCATION;VALUE=URI;X-ADDRESS=Showtime Speedway 4200 126th Ave N Clearwater FL 33762 United States;X-APPLE-RADIUS=500;X-TITLE=4200 126th Ave N:geo:-82.6912485,27.8864845
END:VEVENT
END:VCALENDAR