BEGIN:VCALENDAR
VERSION:2.0
PRODID:-//Suncoast Florida Region - PCA - ECPv6.15.20//NONSGML v1.0//EN
CALSCALE:GREGORIAN
METHOD:PUBLISH
X-WR-CALNAME:Suncoast Florida Region - PCA
X-ORIGINAL-URL:https://suncoastpca.org
X-WR-CALDESC:Events for Suncoast Florida Region - PCA
REFRESH-INTERVAL;VALUE=DURATION:PT1H
X-Robots-Tag:noindex
X-PUBLISHED-TTL:PT1H
BEGIN:VTIMEZONE
TZID:America/New_York
BEGIN:DAYLIGHT
TZOFFSETFROM:-0500
TZOFFSETTO:-0400
TZNAME:EDT
DTSTART:20150308T070000
END:DAYLIGHT
BEGIN:STANDARD
TZOFFSETFROM:-0400
TZOFFSETTO:-0500
TZNAME:EST
DTSTART:20151101T060000
END:STANDARD
BEGIN:DAYLIGHT
TZOFFSETFROM:-0500
TZOFFSETTO:-0400
TZNAME:EDT
DTSTART:20160313T070000
END:DAYLIGHT
BEGIN:STANDARD
TZOFFSETFROM:-0400
TZOFFSETTO:-0500
TZNAME:EST
DTSTART:20161106T060000
END:STANDARD
BEGIN:DAYLIGHT
TZOFFSETFROM:-0500
TZOFFSETTO:-0400
TZNAME:EDT
DTSTART:20170312T070000
END:DAYLIGHT
BEGIN:STANDARD
TZOFFSETFROM:-0400
TZOFFSETTO:-0500
TZNAME:EST
DTSTART:20171105T060000
END:STANDARD
END:VTIMEZONE
BEGIN:VEVENT
DTSTART;TZID=America/New_York:20160821T090000
DTEND;TZID=America/New_York:20160821T170000
DTSTAMP:20260422T181330
CREATED:20151209T234410Z
LAST-MODIFIED:20160712T011405Z
UID:10000562-1471770000-1471798800@suncoastpca.org
SUMMARY:August Autocross - Sarasota Technical College
DESCRIPTION:August Autocross #6 – Sarasota Technical College – Non-points event \nThis is a free\, PCA members-only event\, sponsored by Suncoast Porsche\, located at our newest autocross site. Up to 50 registrants will be accepted into either autocross instructor\, autocross “rookie”\, or autocross helper categories. Pre-registration on clubregistration.net is required on or before Thursday\, 18 AUG 2016. \nPlease arrive between 9a and 9:30a for sign-in and tech inspection. \nEach rookie will be paired with an instructor for one-on-one morning practice on typical autocross maneuvers. Autocross helpers will assist with running the morning session. Following morning instruction lunch will be provided by Suncoast Porsche\, then a normal autocross will be held in the afternoon. Anyone who wishes to sign-up as rookie may do so.  If you are an experienced autocrosser but not a Suncoast PCA autocross instructor\, please register as an autocross helper. \nA Snell 2005 helmet or newer is required and loaner helmets will be available. \nSchedule of events: \n9a – 9:45a – registration and tech inspection\n9:45a – 10a – Instructors meeting\, rookies to cars\n10a – 11a – rookie drills first session (all rookies drive)\n11a – 12p – rookie drills second session (rookies switch to opposite drill)\n12p – 12:45p – lunch\n12:45p – Drivers’ meeting\n1p – 2:15p – A group drives\, B group works\n2:15p – 3:30p – B group drives\, A group works\n3:30p – awards \nSarasota Technical College\n4748 Beneva Road\nSarasota\, FL 34233 \nDirections: \nTake I-75 from the north or south to Sarasota Exit 207 Bee Ridge Rd\nHead west on Bee Ridge Rd about 3 miles to S Beneva Rd\nTake a left on S Beneva Rd and travel about 0.9 miles to Sarasota Technical College\, on the right \n  \n 
URL:https://suncoastpca.org/event/august-autocross-sarasota-technical-college/
LOCATION:Sarasota Technical College\, 4748 Beneva Road\, Sarasota\, FL\, 34233\, United States
CATEGORIES:Autocross
ORGANIZER;CN="Brian West":MAILTO:bwfst84@gmail.com
GEO:27.2858037;-82.4993562
X-APPLE-STRUCTURED-LOCATION;VALUE=URI;X-ADDRESS=Sarasota Technical College 4748 Beneva Road Sarasota FL 34233 United States;X-APPLE-RADIUS=500;X-TITLE=4748 Beneva Road:geo:-82.4993562,27.2858037
END:VEVENT
END:VCALENDAR