BEGIN:VCALENDAR
VERSION:2.0
PRODID:-//Suncoast Florida Region - PCA - ECPv6.15.20//NONSGML v1.0//EN
CALSCALE:GREGORIAN
METHOD:PUBLISH
X-WR-CALNAME:Suncoast Florida Region - PCA
X-ORIGINAL-URL:https://suncoastpca.org
X-WR-CALDESC:Events for Suncoast Florida Region - PCA
REFRESH-INTERVAL;VALUE=DURATION:PT1H
X-Robots-Tag:noindex
X-PUBLISHED-TTL:PT1H
BEGIN:VTIMEZONE
TZID:America/New_York
BEGIN:DAYLIGHT
TZOFFSETFROM:-0500
TZOFFSETTO:-0400
TZNAME:EDT
DTSTART:20240310T070000
END:DAYLIGHT
BEGIN:STANDARD
TZOFFSETFROM:-0400
TZOFFSETTO:-0500
TZNAME:EST
DTSTART:20241103T060000
END:STANDARD
BEGIN:DAYLIGHT
TZOFFSETFROM:-0500
TZOFFSETTO:-0400
TZNAME:EDT
DTSTART:20250309T070000
END:DAYLIGHT
BEGIN:STANDARD
TZOFFSETFROM:-0400
TZOFFSETTO:-0500
TZNAME:EST
DTSTART:20251102T060000
END:STANDARD
BEGIN:DAYLIGHT
TZOFFSETFROM:-0500
TZOFFSETTO:-0400
TZNAME:EDT
DTSTART:20260308T070000
END:DAYLIGHT
BEGIN:STANDARD
TZOFFSETFROM:-0400
TZOFFSETTO:-0500
TZNAME:EST
DTSTART:20261101T060000
END:STANDARD
END:VTIMEZONE
BEGIN:VEVENT
DTSTART;TZID=America/New_York:20250323T093000
DTEND;TZID=America/New_York:20250323T140000
DTSTAMP:20260422T195548
CREATED:20250225T124710Z
LAST-MODIFIED:20250225T124710Z
UID:10001169-1742722200-1742738400@suncoastpca.org
SUMMARY:Back Roads Tour to Sunday Brunch
DESCRIPTION:Our tour will start at San Antonio City Park at 9:30 am on March 23 and take us to the Mission Inn in Howey-in-the Hills where we’ll have Sunday Brunch. Cost of the Brunch is $54.00 per person payable to the restaurant. Brunch hours are 11 am to 2 pm\, so you’ll have plenty of time to enjoy your meal. A reservation has been made for 20 people.\nWhile the tour ends at the Inn\, you may choose to explore the area further on your own\, perhaps taking a side trip to Mt Dora\, always a popular destination. \nRegister here: https://clubregistration.net/events/event-details.cfm?event_id=15589
URL:https://suncoastpca.org/event/back-roads-tour-to-sunday-brunch/
LOCATION:San Antonio City Park\, San Antonio\, 33576\, United States
CATEGORIES:Other
END:VEVENT
END:VCALENDAR