BEGIN:VCALENDAR
VERSION:2.0
PRODID:-//Suncoast Florida Region - PCA - ECPv6.15.20//NONSGML v1.0//EN
CALSCALE:GREGORIAN
METHOD:PUBLISH
X-ORIGINAL-URL:https://suncoastpca.org
X-WR-CALDESC:Events for Suncoast Florida Region - PCA
REFRESH-INTERVAL;VALUE=DURATION:PT1H
X-Robots-Tag:noindex
X-PUBLISHED-TTL:PT1H
BEGIN:VTIMEZONE
TZID:America/New_York
BEGIN:DAYLIGHT
TZOFFSETFROM:-0500
TZOFFSETTO:-0400
TZNAME:EDT
DTSTART:20220313T070000
END:DAYLIGHT
BEGIN:STANDARD
TZOFFSETFROM:-0400
TZOFFSETTO:-0500
TZNAME:EST
DTSTART:20221106T060000
END:STANDARD
BEGIN:DAYLIGHT
TZOFFSETFROM:-0500
TZOFFSETTO:-0400
TZNAME:EDT
DTSTART:20230312T070000
END:DAYLIGHT
BEGIN:STANDARD
TZOFFSETFROM:-0400
TZOFFSETTO:-0500
TZNAME:EST
DTSTART:20231105T060000
END:STANDARD
BEGIN:DAYLIGHT
TZOFFSETFROM:-0500
TZOFFSETTO:-0400
TZNAME:EDT
DTSTART:20240310T070000
END:DAYLIGHT
BEGIN:STANDARD
TZOFFSETFROM:-0400
TZOFFSETTO:-0500
TZNAME:EST
DTSTART:20241103T060000
END:STANDARD
END:VTIMEZONE
BEGIN:VEVENT
DTSTART;TZID=America/New_York:20230815T170000
DTEND;TZID=America/New_York:20230815T210000
DTSTAMP:20260423T004314
CREATED:20230805T184537Z
LAST-MODIFIED:20230805T184537Z
UID:10000951-1692118800-1692133200@suncoastpca.org
SUMMARY:Date Your Porsche Night
DESCRIPTION:Come and join your fellow Suncoast Porsche Club members and guests for Dinner at Rock and Brews!\n*The parking lot will be sectioned off so all members can park together! Arrive starting at 5pm to view the beautiful cars and chat; head inside for dinner at 6pm \nLocated at 26000 State Road 56 W\, Lutz\, FL.\nFull menu will be available and can be viewed on their website. \nREGISTRATION IS REQUIRED to ensure proper staffing. Food and beverage will be covered by the individual.\nWe look forward to seeing you there! \nhttps://clubregistration.net/events/event-details.cfm?event_id=13717
URL:https://suncoastpca.org/event/date-your-porsche-night-61/
LOCATION:Rock And Brews\, 26000 State Rd 56 W\, Lutz\, FL\, 33559\, United States
CATEGORIES:Social
END:VEVENT
BEGIN:VEVENT
DTSTART;TZID=America/New_York:20230215T170000
DTEND;TZID=America/New_York:20230215T203000
DTSTAMP:20260423T004314
CREATED:20230206T182752Z
LAST-MODIFIED:20230206T182752Z
UID:10000880-1676480400-1676493000@suncoastpca.org
SUMMARY:Date Your Porsche Night
DESCRIPTION:Hello PCA family – for those in northern Hillsborough\, Pinellas\, Pasco\, Hernando – or just close to I-75\, we are kicking off a new Date your Porsche venue at Rock & Brews at SR56/I-75! If this is successful\, we will continue to book the venue. We are asking about future availability for a Sunday Brunch event as well. Please pre-register so the restaurant is prepared for proper staffing. We hope to see you there! Pass the word to other Porsche friends! \nhttps://clubregistration.net/events/event-details.cfm?event_id=13168
URL:https://suncoastpca.org/event/date-your-porsche-night-56/
LOCATION:Rock And Brews\, 26000 State Rd 56 W\, Lutz\, FL\, 33559\, United States
CATEGORIES:Social
END:VEVENT
END:VCALENDAR