BEGIN:VCALENDAR
VERSION:2.0
PRODID:-//Suncoast Florida Region - PCA - ECPv6.15.20//NONSGML v1.0//EN
CALSCALE:GREGORIAN
METHOD:PUBLISH
X-WR-CALNAME:Suncoast Florida Region - PCA
X-ORIGINAL-URL:https://suncoastpca.org
X-WR-CALDESC:Events for Suncoast Florida Region - PCA
REFRESH-INTERVAL;VALUE=DURATION:PT1H
X-Robots-Tag:noindex
X-PUBLISHED-TTL:PT1H
BEGIN:VTIMEZONE
TZID:America/New_York
BEGIN:DAYLIGHT
TZOFFSETFROM:-0500
TZOFFSETTO:-0400
TZNAME:EDT
DTSTART:20170312T070000
END:DAYLIGHT
BEGIN:STANDARD
TZOFFSETFROM:-0400
TZOFFSETTO:-0500
TZNAME:EST
DTSTART:20171105T060000
END:STANDARD
BEGIN:DAYLIGHT
TZOFFSETFROM:-0500
TZOFFSETTO:-0400
TZNAME:EDT
DTSTART:20180311T070000
END:DAYLIGHT
BEGIN:STANDARD
TZOFFSETFROM:-0400
TZOFFSETTO:-0500
TZNAME:EST
DTSTART:20181104T060000
END:STANDARD
BEGIN:DAYLIGHT
TZOFFSETFROM:-0500
TZOFFSETTO:-0400
TZNAME:EDT
DTSTART:20190310T070000
END:DAYLIGHT
BEGIN:STANDARD
TZOFFSETFROM:-0400
TZOFFSETTO:-0500
TZNAME:EST
DTSTART:20191103T060000
END:STANDARD
END:VTIMEZONE
BEGIN:VEVENT
DTSTART;TZID=America/New_York:20180601T150000
DTEND;TZID=America/New_York:20180601T170000
DTSTAMP:20260422T234458
CREATED:20180509T234152Z
LAST-MODIFIED:20180510T001117Z
UID:10000656-1527865200-1527872400@suncoastpca.org
SUMMARY:Revs Institute Private Tour
DESCRIPTION:Our private tour will be from 3 pm to 5 pm- You will need to be at Rev’s Institute at 2:45 pm to purchase your Docent Tour ticket\, price per person is $23. Registration will close on Tuesday\, May 22 so the Institute can arrange for the correct number of Docents to lead our group. \nInformation on the Revs Institute: The Revs Institute is honored to house the prestigious Collier Collection. This revered archive of original papers\, registers and corporate records correspond with many of the automobiles featured in the museum. Included are a venerable trove of original letters\, diaries\, scrapbooks\, photo albums\, engineering drawings and corporate documents amassed from individuals and organizations that have left their track marks in automotive history and the pageant of motor sport. \nRacing aficionados and scholars alike will appreciate the collection’s unique window into the world of motor racing spanning from the 1930’s to the 1950’s. Documents and photographs procured at Le Mans\, Grand Prix Racing at Watkins Glen and other courses provide an uncommon historical record of the evolution of motor sports. \nThis collection of rare documents and memorabilia was generously provided by The Collier Family Collection on behalf of Collier brothers C. Miles\, Sam and Barron in partnership with Briggs Cunningham. \nAdditional information on this amazing collection is available at https://revsinstitute.org.  During the June visit\, you’ll be able to see the new exhibit\, Duntov’s Stealth Fighters.  The Miles Collier Collection’s 1964 Corvette Grand Sport will be displayed opposite the unique 1957 Corvette SS on loan from the Indianapolis Motor Speedway Museum. Both flaunt the sheer exuberance that has made the Corvette a car apart. \nSign up on ClubReg: https://clubregistration.net/events/signUp.cfm/event/9099
URL:https://suncoastpca.org/event/revs-institute-private-tour/
LOCATION:Rev’s Institute\, 2500 Horseshoe Dr S\, Naples\, FL\, 34104\, United States
CATEGORIES:Social
GEO:26.162382;-81.7764
X-APPLE-STRUCTURED-LOCATION;VALUE=URI;X-ADDRESS=Rev’s Institute 2500 Horseshoe Dr S Naples FL 34104 United States;X-APPLE-RADIUS=500;X-TITLE=2500 Horseshoe Dr S:geo:-81.7764,26.162382
END:VEVENT
END:VCALENDAR