BEGIN:VCALENDAR
VERSION:2.0
PRODID:-//Suncoast Florida Region - PCA - ECPv6.15.20//NONSGML v1.0//EN
CALSCALE:GREGORIAN
METHOD:PUBLISH
X-ORIGINAL-URL:https://suncoastpca.org
X-WR-CALDESC:Events for Suncoast Florida Region - PCA
REFRESH-INTERVAL;VALUE=DURATION:PT1H
X-Robots-Tag:noindex
X-PUBLISHED-TTL:PT1H
BEGIN:VTIMEZONE
TZID:America/New_York
BEGIN:DAYLIGHT
TZOFFSETFROM:-0500
TZOFFSETTO:-0400
TZNAME:EDT
DTSTART:20160313T070000
END:DAYLIGHT
BEGIN:STANDARD
TZOFFSETFROM:-0400
TZOFFSETTO:-0500
TZNAME:EST
DTSTART:20161106T060000
END:STANDARD
BEGIN:DAYLIGHT
TZOFFSETFROM:-0500
TZOFFSETTO:-0400
TZNAME:EDT
DTSTART:20170312T070000
END:DAYLIGHT
BEGIN:STANDARD
TZOFFSETFROM:-0400
TZOFFSETTO:-0500
TZNAME:EST
DTSTART:20171105T060000
END:STANDARD
BEGIN:DAYLIGHT
TZOFFSETFROM:-0500
TZOFFSETTO:-0400
TZNAME:EDT
DTSTART:20180311T070000
END:DAYLIGHT
BEGIN:STANDARD
TZOFFSETFROM:-0400
TZOFFSETTO:-0500
TZNAME:EST
DTSTART:20181104T060000
END:STANDARD
END:VTIMEZONE
BEGIN:VTIMEZONE
TZID:UTC
BEGIN:STANDARD
TZOFFSETFROM:+0000
TZOFFSETTO:+0000
TZNAME:UTC
DTSTART:20130101T000000
END:STANDARD
END:VTIMEZONE
BEGIN:VEVENT
DTSTART;TZID=America/New_York:20171012T190000
DTEND;TZID=America/New_York:20171012T190000
DTSTAMP:20260422T203955
CREATED:20170731T003606Z
LAST-MODIFIED:20170731T003606Z
UID:10000617-1507834800-1507834800@suncoastpca.org
SUMMARY:Social at Reeves
DESCRIPTION:7pm social at Reeves Auto Motorcars located at 11333 North Florida Avenue in Tampa. Come enjoy the evening with club members and friends at Reeves Auto Motorcars. Space is limited and you must RSVP to attend! RSVP missyteasley@aol.com \nThank you very much Reeves for entertaining the Suncoast Porsche Group!
URL:https://suncoastpca.org/event/social-at-reeves/
LOCATION:Reeves Import Motorcars\, 11333 N Florida Ave\, Tampa\, FL\, 33612\, United States
CATEGORIES:Social
ORGANIZER;CN="Missy Teasley":MAILTO:missyteasley@aol.com
GEO:28.052526;-82.458316
X-APPLE-STRUCTURED-LOCATION;VALUE=URI;X-ADDRESS=Reeves Import Motorcars 11333 N Florida Ave Tampa FL 33612 United States;X-APPLE-RADIUS=500;X-TITLE=11333 N Florida Ave:geo:-82.458316,28.052526
END:VEVENT
BEGIN:VEVENT
DTSTART;TZID=UTC:20140416T190000
DTEND;TZID=UTC:20140416T220000
DTSTAMP:20260422T203955
CREATED:20131110T200551Z
LAST-MODIFIED:20140328T194846Z
UID:10000460-1397674800-1397685600@suncoastpca.org
SUMMARY:Dealer Social
DESCRIPTION:Reeves Import Motorcars
URL:https://suncoastpca.org/event/dealer-social/
LOCATION:Reeves Import Motorcars\, 11333 N Florida Ave\, Tampa\, FL\, 33612\, United States
CATEGORIES:Social
GEO:28.052526;-82.458316
X-APPLE-STRUCTURED-LOCATION;VALUE=URI;X-ADDRESS=Reeves Import Motorcars 11333 N Florida Ave Tampa FL 33612 United States;X-APPLE-RADIUS=500;X-TITLE=11333 N Florida Ave:geo:-82.458316,28.052526
END:VEVENT
END:VCALENDAR