BEGIN:VCALENDAR
VERSION:2.0
PRODID:-//Suncoast Florida Region - PCA - ECPv6.15.20//NONSGML v1.0//EN
CALSCALE:GREGORIAN
METHOD:PUBLISH
X-ORIGINAL-URL:https://suncoastpca.org
X-WR-CALDESC:Events for Suncoast Florida Region - PCA
REFRESH-INTERVAL;VALUE=DURATION:PT1H
X-Robots-Tag:noindex
X-PUBLISHED-TTL:PT1H
BEGIN:VTIMEZONE
TZID:America/New_York
BEGIN:DAYLIGHT
TZOFFSETFROM:-0500
TZOFFSETTO:-0400
TZNAME:EDT
DTSTART:20180311T070000
END:DAYLIGHT
BEGIN:STANDARD
TZOFFSETFROM:-0400
TZOFFSETTO:-0500
TZNAME:EST
DTSTART:20181104T060000
END:STANDARD
BEGIN:DAYLIGHT
TZOFFSETFROM:-0500
TZOFFSETTO:-0400
TZNAME:EDT
DTSTART:20190310T070000
END:DAYLIGHT
BEGIN:STANDARD
TZOFFSETFROM:-0400
TZOFFSETTO:-0500
TZNAME:EST
DTSTART:20191103T060000
END:STANDARD
BEGIN:DAYLIGHT
TZOFFSETFROM:-0500
TZOFFSETTO:-0400
TZNAME:EDT
DTSTART:20200308T070000
END:DAYLIGHT
BEGIN:STANDARD
TZOFFSETFROM:-0400
TZOFFSETTO:-0500
TZNAME:EST
DTSTART:20201101T060000
END:STANDARD
END:VTIMEZONE
BEGIN:VEVENT
DTSTART;TZID=America/New_York:20190417T180000
DTEND;TZID=America/New_York:20190417T180000
DTSTAMP:20260422T232258
CREATED:20190316T142211Z
LAST-MODIFIED:20190316T142349Z
UID:10000692-1555524000-1555524000@suncoastpca.org
SUMMARY:Date Your Porsche Night
DESCRIPTION:Come check out our northern Date Your Porsche Night at the R Beach Restaurant in Hernando Beach hosted by Kim Cottrell! This restaurant has been rated well with an accommodating chef (if you have allergy problems) and staff\, great foods for all palates with a laid back vibe and an El Greco salad that I am going to have to check out. \nPreregistration is required at ClubReg: DYPN R Beach Restaurant
URL:https://suncoastpca.org/event/date-your-porsche-night-39/
LOCATION:R Beach Restaurant\, 4054 Shoal Line Blvd.\, Hernando Beach\, FL\, 34607\, United States
CATEGORIES:Social
END:VEVENT
END:VCALENDAR