BEGIN:VCALENDAR
VERSION:2.0
PRODID:-//Suncoast Florida Region - PCA - ECPv6.15.20//NONSGML v1.0//EN
CALSCALE:GREGORIAN
METHOD:PUBLISH
X-WR-CALNAME:Suncoast Florida Region - PCA
X-ORIGINAL-URL:https://suncoastpca.org
X-WR-CALDESC:Events for Suncoast Florida Region - PCA
REFRESH-INTERVAL;VALUE=DURATION:PT1H
X-Robots-Tag:noindex
X-PUBLISHED-TTL:PT1H
BEGIN:VTIMEZONE
TZID:America/New_York
BEGIN:DAYLIGHT
TZOFFSETFROM:-0500
TZOFFSETTO:-0400
TZNAME:EDT
DTSTART:20150308T070000
END:DAYLIGHT
BEGIN:STANDARD
TZOFFSETFROM:-0400
TZOFFSETTO:-0500
TZNAME:EST
DTSTART:20151101T060000
END:STANDARD
BEGIN:DAYLIGHT
TZOFFSETFROM:-0500
TZOFFSETTO:-0400
TZNAME:EDT
DTSTART:20160313T070000
END:DAYLIGHT
BEGIN:STANDARD
TZOFFSETFROM:-0400
TZOFFSETTO:-0500
TZNAME:EST
DTSTART:20161106T060000
END:STANDARD
BEGIN:DAYLIGHT
TZOFFSETFROM:-0500
TZOFFSETTO:-0400
TZNAME:EDT
DTSTART:20170312T070000
END:DAYLIGHT
BEGIN:STANDARD
TZOFFSETFROM:-0400
TZOFFSETTO:-0500
TZNAME:EST
DTSTART:20171105T060000
END:STANDARD
BEGIN:DAYLIGHT
TZOFFSETFROM:-0500
TZOFFSETTO:-0400
TZNAME:EDT
DTSTART:20180311T070000
END:DAYLIGHT
BEGIN:STANDARD
TZOFFSETFROM:-0400
TZOFFSETTO:-0500
TZNAME:EST
DTSTART:20181104T060000
END:STANDARD
BEGIN:DAYLIGHT
TZOFFSETFROM:-0500
TZOFFSETTO:-0400
TZNAME:EDT
DTSTART:20190310T070000
END:DAYLIGHT
BEGIN:STANDARD
TZOFFSETFROM:-0400
TZOFFSETTO:-0500
TZNAME:EST
DTSTART:20191103T060000
END:STANDARD
END:VTIMEZONE
BEGIN:VEVENT
DTSTART;TZID=America/New_York:20180822T180000
DTEND;TZID=America/New_York:20180822T180000
DTSTAMP:20260422T191303
CREATED:20180817T200232Z
LAST-MODIFIED:20180817T200251Z
UID:10000660-1534960800-1534960800@suncoastpca.org
SUMMARY:Date Your Porsche Night
DESCRIPTION:Join us for an evening with fellow Suncoast PCA members at Pier 22 in Bradenton on Wednesday\, August 22nd. The evening will begin around 6:00 p.m. Dinner and drinks on your own. Additional details will be added when available. \nhttps://clubregistration.net/events/event-details.cfm?event_id=9161
URL:https://suncoastpca.org/event/date-your-porsche-night-35/
LOCATION:Pier 22\, 1200 1st Avenue West\, Bradenton\, FL\, 34205\, United States
CATEGORIES:Social
GEO:27.5004795;-82.5735308
X-APPLE-STRUCTURED-LOCATION;VALUE=URI;X-ADDRESS=Pier 22 1200 1st Avenue West Bradenton FL 34205 United States;X-APPLE-RADIUS=500;X-TITLE=1200 1st Avenue West:geo:-82.5735308,27.5004795
END:VEVENT
BEGIN:VEVENT
DTSTART;TZID=America/New_York:20160224T190000
DTEND;TZID=America/New_York:20160224T220000
DTSTAMP:20260422T191303
CREATED:20160128T143515Z
LAST-MODIFIED:20160128T194639Z
UID:10000568-1456340400-1456351200@suncoastpca.org
SUMMARY:Date Your Porsche Night
DESCRIPTION:Come enjoy the view and the delicious offerings  at the newly redecorated Pier 22. \nRSVP missyteasley@aol.com  by February 19.
URL:https://suncoastpca.org/event/date-your-porsche-night-13/
LOCATION:Pier 22\, 1200 1st Avenue West\, Bradenton\, FL\, 34205\, United States
CATEGORIES:Social
ORGANIZER;CN="Missy Teasley":MAILTO:missyteasley@aol.com
GEO:27.5004795;-82.5735308
X-APPLE-STRUCTURED-LOCATION;VALUE=URI;X-ADDRESS=Pier 22 1200 1st Avenue West Bradenton FL 34205 United States;X-APPLE-RADIUS=500;X-TITLE=1200 1st Avenue West:geo:-82.5735308,27.5004795
END:VEVENT
END:VCALENDAR