BEGIN:VCALENDAR
VERSION:2.0
PRODID:-//Suncoast Florida Region - PCA - ECPv6.15.20//NONSGML v1.0//EN
CALSCALE:GREGORIAN
METHOD:PUBLISH
X-WR-CALNAME:Suncoast Florida Region - PCA
X-ORIGINAL-URL:https://suncoastpca.org
X-WR-CALDESC:Events for Suncoast Florida Region - PCA
REFRESH-INTERVAL;VALUE=DURATION:PT1H
X-Robots-Tag:noindex
X-PUBLISHED-TTL:PT1H
BEGIN:VTIMEZONE
TZID:America/New_York
BEGIN:DAYLIGHT
TZOFFSETFROM:-0500
TZOFFSETTO:-0400
TZNAME:EDT
DTSTART:20180311T070000
END:DAYLIGHT
BEGIN:STANDARD
TZOFFSETFROM:-0400
TZOFFSETTO:-0500
TZNAME:EST
DTSTART:20181104T060000
END:STANDARD
BEGIN:DAYLIGHT
TZOFFSETFROM:-0500
TZOFFSETTO:-0400
TZNAME:EDT
DTSTART:20190310T070000
END:DAYLIGHT
BEGIN:STANDARD
TZOFFSETFROM:-0400
TZOFFSETTO:-0500
TZNAME:EST
DTSTART:20191103T060000
END:STANDARD
BEGIN:DAYLIGHT
TZOFFSETFROM:-0500
TZOFFSETTO:-0400
TZNAME:EDT
DTSTART:20200308T070000
END:DAYLIGHT
BEGIN:STANDARD
TZOFFSETFROM:-0400
TZOFFSETTO:-0500
TZNAME:EST
DTSTART:20201101T060000
END:STANDARD
END:VTIMEZONE
BEGIN:VEVENT
DTSTART;TZID=America/New_York:20190209T100000
DTEND;TZID=America/New_York:20190209T100000
DTSTAMP:20260423T034537
CREATED:20190125T024800Z
LAST-MODIFIED:20190125T024800Z
UID:10000684-1549706400-1549706400@suncoastpca.org
SUMMARY:Porsches and Pancakes
DESCRIPTION:Join us at the Paradise restaurant – they have great food with a down home feel. We will have our own room in the back reserved for us and the parking lot is visible from where we will be sitting. \nPreregistration is required at ClubReg: Porsches and Pancakes in Safety Harbor
URL:https://suncoastpca.org/event/porsches-and-pancakes-4/
LOCATION:Paradise Restaurant\, 443 Main St\, Safety Harbor\, FL\, 34695\, United States
CATEGORIES:Social
END:VEVENT
END:VCALENDAR