BEGIN:VCALENDAR
VERSION:2.0
PRODID:-//Suncoast Florida Region - PCA - ECPv6.15.20//NONSGML v1.0//EN
CALSCALE:GREGORIAN
METHOD:PUBLISH
X-ORIGINAL-URL:https://suncoastpca.org
X-WR-CALDESC:Events for Suncoast Florida Region - PCA
REFRESH-INTERVAL;VALUE=DURATION:PT1H
X-Robots-Tag:noindex
X-PUBLISHED-TTL:PT1H
BEGIN:VTIMEZONE
TZID:America/New_York
BEGIN:DAYLIGHT
TZOFFSETFROM:-0500
TZOFFSETTO:-0400
TZNAME:EDT
DTSTART:20120311T070000
END:DAYLIGHT
BEGIN:STANDARD
TZOFFSETFROM:-0400
TZOFFSETTO:-0500
TZNAME:EST
DTSTART:20121104T060000
END:STANDARD
BEGIN:DAYLIGHT
TZOFFSETFROM:-0500
TZOFFSETTO:-0400
TZNAME:EDT
DTSTART:20130310T070000
END:DAYLIGHT
BEGIN:STANDARD
TZOFFSETFROM:-0400
TZOFFSETTO:-0500
TZNAME:EST
DTSTART:20131103T060000
END:STANDARD
BEGIN:DAYLIGHT
TZOFFSETFROM:-0500
TZOFFSETTO:-0400
TZNAME:EDT
DTSTART:20140309T070000
END:DAYLIGHT
BEGIN:STANDARD
TZOFFSETFROM:-0400
TZOFFSETTO:-0500
TZNAME:EST
DTSTART:20141102T060000
END:STANDARD
BEGIN:DAYLIGHT
TZOFFSETFROM:-0500
TZOFFSETTO:-0400
TZNAME:EDT
DTSTART:20150308T070000
END:DAYLIGHT
BEGIN:STANDARD
TZOFFSETFROM:-0400
TZOFFSETTO:-0500
TZNAME:EST
DTSTART:20151101T060000
END:STANDARD
BEGIN:DAYLIGHT
TZOFFSETFROM:-0500
TZOFFSETTO:-0400
TZNAME:EDT
DTSTART:20160313T070000
END:DAYLIGHT
BEGIN:STANDARD
TZOFFSETFROM:-0400
TZOFFSETTO:-0500
TZNAME:EST
DTSTART:20161106T060000
END:STANDARD
BEGIN:DAYLIGHT
TZOFFSETFROM:-0500
TZOFFSETTO:-0400
TZNAME:EDT
DTSTART:20170312T070000
END:DAYLIGHT
BEGIN:STANDARD
TZOFFSETFROM:-0400
TZOFFSETTO:-0500
TZNAME:EST
DTSTART:20171105T060000
END:STANDARD
BEGIN:DAYLIGHT
TZOFFSETFROM:-0500
TZOFFSETTO:-0400
TZNAME:EDT
DTSTART:20180311T070000
END:DAYLIGHT
BEGIN:STANDARD
TZOFFSETFROM:-0400
TZOFFSETTO:-0500
TZNAME:EST
DTSTART:20181104T060000
END:STANDARD
BEGIN:DAYLIGHT
TZOFFSETFROM:-0500
TZOFFSETTO:-0400
TZNAME:EDT
DTSTART:20190310T070000
END:DAYLIGHT
BEGIN:STANDARD
TZOFFSETFROM:-0400
TZOFFSETTO:-0500
TZNAME:EST
DTSTART:20191103T060000
END:STANDARD
BEGIN:DAYLIGHT
TZOFFSETFROM:-0500
TZOFFSETTO:-0400
TZNAME:EDT
DTSTART:20200308T070000
END:DAYLIGHT
BEGIN:STANDARD
TZOFFSETFROM:-0400
TZOFFSETTO:-0500
TZNAME:EST
DTSTART:20201101T060000
END:STANDARD
BEGIN:DAYLIGHT
TZOFFSETFROM:-0500
TZOFFSETTO:-0400
TZNAME:EDT
DTSTART:20210314T070000
END:DAYLIGHT
BEGIN:STANDARD
TZOFFSETFROM:-0400
TZOFFSETTO:-0500
TZNAME:EST
DTSTART:20211107T060000
END:STANDARD
BEGIN:DAYLIGHT
TZOFFSETFROM:-0500
TZOFFSETTO:-0400
TZNAME:EDT
DTSTART:20220313T070000
END:DAYLIGHT
BEGIN:STANDARD
TZOFFSETFROM:-0400
TZOFFSETTO:-0500
TZNAME:EST
DTSTART:20221106T060000
END:STANDARD
BEGIN:DAYLIGHT
TZOFFSETFROM:-0500
TZOFFSETTO:-0400
TZNAME:EDT
DTSTART:20230312T070000
END:DAYLIGHT
BEGIN:STANDARD
TZOFFSETFROM:-0400
TZOFFSETTO:-0500
TZNAME:EST
DTSTART:20231105T060000
END:STANDARD
END:VTIMEZONE
BEGIN:VTIMEZONE
TZID:UTC
BEGIN:STANDARD
TZOFFSETFROM:+0000
TZOFFSETTO:+0000
TZNAME:UTC
DTSTART:20130101T000000
END:STANDARD
END:VTIMEZONE
BEGIN:VEVENT
DTSTART;TZID=America/New_York:20221211T180000
DTEND;TZID=America/New_York:20221211T220000
DTSTAMP:20260422T181729
CREATED:20220721T003142Z
LAST-MODIFIED:20220721T015042Z
UID:10000799-1670781600-1670796000@suncoastpca.org
SUMMARY:Gala - Annual Member Celebration
DESCRIPTION:For cancellations received before December 1 at 5 pm\, all money will be refunded.  No refunds can be done for cancellations received after that date.  Charitable donations are nonrefundable.  \nhttps://clubregistration.net/events/signUp.cfm/event/12596
URL:https://suncoastpca.org/event/gala-annual-member-celebration/
LOCATION:Museum of Fine Arts\, 255 Beach Dr NE\, St Petersburg\, FL\, 33701\, United States
CATEGORIES:Social
GEO:27.7744205;-82.6318843
X-APPLE-STRUCTURED-LOCATION;VALUE=URI;X-ADDRESS=Museum of Fine Arts 255 Beach Dr NE St Petersburg FL 33701 United States;X-APPLE-RADIUS=500;X-TITLE=255 Beach Dr NE:geo:-82.6318843,27.7744205
END:VEVENT
BEGIN:VEVENT
DTSTART;TZID=America/New_York:20151213T180000
DTEND;TZID=America/New_York:20151213T225900
DTSTAMP:20260422T181729
CREATED:20150120T153600Z
LAST-MODIFIED:20151019T204619Z
UID:10000528-1450029600-1450047540@suncoastpca.org
SUMMARY:Holiday Gala
DESCRIPTION:
URL:https://suncoastpca.org/event/holiday-gala-3/
LOCATION:Museum of Fine Arts\, 255 Beach Dr NE\, St Petersburg\, FL\, 33701\, United States
CATEGORIES:Social
GEO:27.7744205;-82.6318843
X-APPLE-STRUCTURED-LOCATION;VALUE=URI;X-ADDRESS=Museum of Fine Arts 255 Beach Dr NE St Petersburg FL 33701 United States;X-APPLE-RADIUS=500;X-TITLE=255 Beach Dr NE:geo:-82.6318843,27.7744205
END:VEVENT
BEGIN:VEVENT
DTSTART;VALUE=DATE:20141206
DTEND;VALUE=DATE:20141207
DTSTAMP:20260422T181729
CREATED:20140611T121947Z
LAST-MODIFIED:20141121T154609Z
UID:10000495-1417824000-1417910399@suncoastpca.org
SUMMARY:Holiday Gala
DESCRIPTION:
URL:https://suncoastpca.org/event/holiday-gala-2/
LOCATION:Museum of Fine Arts\, 255 Beach Dr NE\, St Petersburg\, FL\, 33701\, United States
CATEGORIES:Social
ORGANIZER;CN="Missy Teasley":MAILTO:missyteasley@aol.com
GEO:27.7744205;-82.6318843
X-APPLE-STRUCTURED-LOCATION;VALUE=URI;X-ADDRESS=Museum of Fine Arts 255 Beach Dr NE St Petersburg FL 33701 United States;X-APPLE-RADIUS=500;X-TITLE=255 Beach Dr NE:geo:-82.6318843,27.7744205
END:VEVENT
BEGIN:VEVENT
DTSTART;TZID=America/New_York:20131214T183000
DTEND;TZID=America/New_York:20131214T235500
DTSTAMP:20260422T181729
CREATED:20131102T164125Z
LAST-MODIFIED:20131126T125905Z
UID:10000446-1387045800-1387065300@suncoastpca.org
SUMMARY:Holiday Gala
DESCRIPTION:The 2013 Holiday Gala is shaping up to be a banner event.  This year it is being held at the beautiful and historical Museum of Fine Arts in St. Petersburg.  The Museum is providing special parking close by in Straub Park (entering off Bayshore Drive NE next to the Museum).  In addition to a DJ\, the event will feature more of a noshing atmosphere than we have enjoyed historically and we will have access to visit the Museum.  Come and join your fellow Suncoasters as we celebrate the holidays\, reminisce about the past year and its achievements with awards and recognition\, and dance the night away.  Cash bar and hors d’oeuvres are from 6:30PM – 7:30PM and dinner at 7:30 PM.  Awards and dancing (and more dancing) follow dinner.  The Museum of Fine Arts is located at 255 Beach Dr NE\, St Petersburg\, FL. \nRegistration is open on www.ClubRegistration.net.  For questions or additional information contact Jill Perry at steelmag@gmail.com.  (Your Suncoast Porsche Club is picking up more than 50% of the cost of the event to show you we value you as a member!) Sign up early as this event always sells out.
URL:https://suncoastpca.org/event/holiday-gala/
LOCATION:Museum of Fine Arts\, 255 Beach Dr NE\, St Petersburg\, FL\, 33701\, United States
CATEGORIES:Social
ORGANIZER;CN="Jill Perry":MAILTO:steelmag@gmail.com
GEO:27.7744205;-82.6318843
X-APPLE-STRUCTURED-LOCATION;VALUE=URI;X-ADDRESS=Museum of Fine Arts 255 Beach Dr NE St Petersburg FL 33701 United States;X-APPLE-RADIUS=500;X-TITLE=255 Beach Dr NE:geo:-82.6318843,27.7744205
END:VEVENT
END:VCALENDAR