BEGIN:VCALENDAR
VERSION:2.0
PRODID:-//Suncoast Florida Region - PCA - ECPv6.15.20//NONSGML v1.0//EN
CALSCALE:GREGORIAN
METHOD:PUBLISH
X-ORIGINAL-URL:https://suncoastpca.org
X-WR-CALDESC:Events for Suncoast Florida Region - PCA
REFRESH-INTERVAL;VALUE=DURATION:PT1H
X-Robots-Tag:noindex
X-PUBLISHED-TTL:PT1H
BEGIN:VTIMEZONE
TZID:America/New_York
BEGIN:DAYLIGHT
TZOFFSETFROM:-0500
TZOFFSETTO:-0400
TZNAME:EDT
DTSTART:20160313T070000
END:DAYLIGHT
BEGIN:STANDARD
TZOFFSETFROM:-0400
TZOFFSETTO:-0500
TZNAME:EST
DTSTART:20161106T060000
END:STANDARD
BEGIN:DAYLIGHT
TZOFFSETFROM:-0500
TZOFFSETTO:-0400
TZNAME:EDT
DTSTART:20170312T070000
END:DAYLIGHT
BEGIN:STANDARD
TZOFFSETFROM:-0400
TZOFFSETTO:-0500
TZNAME:EST
DTSTART:20171105T060000
END:STANDARD
BEGIN:DAYLIGHT
TZOFFSETFROM:-0500
TZOFFSETTO:-0400
TZNAME:EDT
DTSTART:20180311T070000
END:DAYLIGHT
BEGIN:STANDARD
TZOFFSETFROM:-0400
TZOFFSETTO:-0500
TZNAME:EST
DTSTART:20181104T060000
END:STANDARD
BEGIN:DAYLIGHT
TZOFFSETFROM:-0500
TZOFFSETTO:-0400
TZNAME:EDT
DTSTART:20190310T070000
END:DAYLIGHT
BEGIN:STANDARD
TZOFFSETFROM:-0400
TZOFFSETTO:-0500
TZNAME:EST
DTSTART:20191103T060000
END:STANDARD
END:VTIMEZONE
BEGIN:VEVENT
DTSTART;TZID=America/New_York:20180222T180000
DTEND;TZID=America/New_York:20180222T180000
DTSTAMP:20260422T184553
CREATED:20180105T152054Z
LAST-MODIFIED:20180209T173710Z
UID:10000642-1519322400-1519322400@suncoastpca.org
SUMMARY:Date Your Porsche Night
DESCRIPTION:Note that this event was recently rescheduled from the 21st to the 22nd. 
URL:https://suncoastpca.org/event/date-your-porsche-night-29/
LOCATION:Miller’s Ale House\, 3800 Kenny Drive\, Sarasota\, FL\, 34232\, United States
CATEGORIES:Social
GEO:27.299405;-82.4509412
X-APPLE-STRUCTURED-LOCATION;VALUE=URI;X-ADDRESS=Miller’s Ale House 3800 Kenny Drive Sarasota FL 34232 United States;X-APPLE-RADIUS=500;X-TITLE=3800 Kenny Drive:geo:-82.4509412,27.299405
END:VEVENT
BEGIN:VEVENT
DTSTART;TZID=America/New_York:20170419T183000
DTEND;TZID=America/New_York:20170419T183000
DTSTAMP:20260422T184553
CREATED:20170305T142116Z
LAST-MODIFIED:20170305T142116Z
UID:10000611-1492626600-1492626600@suncoastpca.org
SUMMARY:Date Your Porsche Night
DESCRIPTION:Miller’s Ale House is also Sarasota Ale House. A great selection of ales along with other speciality drinks and food items.  Come at 6:30 to enjoy great drinks and food with other club members. There is a very nice outside area that we may occupy depending upon the weather.    \nRSVP missyteasley@aol.com
URL:https://suncoastpca.org/event/date-your-porsche-night-24/
LOCATION:Miller’s Ale House\, 3800 Kenny Drive\, Sarasota\, FL\, 34232\, United States
CATEGORIES:Social
ORGANIZER;CN="Missy Teasley":MAILTO:missyteasley@aol.com
GEO:27.299405;-82.4509412
X-APPLE-STRUCTURED-LOCATION;VALUE=URI;X-ADDRESS=Miller’s Ale House 3800 Kenny Drive Sarasota FL 34232 United States;X-APPLE-RADIUS=500;X-TITLE=3800 Kenny Drive:geo:-82.4509412,27.299405
END:VEVENT
END:VCALENDAR