BEGIN:VCALENDAR
VERSION:2.0
PRODID:-//Suncoast Florida Region - PCA - ECPv6.15.20//NONSGML v1.0//EN
CALSCALE:GREGORIAN
METHOD:PUBLISH
X-ORIGINAL-URL:https://suncoastpca.org
X-WR-CALDESC:Events for Suncoast Florida Region - PCA
REFRESH-INTERVAL;VALUE=DURATION:PT1H
X-Robots-Tag:noindex
X-PUBLISHED-TTL:PT1H
BEGIN:VTIMEZONE
TZID:UTC
BEGIN:STANDARD
TZOFFSETFROM:+0000
TZOFFSETTO:+0000
TZNAME:UTC
DTSTART:20130101T000000
END:STANDARD
END:VTIMEZONE
BEGIN:VTIMEZONE
TZID:America/New_York
BEGIN:DAYLIGHT
TZOFFSETFROM:-0500
TZOFFSETTO:-0400
TZNAME:EDT
DTSTART:20120311T070000
END:DAYLIGHT
BEGIN:STANDARD
TZOFFSETFROM:-0400
TZOFFSETTO:-0500
TZNAME:EST
DTSTART:20121104T060000
END:STANDARD
BEGIN:DAYLIGHT
TZOFFSETFROM:-0500
TZOFFSETTO:-0400
TZNAME:EDT
DTSTART:20130310T070000
END:DAYLIGHT
BEGIN:STANDARD
TZOFFSETFROM:-0400
TZOFFSETTO:-0500
TZNAME:EST
DTSTART:20131103T060000
END:STANDARD
BEGIN:DAYLIGHT
TZOFFSETFROM:-0500
TZOFFSETTO:-0400
TZNAME:EDT
DTSTART:20140309T070000
END:DAYLIGHT
BEGIN:STANDARD
TZOFFSETFROM:-0400
TZOFFSETTO:-0500
TZNAME:EST
DTSTART:20141102T060000
END:STANDARD
END:VTIMEZONE
BEGIN:VEVENT
DTSTART;TZID=UTC:20150815T040000
DTEND;TZID=UTC:20150815T220000
DTSTAMP:20260422T195709
CREATED:20150619T105605Z
LAST-MODIFIED:20150619T105605Z
UID:10000538-1439611200-1439676000@suncoastpca.org
SUMMARY:Mid-Summer BBQ
DESCRIPTION:
URL:https://suncoastpca.org/event/mid-summer-bbq-3/
LOCATION:Mike Kwasin’s Home\, 3613 S. Beach Drive\, Tampa\, FL\, 33629\, United States
CATEGORIES:Social
GEO:27.910035;-82.533317
X-APPLE-STRUCTURED-LOCATION;VALUE=URI;X-ADDRESS=Mike Kwasin’s Home 3613 S. Beach Drive Tampa FL 33629 United States;X-APPLE-RADIUS=500;X-TITLE=3613 S. Beach Drive:geo:-82.533317,27.910035
END:VEVENT
BEGIN:VEVENT
DTSTART;VALUE=DATE:20140809
DTEND;VALUE=DATE:20140810
DTSTAMP:20260422T195709
CREATED:20131110T201444Z
LAST-MODIFIED:20140715T202424Z
UID:10000468-1407542400-1407628799@suncoastpca.org
SUMMARY:Mid-Summer BBQ
DESCRIPTION:
URL:https://suncoastpca.org/event/mid-summer-bbq/
LOCATION:Mike Kwasin’s Home\, 3613 S. Beach Drive\, Tampa\, FL\, 33629\, United States
CATEGORIES:Social
ORGANIZER;CN="Missy Teasley":MAILTO:missyteasley@aol.com
GEO:27.910035;-82.533317
X-APPLE-STRUCTURED-LOCATION;VALUE=URI;X-ADDRESS=Mike Kwasin’s Home 3613 S. Beach Drive Tampa FL 33629 United States;X-APPLE-RADIUS=500;X-TITLE=3613 S. Beach Drive:geo:-82.533317,27.910035
END:VEVENT
BEGIN:VEVENT
DTSTART;TZID=America/New_York:20131207T190000
DTEND;TZID=America/New_York:20131207T235500
DTSTAMP:20260422T195709
CREATED:20131102T163823Z
LAST-MODIFIED:20131109T153333Z
UID:10000445-1386442800-1386460500@suncoastpca.org
SUMMARY:Holiday Party at Mike Kwasin's
DESCRIPTION:Holiday Party at Mike Kwasin’s
URL:https://suncoastpca.org/event/holiday-party-at-mike-kwasins/
LOCATION:Mike Kwasin’s Home\, 3613 S. Beach Drive\, Tampa\, FL\, 33629\, United States
CATEGORIES:Social
ORGANIZER;CN="Jill Perry":MAILTO:steelmag@gmail.com
GEO:27.910035;-82.533317
X-APPLE-STRUCTURED-LOCATION;VALUE=URI;X-ADDRESS=Mike Kwasin’s Home 3613 S. Beach Drive Tampa FL 33629 United States;X-APPLE-RADIUS=500;X-TITLE=3613 S. Beach Drive:geo:-82.533317,27.910035
END:VEVENT
END:VCALENDAR