BEGIN:VCALENDAR
VERSION:2.0
PRODID:-//Suncoast Florida Region - PCA - ECPv6.15.20//NONSGML v1.0//EN
CALSCALE:GREGORIAN
METHOD:PUBLISH
X-ORIGINAL-URL:https://suncoastpca.org
X-WR-CALDESC:Events for Suncoast Florida Region - PCA
REFRESH-INTERVAL;VALUE=DURATION:PT1H
X-Robots-Tag:noindex
X-PUBLISHED-TTL:PT1H
BEGIN:VTIMEZONE
TZID:America/New_York
BEGIN:DAYLIGHT
TZOFFSETFROM:-0500
TZOFFSETTO:-0400
TZNAME:EDT
DTSTART:20210314T070000
END:DAYLIGHT
BEGIN:STANDARD
TZOFFSETFROM:-0400
TZOFFSETTO:-0500
TZNAME:EST
DTSTART:20211107T060000
END:STANDARD
BEGIN:DAYLIGHT
TZOFFSETFROM:-0500
TZOFFSETTO:-0400
TZNAME:EDT
DTSTART:20220313T070000
END:DAYLIGHT
BEGIN:STANDARD
TZOFFSETFROM:-0400
TZOFFSETTO:-0500
TZNAME:EST
DTSTART:20221106T060000
END:STANDARD
BEGIN:DAYLIGHT
TZOFFSETFROM:-0500
TZOFFSETTO:-0400
TZNAME:EDT
DTSTART:20230312T070000
END:DAYLIGHT
BEGIN:STANDARD
TZOFFSETFROM:-0400
TZOFFSETTO:-0500
TZNAME:EST
DTSTART:20231105T060000
END:STANDARD
BEGIN:DAYLIGHT
TZOFFSETFROM:-0500
TZOFFSETTO:-0400
TZNAME:EDT
DTSTART:20240310T070000
END:DAYLIGHT
BEGIN:STANDARD
TZOFFSETFROM:-0400
TZOFFSETTO:-0500
TZNAME:EST
DTSTART:20241103T060000
END:STANDARD
END:VTIMEZONE
BEGIN:VEVENT
DTSTART;TZID=America/New_York:20230627T173000
DTEND;TZID=America/New_York:20230627T213000
DTSTAMP:20260423T003708
CREATED:20230509T022655Z
LAST-MODIFIED:20230509T022655Z
UID:10000887-1687887000-1687901400@suncoastpca.org
SUMMARY:Date Your Porsche Night
DESCRIPTION:Date Your Porsche Night at Mattison’s on 41 in Sarasota. We will be welcoming our members and their guests at 5:30pm on Tuesday June 27th. This beautiful restaurant is located at 7275 South Tamiami Trail\, in Sarasota.\nWe expect a large crowd\, and a special menu of gourmet items to choose from.\nWe will see you there!
URL:https://suncoastpca.org/event/date-your-porsche-night-59/
LOCATION:Mattison’s Forty-One\, 7275 S Tamiami Trail\, Sarasota\, 34231
CATEGORIES:Social
END:VEVENT
BEGIN:VEVENT
DTSTART;TZID=America/New_York:20221025T180000
DTEND;TZID=America/New_York:20221025T210000
DTSTAMP:20260423T003708
CREATED:20221019T210125Z
LAST-MODIFIED:20221019T210137Z
UID:10000837-1666720800-1666731600@suncoastpca.org
SUMMARY:Date Your Porsche Night
DESCRIPTION:Date Your Porsche Night at Mattison’s on 41 in Sarasota. We will be welcoming our members and their guests at 6:00pm. This beautiful restaurant is located at 7275 South Tamiami Trail Sarasota\, 2.5 miles south of Suncoast Porsche. We expect a large crowd\, and a special menu of gourmet items to choose from. We will see you there! \nhttps://clubregistration.net/events/event-details.cfm?event_id=12790 \n 
URL:https://suncoastpca.org/event/date-your-porsche-night-55/
LOCATION:Mattison’s Forty-One\, 7275 S Tamiami Trail\, Sarasota\, 34231
CATEGORIES:Social
END:VEVENT
END:VCALENDAR