BEGIN:VCALENDAR
VERSION:2.0
PRODID:-//Suncoast Florida Region - PCA - ECPv6.15.20//NONSGML v1.0//EN
CALSCALE:GREGORIAN
METHOD:PUBLISH
X-WR-CALNAME:Suncoast Florida Region - PCA
X-ORIGINAL-URL:https://suncoastpca.org
X-WR-CALDESC:Events for Suncoast Florida Region - PCA
REFRESH-INTERVAL;VALUE=DURATION:PT1H
X-Robots-Tag:noindex
X-PUBLISHED-TTL:PT1H
BEGIN:VTIMEZONE
TZID:America/New_York
BEGIN:DAYLIGHT
TZOFFSETFROM:-0500
TZOFFSETTO:-0400
TZNAME:EDT
DTSTART:20180311T070000
END:DAYLIGHT
BEGIN:STANDARD
TZOFFSETFROM:-0400
TZOFFSETTO:-0500
TZNAME:EST
DTSTART:20181104T060000
END:STANDARD
BEGIN:DAYLIGHT
TZOFFSETFROM:-0500
TZOFFSETTO:-0400
TZNAME:EDT
DTSTART:20190310T070000
END:DAYLIGHT
BEGIN:STANDARD
TZOFFSETFROM:-0400
TZOFFSETTO:-0500
TZNAME:EST
DTSTART:20191103T060000
END:STANDARD
BEGIN:DAYLIGHT
TZOFFSETFROM:-0500
TZOFFSETTO:-0400
TZNAME:EDT
DTSTART:20200308T070000
END:DAYLIGHT
BEGIN:STANDARD
TZOFFSETFROM:-0400
TZOFFSETTO:-0500
TZNAME:EST
DTSTART:20201101T060000
END:STANDARD
END:VTIMEZONE
BEGIN:VEVENT
DTSTART;TZID=America/New_York:20191022T183000
DTEND;TZID=America/New_York:20191022T183000
DTSTAMP:20260422T231409
CREATED:20190804T194043Z
LAST-MODIFIED:20190804T194043Z
UID:10000700-1571769000-1571769000@suncoastpca.org
SUMMARY:Date Your Porsche Night
DESCRIPTION:Date Your Porsche Night Social on Tuesday\, October 22\, 2019 at Mattison’s City Grille Bradenton Riverwalk \nOctober 22\, 2019 @ 6:30 pm for dinner and drinks \nAttention all of you close to Bradenton\, there will be a Date Your Porsche Night at Mattison’s City Grille Bradenton Riverwalk\, 101 Riverfront Blvd #120 Bradenton\, FL 34205 on October 22\, 2019 at 6:30pm hosted by Frostie (Volker) Schneemann! Should be a central location for most of us to be able to park and party! \nI have heard nothing but good reviews about Mattison’s in Bradenton – it sounds like a great place with outstanding staff\, reasonable prices and wonderful food with the filet\, ribeye\, beef brisket poutine and grouper picatta mentioned as favorites. We will be able to park together too! \nPreregistration is required at ClubReg: Mattison’s City Grille Bradenton Riverwalk
URL:https://suncoastpca.org/event/date-your-porsche-night-42/
LOCATION:Mattison’s City Grille\, 101 Riverfront Blvd #120\, Bradenton\, FL\, 34205\, United States
CATEGORIES:Social
END:VEVENT
END:VCALENDAR