BEGIN:VCALENDAR
VERSION:2.0
PRODID:-//Suncoast Florida Region - PCA - ECPv6.15.20//NONSGML v1.0//EN
CALSCALE:GREGORIAN
METHOD:PUBLISH
X-ORIGINAL-URL:https://suncoastpca.org
X-WR-CALDESC:Events for Suncoast Florida Region - PCA
REFRESH-INTERVAL;VALUE=DURATION:PT1H
X-Robots-Tag:noindex
X-PUBLISHED-TTL:PT1H
BEGIN:VTIMEZONE
TZID:America/New_York
BEGIN:DAYLIGHT
TZOFFSETFROM:-0500
TZOFFSETTO:-0400
TZNAME:EDT
DTSTART:20240310T070000
END:DAYLIGHT
BEGIN:STANDARD
TZOFFSETFROM:-0400
TZOFFSETTO:-0500
TZNAME:EST
DTSTART:20241103T060000
END:STANDARD
BEGIN:DAYLIGHT
TZOFFSETFROM:-0500
TZOFFSETTO:-0400
TZNAME:EDT
DTSTART:20250309T070000
END:DAYLIGHT
BEGIN:STANDARD
TZOFFSETFROM:-0400
TZOFFSETTO:-0500
TZNAME:EST
DTSTART:20251102T060000
END:STANDARD
BEGIN:DAYLIGHT
TZOFFSETFROM:-0500
TZOFFSETTO:-0400
TZNAME:EDT
DTSTART:20260308T070000
END:DAYLIGHT
BEGIN:STANDARD
TZOFFSETFROM:-0400
TZOFFSETTO:-0500
TZNAME:EST
DTSTART:20261101T060000
END:STANDARD
END:VTIMEZONE
BEGIN:VEVENT
DTSTART;TZID=America/New_York:20251012T070000
DTEND;TZID=America/New_York:20251012T170000
DTSTAMP:20260422T195656
CREATED:20250911T163730Z
LAST-MODIFIED:20250911T164944Z
UID:10001182-1760252400-1760288400@suncoastpca.org
SUMMARY:Autocross
DESCRIPTION:New Venue and Requirements!! Lead Foot City requires their own liability waiver to be signed as well. Please visit the link below for a one-time registration for membership/waiver for any event at their venue. You can simply register with a “Tourist” membership at no cost\, or they have membership options if you plan to attend multiple other events. Have a photo (file) of your DL handy that you can attach during the membership process. https://leadfootcity.com/pages/membership-application \nIF INTERESTED\, CLICK ON THE LINK BELOW TO GO TO CLUBREGISTRATION AND READ ALL OF THE INFORMATION SINCE IT WAS TOO MUCH TO POST \nhttps://clubregistration.net/events/event-details.cfm?event_id=16086 \nThey plan to accommodate up to 50 drivers for this venue\, however\, we will still prioritize registrations by: $50 for Current PCA members VALIDATED in your Clubreg profile; $60 for Porsche cars – non PCA member\, BMWCCA Club Members (driving BMW) and their Guests are invited to register on 9/14/25. If you are a non-PCA member and driving “Other-XS”\, you may register but DO NOT make payment in advance as you will be charged the credit card fee if we have to cancel your registration/payment. We will put you on the Waitlist and will email you about 10-12 days in advance if we are able to move you from the Waitlist to “Pending” status to make the $60 payment. You will then receive an email being confirmed to the Roster. \nRegistration opens 9/14/25 and closes on 10/8/25. Cancellations must be submitted prior to that date for refund (less credit card processing fee). NO on-site Driver registrations will be allowed. \nAll Drivers must be 18 years of age with valid Driver’s License. Registered PCA “Juniors Program” members may drive at 16 years of age with valid Driver’s License. Parent/Guardian must attend and sign Minor Participation Waiver.\nJerry & Kirsten Eggert\nSuncoast Region PCA Competitive Activities
URL:https://suncoastpca.org/event/autocross-24/
LOCATION:Lead Foot City\, Brooksville\, United States
CATEGORIES:Autocross
END:VEVENT
BEGIN:VEVENT
DTSTART;TZID=America/New_York:20250323T073000
DTEND;TZID=America/New_York:20250323T170000
DTSTAMP:20260422T195656
CREATED:20250206T171910Z
LAST-MODIFIED:20250206T171910Z
UID:10001105-1742715000-1742749200@suncoastpca.org
SUMMARY:Autocross
DESCRIPTION:PLEASE READ FULL DESCRIPTION – New Venue and Requirements!! Lead Foot City requires their own liability waiver to be signed as well. Please visit the link below for a one-time registration for membership/waiver for any event at their venue. You can simply register with a “Tourist” membership at no cost\, or they have membership options if you plan to attend multiple other events. Have a photo (file) of your DL handy that you can attach during the membership process.\nhttps://leadfootcity.com/pages/membership-application \nGood news – you can now allow guests to arrive later in the day. Guests can enter through the Spectator Parking/Gate\, but they must also be at least a Tourist member and complete the waiver. Guests who do not also pre-register via this Clubregistration.net event\, however\, cannot be inside the autocross area with Suncoast Region PCA. There will be a separate area for general “spectators”. \nWe plan to accommodate up to 50-60 drivers for this venue\, however\, we will still prioritize registrations by: Current PCA membership validated in your Clurbreg profile\, $50; Porsche cars – non PCA\, BMWCCA Club Members (driving BMW)\, $60\, and their Guests are invited to register on 02/04/25. If you are a non-PCA member and driving “Other-XS”\, you may register but DO NOT make payment in advance as you will be charged the credit card fee if we have to cancel your registration/payment. We will put you on the Waitlist and will email you about a week in advance if we are able to move you from the Waitlist to “Pending” status to make the $60 payment. You will then receive an email being confirmed to the Roster. \nRegistration will close on 02/19/25 and cancellations must be submitted prior to that date for refund (less credit card processing fee). NO on-site Driver registrations will be allowed. \nPre-payment (current/active PCA MEMBERSHIP # MUST be listed in your Clubreg Profile to qualify for the Member rate of $50)\, and the PCA Event Liability Waiver is required to be e-signed before you will be confirmed on the Roster. Your registration will remain as “Pending” until completed and you have received a confirmation email and see your name on the Roster. You can review and verify your car class and categories on the Suncoast PCA activities/autocross page at: https://suncoastpca.org/autocross/ \nALL non-driver CREW/GUEST attendees must register and e-sign the liability waiver as a “Crew/Guest” on Clubregistration.net and Lead Foot City. Please assist your guest in setting up an account with Clubregistration.net and “LFC” as described above. Otherwise\, guests will need to go to the general Spectator area of the property and sign the Lead Foot City waiver or complete their membership requirements. \nPCA requires eSignatures for all events. Electronically sign the Event Liability Waiver prior to the event. \nSnell 2010 helmet or newer required. Limited loaner helmets available. \nPlease arrive at the gate between 7:45am and 8:15am. Tech inspection 8am – 8:30am. Guided course walk at 8:45am followed by drivers’ meeting at 9:15am. Group A ready to Grid by 9:30am. Water and Gatorade will be provided\, but breakfast/lunch will be available to purchase at the on-site Gear Head Grille. With 50-60 drivers\, we will run A\, B\, and C groups in a “Run\, Work\, Rest” format. You can head to the Grille or bring your own food for your “Rest” sessions. We always target 4 morning runs and 4 afternoon runs depending on weather and other factors. Please make plans to stay the entire day so we have enough workers for the final run group. We usually wrap up around 3:30pm. \nAll Drivers must be 18 years of age with valid Driver’s License. Registered PCA “Juniors Program” members may drive at 16 years of age with valid Driver’s License. Parent/Guardian must attend and sign Minor Participation Waiver. \nLet’s make a great showing at this fantastic new venue! We will be losing SPC Allstate due to the property being sold\, so we need to show our support for Lead Foot City!! \nJerry & Kirsten Eggert\nSuncoast Region PCA Competitive Activities \nRegister here: https://clubregistration.net/events/signUp.cfm/event/15570
URL:https://suncoastpca.org/event/autocross-25/
LOCATION:Lead Foot City\, Brooksville\, United States
CATEGORIES:Autocross
END:VEVENT
BEGIN:VEVENT
DTSTART;TZID=America/New_York:20250223T073000
DTEND;TZID=America/New_York:20250223T170000
DTSTAMP:20260422T195656
CREATED:20250128T040701Z
LAST-MODIFIED:20250206T171606Z
UID:10001101-1740295800-1740330000@suncoastpca.org
SUMMARY:Autocross
DESCRIPTION:PLEASE READ FULL DESCRIPTION – New Venue and Requirements!! Lead Foot City requires their own liability waiver to be signed as well. Please visit the link below for a one-time registration for membership/waiver for any event at their venue. You can simply register with a “Tourist” membership at no cost\, or they have membership options if you plan to attend multiple other events. Have a photo (file) of your DL handy that you can attach during the membership process.\nhttps://leadfootcity.com/pages/membership-application \nGood news – you can now allow guests to arrive later in the day. Guests can enter through the Spectator Parking/Gate\, but they must also be at least a Tourist member and complete the waiver. Guests who do not also pre-register via this Clubregistration.net event\, however\, cannot be inside the autocross area with Suncoast Region PCA. There will be a separate area for general “spectators”. \nWe plan to accommodate up to 50-60 drivers for this venue\, however\, we will still prioritize registrations by: Current PCA membership validated in your Clurbreg profile\, $50; Porsche cars – non PCA\, BMWCCA Club Members (driving BMW)\, $60\, and their Guests are invited to register on 02/04/25. If you are a non-PCA member and driving “Other-XS”\, you may register but DO NOT make payment in advance as you will be charged the credit card fee if we have to cancel your registration/payment. We will put you on the Waitlist and will email you about a week in advance if we are able to move you from the Waitlist to “Pending” status to make the $60 payment. You will then receive an email being confirmed to the Roster.  \nRegistration will close on 02/19/25 and cancellations must be submitted prior to that date for refund (less credit card processing fee). NO on-site Driver registrations will be allowed. \nPre-payment (current/active PCA MEMBERSHIP # MUST be listed in your Clubreg Profile to qualify for the Member rate of $50)\, and the PCA Event Liability Waiver is required to be e-signed before you will be confirmed on the Roster. Your registration will remain as “Pending” until completed and you have received a confirmation email and see your name on the Roster. You can review and verify your car class and categories on the Suncoast PCA activities/autocross page at: https://suncoastpca.org/autocross/ \nALL non-driver CREW/GUEST attendees must register and e-sign the liability waiver as a “Crew/Guest” on Clubregistration.net and Lead Foot City. Please assist your guest in setting up an account with Clubregistration.net and “LFC” as described above. Otherwise\, guests will need to go to the general Spectator area of the property and sign the Lead Foot City waiver or complete their membership requirements. \nPCA requires eSignatures for all events. Electronically sign the Event Liability Waiver prior to the event.  \nSnell 2010 helmet or newer required. Limited loaner helmets available. \nPlease arrive at the gate between 7:45am and 8:15am. Tech inspection 8am – 8:30am. Guided course walk at 8:45am followed by drivers’ meeting at 9:15am. Group A ready to Grid by 9:30am. Water and Gatorade will be provided\, but breakfast/lunch will be available to purchase at the on-site Gear Head Grille. With 50-60 drivers\, we will run A\, B\, and C groups in a “Run\, Work\, Rest” format. You can head to the Grille or bring your own food for your “Rest” sessions. We always target 4 morning runs and 4 afternoon runs depending on weather and other factors. Please make plans to stay the entire day so we have enough workers for the final run group. We usually wrap up around 3:30pm. \nAll Drivers must be 18 years of age with valid Driver’s License.  Registered PCA “Juniors Program” members may drive at 16 years of age with valid Driver’s License.  Parent/Guardian must attend and sign Minor Participation Waiver. \nLet’s make a great showing at this fantastic new venue! We will be losing SPC Allstate due to the property being sold\, so we need to show our support for Lead Foot City!! \nJerry & Kirsten Eggert\nSuncoast Region PCA Competitive Activities \nRegister here: https://clubregistration.net/events/event-details.cfm?event_id=15569
URL:https://suncoastpca.org/event/autocross-21/
LOCATION:Lead Foot City\, Brooksville\, United States
CATEGORIES:Autocross
END:VEVENT
END:VCALENDAR