BEGIN:VCALENDAR
VERSION:2.0
PRODID:-//Suncoast Florida Region - PCA - ECPv6.15.20//NONSGML v1.0//EN
CALSCALE:GREGORIAN
METHOD:PUBLISH
X-WR-CALNAME:Suncoast Florida Region - PCA
X-ORIGINAL-URL:https://suncoastpca.org
X-WR-CALDESC:Events for Suncoast Florida Region - PCA
REFRESH-INTERVAL;VALUE=DURATION:PT1H
X-Robots-Tag:noindex
X-PUBLISHED-TTL:PT1H
BEGIN:VTIMEZONE
TZID:America/New_York
BEGIN:DAYLIGHT
TZOFFSETFROM:-0500
TZOFFSETTO:-0400
TZNAME:EDT
DTSTART:20180311T070000
END:DAYLIGHT
BEGIN:STANDARD
TZOFFSETFROM:-0400
TZOFFSETTO:-0500
TZNAME:EST
DTSTART:20181104T060000
END:STANDARD
BEGIN:DAYLIGHT
TZOFFSETFROM:-0500
TZOFFSETTO:-0400
TZNAME:EDT
DTSTART:20190310T070000
END:DAYLIGHT
BEGIN:STANDARD
TZOFFSETFROM:-0400
TZOFFSETTO:-0500
TZNAME:EST
DTSTART:20191103T060000
END:STANDARD
BEGIN:DAYLIGHT
TZOFFSETFROM:-0500
TZOFFSETTO:-0400
TZNAME:EDT
DTSTART:20200308T070000
END:DAYLIGHT
BEGIN:STANDARD
TZOFFSETFROM:-0400
TZOFFSETTO:-0500
TZNAME:EST
DTSTART:20201101T060000
END:STANDARD
END:VTIMEZONE
BEGIN:VEVENT
DTSTART;TZID=America/New_York:20190716T190000
DTEND;TZID=America/New_York:20190716T190000
DTSTAMP:20260423T015433
CREATED:20190524T134311Z
LAST-MODIFIED:20190524T134311Z
UID:10000696-1563303600-1563303600@suncoastpca.org
SUMMARY:G-Body Porsches Social
DESCRIPTION:Attention All G Body Porsche Owners (1974-1989)!!! Do you currently own or have you ever owned a Porsche 911 from 1974 thru 1989?  These cars are sometimes called Impact Bumper or G Body 911’s.  It includes Coupes\, Convertibles\, Turbos and Factory Wide Body cars of the era.  If so\, then here’s a little something that may interest you.  Recently\, there has been some interest being generated around the idea of having a social gathering where interested parties can get together and share information\, stories\, contacts and advice about this era of vehicles.  Maybe you’ve wondered what a certain exhaust would sound like on your car\, or how someone handled the rust in the lower corners of the windshield\, etc…  It’s an opportunity to compare notes and enjoy a nice evening with friends that share the love of these wonderful cars.  So\, if this sounds like you\, then bring your car and let’s have some fun! \nYou’ll need to register online because we need to give the restaurant a count of how many cars and people we are expecting.  We also want to make sure we have a place for you to park.  The restaurant has great reviews and is “A modern take on classic American comfort fare\, Grillsmith dishes out comfort food and drinks with a fiery passion for flavors crafted by fire.” \nPreregistration is required at ClubReg: G-Body Porsches Social
URL:https://suncoastpca.org/event/g-body-porsches-social/
LOCATION:Grillsmith\, 14303 North Dale Mabry\, Tampa\, FL\, 33618\, United States
CATEGORIES:Social
END:VEVENT
END:VCALENDAR