BEGIN:VCALENDAR
VERSION:2.0
PRODID:-//Suncoast Florida Region - PCA - ECPv6.15.20//NONSGML v1.0//EN
CALSCALE:GREGORIAN
METHOD:PUBLISH
X-WR-CALNAME:Suncoast Florida Region - PCA
X-ORIGINAL-URL:https://suncoastpca.org
X-WR-CALDESC:Events for Suncoast Florida Region - PCA
REFRESH-INTERVAL;VALUE=DURATION:PT1H
X-Robots-Tag:noindex
X-PUBLISHED-TTL:PT1H
BEGIN:VTIMEZONE
TZID:America/New_York
BEGIN:DAYLIGHT
TZOFFSETFROM:-0500
TZOFFSETTO:-0400
TZNAME:EDT
DTSTART:20180311T070000
END:DAYLIGHT
BEGIN:STANDARD
TZOFFSETFROM:-0400
TZOFFSETTO:-0500
TZNAME:EST
DTSTART:20181104T060000
END:STANDARD
BEGIN:DAYLIGHT
TZOFFSETFROM:-0500
TZOFFSETTO:-0400
TZNAME:EDT
DTSTART:20190310T070000
END:DAYLIGHT
BEGIN:STANDARD
TZOFFSETFROM:-0400
TZOFFSETTO:-0500
TZNAME:EST
DTSTART:20191103T060000
END:STANDARD
BEGIN:DAYLIGHT
TZOFFSETFROM:-0500
TZOFFSETTO:-0400
TZNAME:EDT
DTSTART:20200308T070000
END:DAYLIGHT
BEGIN:STANDARD
TZOFFSETFROM:-0400
TZOFFSETTO:-0500
TZNAME:EST
DTSTART:20201101T060000
END:STANDARD
END:VTIMEZONE
BEGIN:VEVENT
DTSTART;TZID=America/New_York:20190326T180000
DTEND;TZID=America/New_York:20190326T180000
DTSTAMP:20260423T051536
CREATED:20190217T015421Z
LAST-MODIFIED:20190217T015715Z
UID:10000689-1553623200-1553623200@suncoastpca.org
SUMMARY:Date Your Porsche Night
DESCRIPTION:The Getaway has created a casually upscale coastal and Key West influenced restaurant offering coastal favorites. They pride themselves in “being a supporter of local fish houses and fresh produce that is Florida-sourced and grown” and the Weedon Island Preserve is the backdrop to their Tiki Bars. There is a massive parking lot which is all paved right behind the restaurant.
URL:https://suncoastpca.org/event/date-your-porsche-night-38/
LOCATION:Getaway Maximo Marina\, 3769 50th Ave S\, St. Petersburg\, FL\, 33711\, United States
CATEGORIES:Social
END:VEVENT
END:VCALENDAR