BEGIN:VCALENDAR
VERSION:2.0
PRODID:-//Suncoast Florida Region - PCA - ECPv6.15.20//NONSGML v1.0//EN
CALSCALE:GREGORIAN
METHOD:PUBLISH
X-WR-CALNAME:Suncoast Florida Region - PCA
X-ORIGINAL-URL:https://suncoastpca.org
X-WR-CALDESC:Events for Suncoast Florida Region - PCA
REFRESH-INTERVAL;VALUE=DURATION:PT1H
X-Robots-Tag:noindex
X-PUBLISHED-TTL:PT1H
BEGIN:VTIMEZONE
TZID:America/New_York
BEGIN:DAYLIGHT
TZOFFSETFROM:-0500
TZOFFSETTO:-0400
TZNAME:EDT
DTSTART:20290311T070000
END:DAYLIGHT
BEGIN:STANDARD
TZOFFSETFROM:-0400
TZOFFSETTO:-0500
TZNAME:EST
DTSTART:20291104T060000
END:STANDARD
BEGIN:DAYLIGHT
TZOFFSETFROM:-0500
TZOFFSETTO:-0400
TZNAME:EDT
DTSTART:20300310T070000
END:DAYLIGHT
BEGIN:STANDARD
TZOFFSETFROM:-0400
TZOFFSETTO:-0500
TZNAME:EST
DTSTART:20301103T060000
END:STANDARD
BEGIN:DAYLIGHT
TZOFFSETFROM:-0500
TZOFFSETTO:-0400
TZNAME:EDT
DTSTART:20310309T070000
END:DAYLIGHT
BEGIN:STANDARD
TZOFFSETFROM:-0400
TZOFFSETTO:-0500
TZNAME:EST
DTSTART:20311102T060000
END:STANDARD
END:VTIMEZONE
BEGIN:VEVENT
DTSTART;TZID=America/New_York:20300718T113000
DTEND;TZID=America/New_York:20300718T113000
DTSTAMP:20260422T204824
CREATED:20260106T152700Z
LAST-MODIFIED:20260106T155333Z
UID:10001262-1910604600-1910604600@suncoastpca.org
SUMMARY:Monthly Luncheon - Sarasota
DESCRIPTION:Join the Suncoast Region of PCA for a south of the Skyway monthly lunch at Gecko’s Grill & Pub located at 351 N Cattlemen Road Sarasota\, FL 34232. \nPlease register so we can provide Gecko’s Grill & Pub with a headcount. Plan to gather between 11:30am and noon Thur.\, January 15\, 2026. \nThe host is Wayne Cree. lbluevet@icloud.org
URL:https://suncoastpca.org/event/monthly-luncheon-7/2030-07-18/
LOCATION:Gecko’s – Fruitville\, 351 N Cattlemen Rd\, Sarasota\, FL\, 34232\, United States
CATEGORIES:Social
END:VEVENT
BEGIN:VEVENT
DTSTART;TZID=America/New_York:20300815T113000
DTEND;TZID=America/New_York:20300815T113000
DTSTAMP:20260422T204824
CREATED:20260106T152700Z
LAST-MODIFIED:20260106T155333Z
UID:10001263-1913023800-1913023800@suncoastpca.org
SUMMARY:Monthly Luncheon - Sarasota
DESCRIPTION:Join the Suncoast Region of PCA for a south of the Skyway monthly lunch at Gecko’s Grill & Pub located at 351 N Cattlemen Road Sarasota\, FL 34232. \nPlease register so we can provide Gecko’s Grill & Pub with a headcount. Plan to gather between 11:30am and noon Thur.\, January 15\, 2026. \nThe host is Wayne Cree. lbluevet@icloud.org
URL:https://suncoastpca.org/event/monthly-luncheon-7/2030-08-15/
LOCATION:Gecko’s – Fruitville\, 351 N Cattlemen Rd\, Sarasota\, FL\, 34232\, United States
CATEGORIES:Social
END:VEVENT
BEGIN:VEVENT
DTSTART;TZID=America/New_York:20300919T113000
DTEND;TZID=America/New_York:20300919T113000
DTSTAMP:20260422T204824
CREATED:20260106T152700Z
LAST-MODIFIED:20260106T155333Z
UID:10001264-1916047800-1916047800@suncoastpca.org
SUMMARY:Monthly Luncheon - Sarasota
DESCRIPTION:Join the Suncoast Region of PCA for a south of the Skyway monthly lunch at Gecko’s Grill & Pub located at 351 N Cattlemen Road Sarasota\, FL 34232. \nPlease register so we can provide Gecko’s Grill & Pub with a headcount. Plan to gather between 11:30am and noon Thur.\, January 15\, 2026. \nThe host is Wayne Cree. lbluevet@icloud.org
URL:https://suncoastpca.org/event/monthly-luncheon-7/2030-09-19/
LOCATION:Gecko’s – Fruitville\, 351 N Cattlemen Rd\, Sarasota\, FL\, 34232\, United States
CATEGORIES:Social
END:VEVENT
BEGIN:VEVENT
DTSTART;TZID=America/New_York:20301017T113000
DTEND;TZID=America/New_York:20301017T113000
DTSTAMP:20260422T204824
CREATED:20260106T152700Z
LAST-MODIFIED:20260106T155333Z
UID:10001265-1918467000-1918467000@suncoastpca.org
SUMMARY:Monthly Luncheon - Sarasota
DESCRIPTION:Join the Suncoast Region of PCA for a south of the Skyway monthly lunch at Gecko’s Grill & Pub located at 351 N Cattlemen Road Sarasota\, FL 34232. \nPlease register so we can provide Gecko’s Grill & Pub with a headcount. Plan to gather between 11:30am and noon Thur.\, January 15\, 2026. \nThe host is Wayne Cree. lbluevet@icloud.org
URL:https://suncoastpca.org/event/monthly-luncheon-7/2030-10-17/
LOCATION:Gecko’s – Fruitville\, 351 N Cattlemen Rd\, Sarasota\, FL\, 34232\, United States
CATEGORIES:Social
END:VEVENT
BEGIN:VEVENT
DTSTART;TZID=America/New_York:20301121T113000
DTEND;TZID=America/New_York:20301121T113000
DTSTAMP:20260422T204824
CREATED:20260106T152700Z
LAST-MODIFIED:20260106T155333Z
UID:10001266-1921491000-1921491000@suncoastpca.org
SUMMARY:Monthly Luncheon - Sarasota
DESCRIPTION:Join the Suncoast Region of PCA for a south of the Skyway monthly lunch at Gecko’s Grill & Pub located at 351 N Cattlemen Road Sarasota\, FL 34232. \nPlease register so we can provide Gecko’s Grill & Pub with a headcount. Plan to gather between 11:30am and noon Thur.\, January 15\, 2026. \nThe host is Wayne Cree. lbluevet@icloud.org
URL:https://suncoastpca.org/event/monthly-luncheon-7/2030-11-21/
LOCATION:Gecko’s – Fruitville\, 351 N Cattlemen Rd\, Sarasota\, FL\, 34232\, United States
CATEGORIES:Social
END:VEVENT
BEGIN:VEVENT
DTSTART;TZID=America/New_York:20301219T113000
DTEND;TZID=America/New_York:20301219T113000
DTSTAMP:20260422T204824
CREATED:20260106T152700Z
LAST-MODIFIED:20260106T155333Z
UID:10001267-1923910200-1923910200@suncoastpca.org
SUMMARY:Monthly Luncheon - Sarasota
DESCRIPTION:Join the Suncoast Region of PCA for a south of the Skyway monthly lunch at Gecko’s Grill & Pub located at 351 N Cattlemen Road Sarasota\, FL 34232. \nPlease register so we can provide Gecko’s Grill & Pub with a headcount. Plan to gather between 11:30am and noon Thur.\, January 15\, 2026. \nThe host is Wayne Cree. lbluevet@icloud.org
URL:https://suncoastpca.org/event/monthly-luncheon-7/2030-12-19/
LOCATION:Gecko’s – Fruitville\, 351 N Cattlemen Rd\, Sarasota\, FL\, 34232\, United States
CATEGORIES:Social
END:VEVENT
END:VCALENDAR