BEGIN:VCALENDAR
VERSION:2.0
PRODID:-//Suncoast Florida Region - PCA - ECPv6.15.20//NONSGML v1.0//EN
CALSCALE:GREGORIAN
METHOD:PUBLISH
X-WR-CALNAME:Suncoast Florida Region - PCA
X-ORIGINAL-URL:https://suncoastpca.org
X-WR-CALDESC:Events for Suncoast Florida Region - PCA
REFRESH-INTERVAL;VALUE=DURATION:PT1H
X-Robots-Tag:noindex
X-PUBLISHED-TTL:PT1H
BEGIN:VTIMEZONE
TZID:America/New_York
BEGIN:DAYLIGHT
TZOFFSETFROM:-0500
TZOFFSETTO:-0400
TZNAME:EDT
DTSTART:20250309T070000
END:DAYLIGHT
BEGIN:STANDARD
TZOFFSETFROM:-0400
TZOFFSETTO:-0500
TZNAME:EST
DTSTART:20251102T060000
END:STANDARD
BEGIN:DAYLIGHT
TZOFFSETFROM:-0500
TZOFFSETTO:-0400
TZNAME:EDT
DTSTART:20260308T070000
END:DAYLIGHT
BEGIN:STANDARD
TZOFFSETFROM:-0400
TZOFFSETTO:-0500
TZNAME:EST
DTSTART:20261101T060000
END:STANDARD
BEGIN:DAYLIGHT
TZOFFSETFROM:-0500
TZOFFSETTO:-0400
TZNAME:EDT
DTSTART:20270314T070000
END:DAYLIGHT
BEGIN:STANDARD
TZOFFSETFROM:-0400
TZOFFSETTO:-0500
TZNAME:EST
DTSTART:20271107T060000
END:STANDARD
BEGIN:DAYLIGHT
TZOFFSETFROM:-0500
TZOFFSETTO:-0400
TZNAME:EDT
DTSTART:20280312T070000
END:DAYLIGHT
BEGIN:STANDARD
TZOFFSETFROM:-0400
TZOFFSETTO:-0500
TZNAME:EST
DTSTART:20281105T060000
END:STANDARD
BEGIN:DAYLIGHT
TZOFFSETFROM:-0500
TZOFFSETTO:-0400
TZNAME:EDT
DTSTART:20290311T070000
END:DAYLIGHT
BEGIN:STANDARD
TZOFFSETFROM:-0400
TZOFFSETTO:-0500
TZNAME:EST
DTSTART:20291104T060000
END:STANDARD
END:VTIMEZONE
BEGIN:VEVENT
DTSTART;TZID=America/New_York:20260521T113000
DTEND;TZID=America/New_York:20260521T113000
DTSTAMP:20260422T115146
CREATED:20260106T152700Z
LAST-MODIFIED:20260106T155333Z
UID:10001212-1779363000-1779363000@suncoastpca.org
SUMMARY:Monthly Luncheon - Sarasota
DESCRIPTION:Join the Suncoast Region of PCA for a south of the Skyway monthly lunch at Gecko’s Grill & Pub located at 351 N Cattlemen Road Sarasota\, FL 34232. \nPlease register so we can provide Gecko’s Grill & Pub with a headcount. Plan to gather between 11:30am and noon Thur.\, January 15\, 2026. \nThe host is Wayne Cree. lbluevet@icloud.org
URL:https://suncoastpca.org/event/monthly-luncheon-7/2026-05-21/
LOCATION:Gecko’s – Fruitville\, 351 N Cattlemen Rd\, Sarasota\, FL\, 34232\, United States
CATEGORIES:Social
END:VEVENT
BEGIN:VEVENT
DTSTART;TZID=America/New_York:20260618T113000
DTEND;TZID=America/New_York:20260618T113000
DTSTAMP:20260422T115146
CREATED:20260106T152700Z
LAST-MODIFIED:20260106T155333Z
UID:10001213-1781782200-1781782200@suncoastpca.org
SUMMARY:Monthly Luncheon - Sarasota
DESCRIPTION:Join the Suncoast Region of PCA for a south of the Skyway monthly lunch at Gecko’s Grill & Pub located at 351 N Cattlemen Road Sarasota\, FL 34232. \nPlease register so we can provide Gecko’s Grill & Pub with a headcount. Plan to gather between 11:30am and noon Thur.\, January 15\, 2026. \nThe host is Wayne Cree. lbluevet@icloud.org
URL:https://suncoastpca.org/event/monthly-luncheon-7/2026-06-18/
LOCATION:Gecko’s – Fruitville\, 351 N Cattlemen Rd\, Sarasota\, FL\, 34232\, United States
CATEGORIES:Social
END:VEVENT
BEGIN:VEVENT
DTSTART;TZID=America/New_York:20260716T113000
DTEND;TZID=America/New_York:20260716T113000
DTSTAMP:20260422T115146
CREATED:20260106T152700Z
LAST-MODIFIED:20260106T155333Z
UID:10001214-1784201400-1784201400@suncoastpca.org
SUMMARY:Monthly Luncheon - Sarasota
DESCRIPTION:Join the Suncoast Region of PCA for a south of the Skyway monthly lunch at Gecko’s Grill & Pub located at 351 N Cattlemen Road Sarasota\, FL 34232. \nPlease register so we can provide Gecko’s Grill & Pub with a headcount. Plan to gather between 11:30am and noon Thur.\, January 15\, 2026. \nThe host is Wayne Cree. lbluevet@icloud.org
URL:https://suncoastpca.org/event/monthly-luncheon-7/2026-07-16/
LOCATION:Gecko’s – Fruitville\, 351 N Cattlemen Rd\, Sarasota\, FL\, 34232\, United States
CATEGORIES:Social
END:VEVENT
BEGIN:VEVENT
DTSTART;TZID=America/New_York:20260820T113000
DTEND;TZID=America/New_York:20260820T113000
DTSTAMP:20260422T115146
CREATED:20260106T152700Z
LAST-MODIFIED:20260106T155333Z
UID:10001215-1787225400-1787225400@suncoastpca.org
SUMMARY:Monthly Luncheon - Sarasota
DESCRIPTION:Join the Suncoast Region of PCA for a south of the Skyway monthly lunch at Gecko’s Grill & Pub located at 351 N Cattlemen Road Sarasota\, FL 34232. \nPlease register so we can provide Gecko’s Grill & Pub with a headcount. Plan to gather between 11:30am and noon Thur.\, January 15\, 2026. \nThe host is Wayne Cree. lbluevet@icloud.org
URL:https://suncoastpca.org/event/monthly-luncheon-7/2026-08-20/
LOCATION:Gecko’s – Fruitville\, 351 N Cattlemen Rd\, Sarasota\, FL\, 34232\, United States
CATEGORIES:Social
END:VEVENT
BEGIN:VEVENT
DTSTART;TZID=America/New_York:20260917T113000
DTEND;TZID=America/New_York:20260917T113000
DTSTAMP:20260422T115146
CREATED:20260106T152700Z
LAST-MODIFIED:20260106T155333Z
UID:10001216-1789644600-1789644600@suncoastpca.org
SUMMARY:Monthly Luncheon - Sarasota
DESCRIPTION:Join the Suncoast Region of PCA for a south of the Skyway monthly lunch at Gecko’s Grill & Pub located at 351 N Cattlemen Road Sarasota\, FL 34232. \nPlease register so we can provide Gecko’s Grill & Pub with a headcount. Plan to gather between 11:30am and noon Thur.\, January 15\, 2026. \nThe host is Wayne Cree. lbluevet@icloud.org
URL:https://suncoastpca.org/event/monthly-luncheon-7/2026-09-17/
LOCATION:Gecko’s – Fruitville\, 351 N Cattlemen Rd\, Sarasota\, FL\, 34232\, United States
CATEGORIES:Social
END:VEVENT
BEGIN:VEVENT
DTSTART;TZID=America/New_York:20261015T113000
DTEND;TZID=America/New_York:20261015T113000
DTSTAMP:20260422T115146
CREATED:20260106T152700Z
LAST-MODIFIED:20260106T155333Z
UID:10001217-1792063800-1792063800@suncoastpca.org
SUMMARY:Monthly Luncheon - Sarasota
DESCRIPTION:Join the Suncoast Region of PCA for a south of the Skyway monthly lunch at Gecko’s Grill & Pub located at 351 N Cattlemen Road Sarasota\, FL 34232. \nPlease register so we can provide Gecko’s Grill & Pub with a headcount. Plan to gather between 11:30am and noon Thur.\, January 15\, 2026. \nThe host is Wayne Cree. lbluevet@icloud.org
URL:https://suncoastpca.org/event/monthly-luncheon-7/2026-10-15/
LOCATION:Gecko’s – Fruitville\, 351 N Cattlemen Rd\, Sarasota\, FL\, 34232\, United States
CATEGORIES:Social
END:VEVENT
BEGIN:VEVENT
DTSTART;TZID=America/New_York:20261119T113000
DTEND;TZID=America/New_York:20261119T113000
DTSTAMP:20260422T115146
CREATED:20260106T152700Z
LAST-MODIFIED:20260106T155333Z
UID:10001218-1795087800-1795087800@suncoastpca.org
SUMMARY:Monthly Luncheon - Sarasota
DESCRIPTION:Join the Suncoast Region of PCA for a south of the Skyway monthly lunch at Gecko’s Grill & Pub located at 351 N Cattlemen Road Sarasota\, FL 34232. \nPlease register so we can provide Gecko’s Grill & Pub with a headcount. Plan to gather between 11:30am and noon Thur.\, January 15\, 2026. \nThe host is Wayne Cree. lbluevet@icloud.org
URL:https://suncoastpca.org/event/monthly-luncheon-7/2026-11-19/
LOCATION:Gecko’s – Fruitville\, 351 N Cattlemen Rd\, Sarasota\, FL\, 34232\, United States
CATEGORIES:Social
END:VEVENT
BEGIN:VEVENT
DTSTART;TZID=America/New_York:20261217T113000
DTEND;TZID=America/New_York:20261217T113000
DTSTAMP:20260422T115146
CREATED:20260106T152700Z
LAST-MODIFIED:20260106T155333Z
UID:10001219-1797507000-1797507000@suncoastpca.org
SUMMARY:Monthly Luncheon - Sarasota
DESCRIPTION:Join the Suncoast Region of PCA for a south of the Skyway monthly lunch at Gecko’s Grill & Pub located at 351 N Cattlemen Road Sarasota\, FL 34232. \nPlease register so we can provide Gecko’s Grill & Pub with a headcount. Plan to gather between 11:30am and noon Thur.\, January 15\, 2026. \nThe host is Wayne Cree. lbluevet@icloud.org
URL:https://suncoastpca.org/event/monthly-luncheon-7/2026-12-17/
LOCATION:Gecko’s – Fruitville\, 351 N Cattlemen Rd\, Sarasota\, FL\, 34232\, United States
CATEGORIES:Social
END:VEVENT
BEGIN:VEVENT
DTSTART;TZID=America/New_York:20270121T113000
DTEND;TZID=America/New_York:20270121T113000
DTSTAMP:20260422T115146
CREATED:20260106T152700Z
LAST-MODIFIED:20260106T155333Z
UID:10001220-1800531000-1800531000@suncoastpca.org
SUMMARY:Monthly Luncheon - Sarasota
DESCRIPTION:Join the Suncoast Region of PCA for a south of the Skyway monthly lunch at Gecko’s Grill & Pub located at 351 N Cattlemen Road Sarasota\, FL 34232. \nPlease register so we can provide Gecko’s Grill & Pub with a headcount. Plan to gather between 11:30am and noon Thur.\, January 15\, 2026. \nThe host is Wayne Cree. lbluevet@icloud.org
URL:https://suncoastpca.org/event/monthly-luncheon-7/2027-01-21/
LOCATION:Gecko’s – Fruitville\, 351 N Cattlemen Rd\, Sarasota\, FL\, 34232\, United States
CATEGORIES:Social
END:VEVENT
BEGIN:VEVENT
DTSTART;TZID=America/New_York:20270218T113000
DTEND;TZID=America/New_York:20270218T113000
DTSTAMP:20260422T115146
CREATED:20260106T152700Z
LAST-MODIFIED:20260106T155333Z
UID:10001221-1802950200-1802950200@suncoastpca.org
SUMMARY:Monthly Luncheon - Sarasota
DESCRIPTION:Join the Suncoast Region of PCA for a south of the Skyway monthly lunch at Gecko’s Grill & Pub located at 351 N Cattlemen Road Sarasota\, FL 34232. \nPlease register so we can provide Gecko’s Grill & Pub with a headcount. Plan to gather between 11:30am and noon Thur.\, January 15\, 2026. \nThe host is Wayne Cree. lbluevet@icloud.org
URL:https://suncoastpca.org/event/monthly-luncheon-7/2027-02-18/
LOCATION:Gecko’s – Fruitville\, 351 N Cattlemen Rd\, Sarasota\, FL\, 34232\, United States
CATEGORIES:Social
END:VEVENT
BEGIN:VEVENT
DTSTART;TZID=America/New_York:20270318T113000
DTEND;TZID=America/New_York:20270318T113000
DTSTAMP:20260422T115146
CREATED:20260106T152700Z
LAST-MODIFIED:20260106T155333Z
UID:10001222-1805369400-1805369400@suncoastpca.org
SUMMARY:Monthly Luncheon - Sarasota
DESCRIPTION:Join the Suncoast Region of PCA for a south of the Skyway monthly lunch at Gecko’s Grill & Pub located at 351 N Cattlemen Road Sarasota\, FL 34232. \nPlease register so we can provide Gecko’s Grill & Pub with a headcount. Plan to gather between 11:30am and noon Thur.\, January 15\, 2026. \nThe host is Wayne Cree. lbluevet@icloud.org
URL:https://suncoastpca.org/event/monthly-luncheon-7/2027-03-18/
LOCATION:Gecko’s – Fruitville\, 351 N Cattlemen Rd\, Sarasota\, FL\, 34232\, United States
CATEGORIES:Social
END:VEVENT
BEGIN:VEVENT
DTSTART;TZID=America/New_York:20270415T113000
DTEND;TZID=America/New_York:20270415T113000
DTSTAMP:20260422T115146
CREATED:20260106T152700Z
LAST-MODIFIED:20260106T155333Z
UID:10001223-1807788600-1807788600@suncoastpca.org
SUMMARY:Monthly Luncheon - Sarasota
DESCRIPTION:Join the Suncoast Region of PCA for a south of the Skyway monthly lunch at Gecko’s Grill & Pub located at 351 N Cattlemen Road Sarasota\, FL 34232. \nPlease register so we can provide Gecko’s Grill & Pub with a headcount. Plan to gather between 11:30am and noon Thur.\, January 15\, 2026. \nThe host is Wayne Cree. lbluevet@icloud.org
URL:https://suncoastpca.org/event/monthly-luncheon-7/2027-04-15/
LOCATION:Gecko’s – Fruitville\, 351 N Cattlemen Rd\, Sarasota\, FL\, 34232\, United States
CATEGORIES:Social
END:VEVENT
BEGIN:VEVENT
DTSTART;TZID=America/New_York:20270520T113000
DTEND;TZID=America/New_York:20270520T113000
DTSTAMP:20260422T115146
CREATED:20260106T152700Z
LAST-MODIFIED:20260106T155333Z
UID:10001224-1810812600-1810812600@suncoastpca.org
SUMMARY:Monthly Luncheon - Sarasota
DESCRIPTION:Join the Suncoast Region of PCA for a south of the Skyway monthly lunch at Gecko’s Grill & Pub located at 351 N Cattlemen Road Sarasota\, FL 34232. \nPlease register so we can provide Gecko’s Grill & Pub with a headcount. Plan to gather between 11:30am and noon Thur.\, January 15\, 2026. \nThe host is Wayne Cree. lbluevet@icloud.org
URL:https://suncoastpca.org/event/monthly-luncheon-7/2027-05-20/
LOCATION:Gecko’s – Fruitville\, 351 N Cattlemen Rd\, Sarasota\, FL\, 34232\, United States
CATEGORIES:Social
END:VEVENT
BEGIN:VEVENT
DTSTART;TZID=America/New_York:20270617T113000
DTEND;TZID=America/New_York:20270617T113000
DTSTAMP:20260422T115146
CREATED:20260106T152700Z
LAST-MODIFIED:20260106T155333Z
UID:10001225-1813231800-1813231800@suncoastpca.org
SUMMARY:Monthly Luncheon - Sarasota
DESCRIPTION:Join the Suncoast Region of PCA for a south of the Skyway monthly lunch at Gecko’s Grill & Pub located at 351 N Cattlemen Road Sarasota\, FL 34232. \nPlease register so we can provide Gecko’s Grill & Pub with a headcount. Plan to gather between 11:30am and noon Thur.\, January 15\, 2026. \nThe host is Wayne Cree. lbluevet@icloud.org
URL:https://suncoastpca.org/event/monthly-luncheon-7/2027-06-17/
LOCATION:Gecko’s – Fruitville\, 351 N Cattlemen Rd\, Sarasota\, FL\, 34232\, United States
CATEGORIES:Social
END:VEVENT
BEGIN:VEVENT
DTSTART;TZID=America/New_York:20270715T113000
DTEND;TZID=America/New_York:20270715T113000
DTSTAMP:20260422T115146
CREATED:20260106T152700Z
LAST-MODIFIED:20260106T155333Z
UID:10001226-1815651000-1815651000@suncoastpca.org
SUMMARY:Monthly Luncheon - Sarasota
DESCRIPTION:Join the Suncoast Region of PCA for a south of the Skyway monthly lunch at Gecko’s Grill & Pub located at 351 N Cattlemen Road Sarasota\, FL 34232. \nPlease register so we can provide Gecko’s Grill & Pub with a headcount. Plan to gather between 11:30am and noon Thur.\, January 15\, 2026. \nThe host is Wayne Cree. lbluevet@icloud.org
URL:https://suncoastpca.org/event/monthly-luncheon-7/2027-07-15/
LOCATION:Gecko’s – Fruitville\, 351 N Cattlemen Rd\, Sarasota\, FL\, 34232\, United States
CATEGORIES:Social
END:VEVENT
BEGIN:VEVENT
DTSTART;TZID=America/New_York:20270819T113000
DTEND;TZID=America/New_York:20270819T113000
DTSTAMP:20260422T115146
CREATED:20260106T152700Z
LAST-MODIFIED:20260106T155333Z
UID:10001227-1818675000-1818675000@suncoastpca.org
SUMMARY:Monthly Luncheon - Sarasota
DESCRIPTION:Join the Suncoast Region of PCA for a south of the Skyway monthly lunch at Gecko’s Grill & Pub located at 351 N Cattlemen Road Sarasota\, FL 34232. \nPlease register so we can provide Gecko’s Grill & Pub with a headcount. Plan to gather between 11:30am and noon Thur.\, January 15\, 2026. \nThe host is Wayne Cree. lbluevet@icloud.org
URL:https://suncoastpca.org/event/monthly-luncheon-7/2027-08-19/
LOCATION:Gecko’s – Fruitville\, 351 N Cattlemen Rd\, Sarasota\, FL\, 34232\, United States
CATEGORIES:Social
END:VEVENT
BEGIN:VEVENT
DTSTART;TZID=America/New_York:20270916T113000
DTEND;TZID=America/New_York:20270916T113000
DTSTAMP:20260422T115146
CREATED:20260106T152700Z
LAST-MODIFIED:20260106T155333Z
UID:10001228-1821094200-1821094200@suncoastpca.org
SUMMARY:Monthly Luncheon - Sarasota
DESCRIPTION:Join the Suncoast Region of PCA for a south of the Skyway monthly lunch at Gecko’s Grill & Pub located at 351 N Cattlemen Road Sarasota\, FL 34232. \nPlease register so we can provide Gecko’s Grill & Pub with a headcount. Plan to gather between 11:30am and noon Thur.\, January 15\, 2026. \nThe host is Wayne Cree. lbluevet@icloud.org
URL:https://suncoastpca.org/event/monthly-luncheon-7/2027-09-16/
LOCATION:Gecko’s – Fruitville\, 351 N Cattlemen Rd\, Sarasota\, FL\, 34232\, United States
CATEGORIES:Social
END:VEVENT
BEGIN:VEVENT
DTSTART;TZID=America/New_York:20271021T113000
DTEND;TZID=America/New_York:20271021T113000
DTSTAMP:20260422T115146
CREATED:20260106T152700Z
LAST-MODIFIED:20260106T155333Z
UID:10001229-1824118200-1824118200@suncoastpca.org
SUMMARY:Monthly Luncheon - Sarasota
DESCRIPTION:Join the Suncoast Region of PCA for a south of the Skyway monthly lunch at Gecko’s Grill & Pub located at 351 N Cattlemen Road Sarasota\, FL 34232. \nPlease register so we can provide Gecko’s Grill & Pub with a headcount. Plan to gather between 11:30am and noon Thur.\, January 15\, 2026. \nThe host is Wayne Cree. lbluevet@icloud.org
URL:https://suncoastpca.org/event/monthly-luncheon-7/2027-10-21/
LOCATION:Gecko’s – Fruitville\, 351 N Cattlemen Rd\, Sarasota\, FL\, 34232\, United States
CATEGORIES:Social
END:VEVENT
BEGIN:VEVENT
DTSTART;TZID=America/New_York:20271118T113000
DTEND;TZID=America/New_York:20271118T113000
DTSTAMP:20260422T115146
CREATED:20260106T152700Z
LAST-MODIFIED:20260106T155333Z
UID:10001230-1826537400-1826537400@suncoastpca.org
SUMMARY:Monthly Luncheon - Sarasota
DESCRIPTION:Join the Suncoast Region of PCA for a south of the Skyway monthly lunch at Gecko’s Grill & Pub located at 351 N Cattlemen Road Sarasota\, FL 34232. \nPlease register so we can provide Gecko’s Grill & Pub with a headcount. Plan to gather between 11:30am and noon Thur.\, January 15\, 2026. \nThe host is Wayne Cree. lbluevet@icloud.org
URL:https://suncoastpca.org/event/monthly-luncheon-7/2027-11-18/
LOCATION:Gecko’s – Fruitville\, 351 N Cattlemen Rd\, Sarasota\, FL\, 34232\, United States
CATEGORIES:Social
END:VEVENT
BEGIN:VEVENT
DTSTART;TZID=America/New_York:20271216T113000
DTEND;TZID=America/New_York:20271216T113000
DTSTAMP:20260422T115146
CREATED:20260106T152700Z
LAST-MODIFIED:20260106T155333Z
UID:10001231-1828956600-1828956600@suncoastpca.org
SUMMARY:Monthly Luncheon - Sarasota
DESCRIPTION:Join the Suncoast Region of PCA for a south of the Skyway monthly lunch at Gecko’s Grill & Pub located at 351 N Cattlemen Road Sarasota\, FL 34232. \nPlease register so we can provide Gecko’s Grill & Pub with a headcount. Plan to gather between 11:30am and noon Thur.\, January 15\, 2026. \nThe host is Wayne Cree. lbluevet@icloud.org
URL:https://suncoastpca.org/event/monthly-luncheon-7/2027-12-16/
LOCATION:Gecko’s – Fruitville\, 351 N Cattlemen Rd\, Sarasota\, FL\, 34232\, United States
CATEGORIES:Social
END:VEVENT
BEGIN:VEVENT
DTSTART;TZID=America/New_York:20280120T113000
DTEND;TZID=America/New_York:20280120T113000
DTSTAMP:20260422T115146
CREATED:20260106T152700Z
LAST-MODIFIED:20260106T155333Z
UID:10001232-1831980600-1831980600@suncoastpca.org
SUMMARY:Monthly Luncheon - Sarasota
DESCRIPTION:Join the Suncoast Region of PCA for a south of the Skyway monthly lunch at Gecko’s Grill & Pub located at 351 N Cattlemen Road Sarasota\, FL 34232. \nPlease register so we can provide Gecko’s Grill & Pub with a headcount. Plan to gather between 11:30am and noon Thur.\, January 15\, 2026. \nThe host is Wayne Cree. lbluevet@icloud.org
URL:https://suncoastpca.org/event/monthly-luncheon-7/2028-01-20/
LOCATION:Gecko’s – Fruitville\, 351 N Cattlemen Rd\, Sarasota\, FL\, 34232\, United States
CATEGORIES:Social
END:VEVENT
BEGIN:VEVENT
DTSTART;TZID=America/New_York:20280217T113000
DTEND;TZID=America/New_York:20280217T113000
DTSTAMP:20260422T115146
CREATED:20260106T152700Z
LAST-MODIFIED:20260106T155333Z
UID:10001233-1834399800-1834399800@suncoastpca.org
SUMMARY:Monthly Luncheon - Sarasota
DESCRIPTION:Join the Suncoast Region of PCA for a south of the Skyway monthly lunch at Gecko’s Grill & Pub located at 351 N Cattlemen Road Sarasota\, FL 34232. \nPlease register so we can provide Gecko’s Grill & Pub with a headcount. Plan to gather between 11:30am and noon Thur.\, January 15\, 2026. \nThe host is Wayne Cree. lbluevet@icloud.org
URL:https://suncoastpca.org/event/monthly-luncheon-7/2028-02-17/
LOCATION:Gecko’s – Fruitville\, 351 N Cattlemen Rd\, Sarasota\, FL\, 34232\, United States
CATEGORIES:Social
END:VEVENT
BEGIN:VEVENT
DTSTART;TZID=America/New_York:20280316T113000
DTEND;TZID=America/New_York:20280316T113000
DTSTAMP:20260422T115146
CREATED:20260106T152700Z
LAST-MODIFIED:20260106T155333Z
UID:10001234-1836819000-1836819000@suncoastpca.org
SUMMARY:Monthly Luncheon - Sarasota
DESCRIPTION:Join the Suncoast Region of PCA for a south of the Skyway monthly lunch at Gecko’s Grill & Pub located at 351 N Cattlemen Road Sarasota\, FL 34232. \nPlease register so we can provide Gecko’s Grill & Pub with a headcount. Plan to gather between 11:30am and noon Thur.\, January 15\, 2026. \nThe host is Wayne Cree. lbluevet@icloud.org
URL:https://suncoastpca.org/event/monthly-luncheon-7/2028-03-16/
LOCATION:Gecko’s – Fruitville\, 351 N Cattlemen Rd\, Sarasota\, FL\, 34232\, United States
CATEGORIES:Social
END:VEVENT
BEGIN:VEVENT
DTSTART;TZID=America/New_York:20280420T113000
DTEND;TZID=America/New_York:20280420T113000
DTSTAMP:20260422T115146
CREATED:20260106T152700Z
LAST-MODIFIED:20260106T155333Z
UID:10001235-1839843000-1839843000@suncoastpca.org
SUMMARY:Monthly Luncheon - Sarasota
DESCRIPTION:Join the Suncoast Region of PCA for a south of the Skyway monthly lunch at Gecko’s Grill & Pub located at 351 N Cattlemen Road Sarasota\, FL 34232. \nPlease register so we can provide Gecko’s Grill & Pub with a headcount. Plan to gather between 11:30am and noon Thur.\, January 15\, 2026. \nThe host is Wayne Cree. lbluevet@icloud.org
URL:https://suncoastpca.org/event/monthly-luncheon-7/2028-04-20/
LOCATION:Gecko’s – Fruitville\, 351 N Cattlemen Rd\, Sarasota\, FL\, 34232\, United States
CATEGORIES:Social
END:VEVENT
BEGIN:VEVENT
DTSTART;TZID=America/New_York:20280518T113000
DTEND;TZID=America/New_York:20280518T113000
DTSTAMP:20260422T115146
CREATED:20260106T152700Z
LAST-MODIFIED:20260106T155333Z
UID:10001236-1842262200-1842262200@suncoastpca.org
SUMMARY:Monthly Luncheon - Sarasota
DESCRIPTION:Join the Suncoast Region of PCA for a south of the Skyway monthly lunch at Gecko’s Grill & Pub located at 351 N Cattlemen Road Sarasota\, FL 34232. \nPlease register so we can provide Gecko’s Grill & Pub with a headcount. Plan to gather between 11:30am and noon Thur.\, January 15\, 2026. \nThe host is Wayne Cree. lbluevet@icloud.org
URL:https://suncoastpca.org/event/monthly-luncheon-7/2028-05-18/
LOCATION:Gecko’s – Fruitville\, 351 N Cattlemen Rd\, Sarasota\, FL\, 34232\, United States
CATEGORIES:Social
END:VEVENT
BEGIN:VEVENT
DTSTART;TZID=America/New_York:20280615T113000
DTEND;TZID=America/New_York:20280615T113000
DTSTAMP:20260422T115146
CREATED:20260106T152700Z
LAST-MODIFIED:20260106T155333Z
UID:10001237-1844681400-1844681400@suncoastpca.org
SUMMARY:Monthly Luncheon - Sarasota
DESCRIPTION:Join the Suncoast Region of PCA for a south of the Skyway monthly lunch at Gecko’s Grill & Pub located at 351 N Cattlemen Road Sarasota\, FL 34232. \nPlease register so we can provide Gecko’s Grill & Pub with a headcount. Plan to gather between 11:30am and noon Thur.\, January 15\, 2026. \nThe host is Wayne Cree. lbluevet@icloud.org
URL:https://suncoastpca.org/event/monthly-luncheon-7/2028-06-15/
LOCATION:Gecko’s – Fruitville\, 351 N Cattlemen Rd\, Sarasota\, FL\, 34232\, United States
CATEGORIES:Social
END:VEVENT
BEGIN:VEVENT
DTSTART;TZID=America/New_York:20280720T113000
DTEND;TZID=America/New_York:20280720T113000
DTSTAMP:20260422T115146
CREATED:20260106T152700Z
LAST-MODIFIED:20260106T155333Z
UID:10001238-1847705400-1847705400@suncoastpca.org
SUMMARY:Monthly Luncheon - Sarasota
DESCRIPTION:Join the Suncoast Region of PCA for a south of the Skyway monthly lunch at Gecko’s Grill & Pub located at 351 N Cattlemen Road Sarasota\, FL 34232. \nPlease register so we can provide Gecko’s Grill & Pub with a headcount. Plan to gather between 11:30am and noon Thur.\, January 15\, 2026. \nThe host is Wayne Cree. lbluevet@icloud.org
URL:https://suncoastpca.org/event/monthly-luncheon-7/2028-07-20/
LOCATION:Gecko’s – Fruitville\, 351 N Cattlemen Rd\, Sarasota\, FL\, 34232\, United States
CATEGORIES:Social
END:VEVENT
BEGIN:VEVENT
DTSTART;TZID=America/New_York:20280817T113000
DTEND;TZID=America/New_York:20280817T113000
DTSTAMP:20260422T115146
CREATED:20260106T152700Z
LAST-MODIFIED:20260106T155333Z
UID:10001239-1850124600-1850124600@suncoastpca.org
SUMMARY:Monthly Luncheon - Sarasota
DESCRIPTION:Join the Suncoast Region of PCA for a south of the Skyway monthly lunch at Gecko’s Grill & Pub located at 351 N Cattlemen Road Sarasota\, FL 34232. \nPlease register so we can provide Gecko’s Grill & Pub with a headcount. Plan to gather between 11:30am and noon Thur.\, January 15\, 2026. \nThe host is Wayne Cree. lbluevet@icloud.org
URL:https://suncoastpca.org/event/monthly-luncheon-7/2028-08-17/
LOCATION:Gecko’s – Fruitville\, 351 N Cattlemen Rd\, Sarasota\, FL\, 34232\, United States
CATEGORIES:Social
END:VEVENT
BEGIN:VEVENT
DTSTART;TZID=America/New_York:20280921T113000
DTEND;TZID=America/New_York:20280921T113000
DTSTAMP:20260422T115146
CREATED:20260106T152700Z
LAST-MODIFIED:20260106T155333Z
UID:10001240-1853148600-1853148600@suncoastpca.org
SUMMARY:Monthly Luncheon - Sarasota
DESCRIPTION:Join the Suncoast Region of PCA for a south of the Skyway monthly lunch at Gecko’s Grill & Pub located at 351 N Cattlemen Road Sarasota\, FL 34232. \nPlease register so we can provide Gecko’s Grill & Pub with a headcount. Plan to gather between 11:30am and noon Thur.\, January 15\, 2026. \nThe host is Wayne Cree. lbluevet@icloud.org
URL:https://suncoastpca.org/event/monthly-luncheon-7/2028-09-21/
LOCATION:Gecko’s – Fruitville\, 351 N Cattlemen Rd\, Sarasota\, FL\, 34232\, United States
CATEGORIES:Social
END:VEVENT
BEGIN:VEVENT
DTSTART;TZID=America/New_York:20281019T113000
DTEND;TZID=America/New_York:20281019T113000
DTSTAMP:20260422T115146
CREATED:20260106T152700Z
LAST-MODIFIED:20260106T155333Z
UID:10001241-1855567800-1855567800@suncoastpca.org
SUMMARY:Monthly Luncheon - Sarasota
DESCRIPTION:Join the Suncoast Region of PCA for a south of the Skyway monthly lunch at Gecko’s Grill & Pub located at 351 N Cattlemen Road Sarasota\, FL 34232. \nPlease register so we can provide Gecko’s Grill & Pub with a headcount. Plan to gather between 11:30am and noon Thur.\, January 15\, 2026. \nThe host is Wayne Cree. lbluevet@icloud.org
URL:https://suncoastpca.org/event/monthly-luncheon-7/2028-10-19/
LOCATION:Gecko’s – Fruitville\, 351 N Cattlemen Rd\, Sarasota\, FL\, 34232\, United States
CATEGORIES:Social
END:VEVENT
END:VCALENDAR