BEGIN:VCALENDAR
VERSION:2.0
PRODID:-//Suncoast Florida Region - PCA - ECPv6.15.20//NONSGML v1.0//EN
CALSCALE:GREGORIAN
METHOD:PUBLISH
X-WR-CALNAME:Suncoast Florida Region - PCA
X-ORIGINAL-URL:https://suncoastpca.org
X-WR-CALDESC:Events for Suncoast Florida Region - PCA
REFRESH-INTERVAL;VALUE=DURATION:PT1H
X-Robots-Tag:noindex
X-PUBLISHED-TTL:PT1H
BEGIN:VTIMEZONE
TZID:America/New_York
BEGIN:DAYLIGHT
TZOFFSETFROM:-0500
TZOFFSETTO:-0400
TZNAME:EDT
DTSTART:20250309T070000
END:DAYLIGHT
BEGIN:STANDARD
TZOFFSETFROM:-0400
TZOFFSETTO:-0500
TZNAME:EST
DTSTART:20251102T060000
END:STANDARD
BEGIN:DAYLIGHT
TZOFFSETFROM:-0500
TZOFFSETTO:-0400
TZNAME:EDT
DTSTART:20260308T070000
END:DAYLIGHT
BEGIN:STANDARD
TZOFFSETFROM:-0400
TZOFFSETTO:-0500
TZNAME:EST
DTSTART:20261101T060000
END:STANDARD
BEGIN:DAYLIGHT
TZOFFSETFROM:-0500
TZOFFSETTO:-0400
TZNAME:EDT
DTSTART:20270314T070000
END:DAYLIGHT
BEGIN:STANDARD
TZOFFSETFROM:-0400
TZOFFSETTO:-0500
TZNAME:EST
DTSTART:20271107T060000
END:STANDARD
END:VTIMEZONE
BEGIN:VEVENT
DTSTART;TZID=America/New_York:20260416T113000
DTEND;TZID=America/New_York:20260416T113000
DTSTAMP:20260422T133454
CREATED:20260106T152700Z
LAST-MODIFIED:20260106T155333Z
UID:10001211-1776339000-1776339000@suncoastpca.org
SUMMARY:Monthly Luncheon - Sarasota
DESCRIPTION:Join the Suncoast Region of PCA for a south of the Skyway monthly lunch at Gecko’s Grill & Pub located at 351 N Cattlemen Road Sarasota\, FL 34232. \nPlease register so we can provide Gecko’s Grill & Pub with a headcount. Plan to gather between 11:30am and noon Thur.\, January 15\, 2026. \nThe host is Wayne Cree. lbluevet@icloud.org
URL:https://suncoastpca.org/event/monthly-luncheon-7/2026-04-16/
LOCATION:Gecko’s – Fruitville\, 351 N Cattlemen Rd\, Sarasota\, FL\, 34232\, United States
CATEGORIES:Social
END:VEVENT
BEGIN:VEVENT
DTSTART;TZID=America/New_York:20260319T113000
DTEND;TZID=America/New_York:20260319T113000
DTSTAMP:20260422T133454
CREATED:20260106T152700Z
LAST-MODIFIED:20260106T155333Z
UID:10001210-1773919800-1773919800@suncoastpca.org
SUMMARY:Monthly Luncheon - Sarasota
DESCRIPTION:Join the Suncoast Region of PCA for a south of the Skyway monthly lunch at Gecko’s Grill & Pub located at 351 N Cattlemen Road Sarasota\, FL 34232. \nPlease register so we can provide Gecko’s Grill & Pub with a headcount. Plan to gather between 11:30am and noon Thur.\, January 15\, 2026. \nThe host is Wayne Cree. lbluevet@icloud.org
URL:https://suncoastpca.org/event/monthly-luncheon-7/2026-03-19/
LOCATION:Gecko’s – Fruitville\, 351 N Cattlemen Rd\, Sarasota\, FL\, 34232\, United States
CATEGORIES:Social
END:VEVENT
BEGIN:VEVENT
DTSTART;TZID=America/New_York:20260219T113000
DTEND;TZID=America/New_York:20260219T113000
DTSTAMP:20260422T133454
CREATED:20260106T152700Z
LAST-MODIFIED:20260106T155333Z
UID:10001209-1771500600-1771500600@suncoastpca.org
SUMMARY:Monthly Luncheon - Sarasota
DESCRIPTION:Join the Suncoast Region of PCA for a south of the Skyway monthly lunch at Gecko’s Grill & Pub located at 351 N Cattlemen Road Sarasota\, FL 34232. \nPlease register so we can provide Gecko’s Grill & Pub with a headcount. Plan to gather between 11:30am and noon Thur.\, January 15\, 2026. \nThe host is Wayne Cree. lbluevet@icloud.org
URL:https://suncoastpca.org/event/monthly-luncheon-7/2026-02-19/
LOCATION:Gecko’s – Fruitville\, 351 N Cattlemen Rd\, Sarasota\, FL\, 34232\, United States
CATEGORIES:Social
END:VEVENT
BEGIN:VEVENT
DTSTART;TZID=America/New_York:20260115T113000
DTEND;TZID=America/New_York:20260115T113000
DTSTAMP:20260422T133454
CREATED:20260106T152700Z
LAST-MODIFIED:20260106T155333Z
UID:10001208-1768476600-1768476600@suncoastpca.org
SUMMARY:Monthly Luncheon - Sarasota
DESCRIPTION:Join the Suncoast Region of PCA for a south of the Skyway monthly lunch at Gecko’s Grill & Pub located at 351 N Cattlemen Road Sarasota\, FL 34232. \nPlease register so we can provide Gecko’s Grill & Pub with a headcount. Plan to gather between 11:30am and noon Thur.\, January 15\, 2026. \nThe host is Wayne Cree. lbluevet@icloud.org
URL:https://suncoastpca.org/event/monthly-luncheon-7/2026-01-15/
LOCATION:Gecko’s – Fruitville\, 351 N Cattlemen Rd\, Sarasota\, FL\, 34232\, United States
CATEGORIES:Social
END:VEVENT
END:VCALENDAR