BEGIN:VCALENDAR
VERSION:2.0
PRODID:-//Suncoast Florida Region - PCA - ECPv6.15.20//NONSGML v1.0//EN
CALSCALE:GREGORIAN
METHOD:PUBLISH
X-WR-CALNAME:Suncoast Florida Region - PCA
X-ORIGINAL-URL:https://suncoastpca.org
X-WR-CALDESC:Events for Suncoast Florida Region - PCA
REFRESH-INTERVAL;VALUE=DURATION:PT1H
X-Robots-Tag:noindex
X-PUBLISHED-TTL:PT1H
BEGIN:VTIMEZONE
TZID:America/New_York
BEGIN:DAYLIGHT
TZOFFSETFROM:-0500
TZOFFSETTO:-0400
TZNAME:EDT
DTSTART:20120311T070000
END:DAYLIGHT
BEGIN:STANDARD
TZOFFSETFROM:-0400
TZOFFSETTO:-0500
TZNAME:EST
DTSTART:20121104T060000
END:STANDARD
BEGIN:DAYLIGHT
TZOFFSETFROM:-0500
TZOFFSETTO:-0400
TZNAME:EDT
DTSTART:20130310T070000
END:DAYLIGHT
BEGIN:STANDARD
TZOFFSETFROM:-0400
TZOFFSETTO:-0500
TZNAME:EST
DTSTART:20131103T060000
END:STANDARD
BEGIN:DAYLIGHT
TZOFFSETFROM:-0500
TZOFFSETTO:-0400
TZNAME:EDT
DTSTART:20140309T070000
END:DAYLIGHT
BEGIN:STANDARD
TZOFFSETFROM:-0400
TZOFFSETTO:-0500
TZNAME:EST
DTSTART:20141102T060000
END:STANDARD
BEGIN:DAYLIGHT
TZOFFSETFROM:-0500
TZOFFSETTO:-0400
TZNAME:EDT
DTSTART:20150308T070000
END:DAYLIGHT
BEGIN:STANDARD
TZOFFSETFROM:-0400
TZOFFSETTO:-0500
TZNAME:EST
DTSTART:20151101T060000
END:STANDARD
BEGIN:DAYLIGHT
TZOFFSETFROM:-0500
TZOFFSETTO:-0400
TZNAME:EDT
DTSTART:20160313T070000
END:DAYLIGHT
BEGIN:STANDARD
TZOFFSETFROM:-0400
TZOFFSETTO:-0500
TZNAME:EST
DTSTART:20161106T060000
END:STANDARD
END:VTIMEZONE
BEGIN:VEVENT
DTSTART;VALUE=DATE:20151003
DTEND;VALUE=DATE:20151004
DTSTAMP:20260422T181311
CREATED:20150120T153313Z
LAST-MODIFIED:20151002T153254Z
UID:10000527-1443830400-1443916799@suncoastpca.org
SUMMARY:Porsches and Pints
DESCRIPTION:
URL:https://suncoastpca.org/event/porsches-and-pints/
LOCATION:Dunedin Brewery\, 937 Douglas Ave\, Dunedin\, FL\, 34698\, United States
CATEGORIES:Social
ORGANIZER;CN="Eunice Painter":MAILTO:eunicepainter@gmail.com
GEO:28.013997;-82.787635
X-APPLE-STRUCTURED-LOCATION;VALUE=URI;X-ADDRESS=Dunedin Brewery 937 Douglas Ave Dunedin FL 34698 United States;X-APPLE-RADIUS=500;X-TITLE=937 Douglas Ave:geo:-82.787635,28.013997
END:VEVENT
BEGIN:VEVENT
DTSTART;TZID=America/New_York:20131005T140000
DTEND;TZID=America/New_York:20131005T190000
DTSTAMP:20260422T181311
CREATED:20131027T213115Z
LAST-MODIFIED:20131027T215520Z
UID:10000438-1380981600-1380999600@suncoastpca.org
SUMMARY:Porsches & Pints
DESCRIPTION:The 5th Annual Porsches & Pints is once again at Dunedin Brewery’s 2013 Oktoberfest on Saturday\, Oct 5\, at 2pm. It features free admission (a Suncoast PCA Favorite!)\, two free beer tickets per Porsche\, and special Porsche parking for those who arrive at 937 Douglas Ave\, Dunedin\, by 2:30pm.
URL:https://suncoastpca.org/event/porsches-pints/
LOCATION:Dunedin Brewery\, 937 Douglas Ave\, Dunedin\, FL\, 34698\, United States
CATEGORIES:Social
GEO:28.013997;-82.787635
X-APPLE-STRUCTURED-LOCATION;VALUE=URI;X-ADDRESS=Dunedin Brewery 937 Douglas Ave Dunedin FL 34698 United States;X-APPLE-RADIUS=500;X-TITLE=937 Douglas Ave:geo:-82.787635,28.013997
END:VEVENT
END:VCALENDAR