BEGIN:VCALENDAR
VERSION:2.0
PRODID:-//Suncoast Florida Region - PCA - ECPv6.15.20//NONSGML v1.0//EN
CALSCALE:GREGORIAN
METHOD:PUBLISH
X-ORIGINAL-URL:https://suncoastpca.org
X-WR-CALDESC:Events for Suncoast Florida Region - PCA
REFRESH-INTERVAL;VALUE=DURATION:PT1H
X-Robots-Tag:noindex
X-PUBLISHED-TTL:PT1H
BEGIN:VTIMEZONE
TZID:America/New_York
BEGIN:DAYLIGHT
TZOFFSETFROM:-0500
TZOFFSETTO:-0400
TZNAME:EDT
DTSTART:20170312T070000
END:DAYLIGHT
BEGIN:STANDARD
TZOFFSETFROM:-0400
TZOFFSETTO:-0500
TZNAME:EST
DTSTART:20171105T060000
END:STANDARD
BEGIN:DAYLIGHT
TZOFFSETFROM:-0500
TZOFFSETTO:-0400
TZNAME:EDT
DTSTART:20180311T070000
END:DAYLIGHT
BEGIN:STANDARD
TZOFFSETFROM:-0400
TZOFFSETTO:-0500
TZNAME:EST
DTSTART:20181104T060000
END:STANDARD
BEGIN:DAYLIGHT
TZOFFSETFROM:-0500
TZOFFSETTO:-0400
TZNAME:EDT
DTSTART:20190310T070000
END:DAYLIGHT
BEGIN:STANDARD
TZOFFSETFROM:-0400
TZOFFSETTO:-0500
TZNAME:EST
DTSTART:20191103T060000
END:STANDARD
END:VTIMEZONE
BEGIN:VEVENT
DTSTART;TZID=America/New_York:20180318T170000
DTEND;TZID=America/New_York:20180318T170000
DTSTAMP:20260422T220415
CREATED:20180117T155841Z
LAST-MODIFIED:20180306T201151Z
UID:10000648-1521392400-1521392400@suncoastpca.org
SUMMARY:Date Your Porsche Night
DESCRIPTION:Direct link to the event on ClubReg: https://clubregistration.net/events/signUp.cfm/event/8966
URL:https://suncoastpca.org/event/date-your-porsche-night-30/
LOCATION:Dave & Buster’s Brandon\, 10209 Estuary Lakes Dr\, Tampa\, FL\, 33619\, United States
CATEGORIES:Social
END:VEVENT
END:VCALENDAR