BEGIN:VCALENDAR
VERSION:2.0
PRODID:-//Suncoast Florida Region - PCA - ECPv6.15.20//NONSGML v1.0//EN
CALSCALE:GREGORIAN
METHOD:PUBLISH
X-WR-CALNAME:Suncoast Florida Region - PCA
X-ORIGINAL-URL:https://suncoastpca.org
X-WR-CALDESC:Events for Suncoast Florida Region - PCA
REFRESH-INTERVAL;VALUE=DURATION:PT1H
X-Robots-Tag:noindex
X-PUBLISHED-TTL:PT1H
BEGIN:VTIMEZONE
TZID:America/New_York
BEGIN:DAYLIGHT
TZOFFSETFROM:-0500
TZOFFSETTO:-0400
TZNAME:EDT
DTSTART:20210314T070000
END:DAYLIGHT
BEGIN:STANDARD
TZOFFSETFROM:-0400
TZOFFSETTO:-0500
TZNAME:EST
DTSTART:20211107T060000
END:STANDARD
BEGIN:DAYLIGHT
TZOFFSETFROM:-0500
TZOFFSETTO:-0400
TZNAME:EDT
DTSTART:20220313T070000
END:DAYLIGHT
BEGIN:STANDARD
TZOFFSETFROM:-0400
TZOFFSETTO:-0500
TZNAME:EST
DTSTART:20221106T060000
END:STANDARD
BEGIN:DAYLIGHT
TZOFFSETFROM:-0500
TZOFFSETTO:-0400
TZNAME:EDT
DTSTART:20230312T070000
END:DAYLIGHT
BEGIN:STANDARD
TZOFFSETFROM:-0400
TZOFFSETTO:-0500
TZNAME:EST
DTSTART:20231105T060000
END:STANDARD
BEGIN:DAYLIGHT
TZOFFSETFROM:-0500
TZOFFSETTO:-0400
TZNAME:EDT
DTSTART:20240310T070000
END:DAYLIGHT
BEGIN:STANDARD
TZOFFSETFROM:-0400
TZOFFSETTO:-0500
TZNAME:EST
DTSTART:20241103T060000
END:STANDARD
BEGIN:DAYLIGHT
TZOFFSETFROM:-0500
TZOFFSETTO:-0400
TZNAME:EDT
DTSTART:20250309T070000
END:DAYLIGHT
BEGIN:STANDARD
TZOFFSETFROM:-0400
TZOFFSETTO:-0500
TZNAME:EST
DTSTART:20251102T060000
END:STANDARD
BEGIN:DAYLIGHT
TZOFFSETFROM:-0500
TZOFFSETTO:-0400
TZNAME:EDT
DTSTART:20260308T070000
END:DAYLIGHT
BEGIN:STANDARD
TZOFFSETFROM:-0400
TZOFFSETTO:-0500
TZNAME:EST
DTSTART:20261101T060000
END:STANDARD
BEGIN:DAYLIGHT
TZOFFSETFROM:-0500
TZOFFSETTO:-0400
TZNAME:EDT
DTSTART:20270314T070000
END:DAYLIGHT
BEGIN:STANDARD
TZOFFSETFROM:-0400
TZOFFSETTO:-0500
TZNAME:EST
DTSTART:20271107T060000
END:STANDARD
END:VTIMEZONE
BEGIN:VEVENT
DTSTART;TZID=America/New_York:20260117T090000
DTEND;TZID=America/New_York:20260117T090000
DTSTAMP:20260424T160247
CREATED:20260106T155119Z
LAST-MODIFIED:20260106T155119Z
UID:10001268-1768640400-1768640400@suncoastpca.org
SUMMARY:Monthly Breakfast - Palm Harbor
DESCRIPTION:Come join your fellow Suncoast Porsche Club members and guests at Clear Sky Club Haus! \n36355 East Lake Road South\, at the north end of the Ridgemoor Plaza Shopping Center\, in Palm Harbor. \nYour host for this event is Bill Schultz.
URL:https://suncoastpca.org/event/monthly-breakfast-palm-harbor/
LOCATION:Clear Sky Club Haus\, 36355 East Lake Road South\, Palm Harbor\, FL\, 34685\, United States
CATEGORIES:Social
END:VEVENT
BEGIN:VEVENT
DTSTART;TZID=America/New_York:20241019T090000
DTEND;TZID=America/New_York:20241019T110000
DTSTAMP:20260424T160247
CREATED:20221112T214735Z
LAST-MODIFIED:20240520T215100Z
UID:10000848-1729328400-1729335600@suncoastpca.org
SUMMARY:Monthly Breakfast at Clear Sky Club Haus
DESCRIPTION:Please join us for our new and latest monthly breakfast at the Clear Sky Club Haus\, at 36355 East Lake Road South\, at the north end of the Ridgemoor Plaza Shopping Center\, in Palm Harbor. This will be a recurring monthly event. \nWe will begin at 9:00am. Your host for this event is Bill Schultz. \nWe encourage our members to come and bring your guests for a great time. \nRegister on ClubReg
URL:https://suncoastpca.org/event/monthly-breakfast-at-clear-sky-club-haus-2/2024-10-19/
LOCATION:Clear Sky Club Haus\, 36355 East Lake Road South\, Palm Harbor\, FL\, 34685\, United States
CATEGORIES:Social
END:VEVENT
BEGIN:VEVENT
DTSTART;TZID=America/New_York:20240921T090000
DTEND;TZID=America/New_York:20240921T110000
DTSTAMP:20260424T160247
CREATED:20221112T214735Z
LAST-MODIFIED:20240520T215100Z
UID:10000836-1726909200-1726916400@suncoastpca.org
SUMMARY:Monthly Breakfast at Clear Sky Club Haus
DESCRIPTION:Please join us for our new and latest monthly breakfast at the Clear Sky Club Haus\, at 36355 East Lake Road South\, at the north end of the Ridgemoor Plaza Shopping Center\, in Palm Harbor. This will be a recurring monthly event. \nWe will begin at 9:00am. Your host for this event is Bill Schultz. \nWe encourage our members to come and bring your guests for a great time. \nRegister on ClubReg
URL:https://suncoastpca.org/event/monthly-breakfast-at-clear-sky-club-haus-2/2024-09-21/
LOCATION:Clear Sky Club Haus\, 36355 East Lake Road South\, Palm Harbor\, FL\, 34685\, United States
CATEGORIES:Social
END:VEVENT
BEGIN:VEVENT
DTSTART;TZID=America/New_York:20240817T090000
DTEND;TZID=America/New_York:20240817T110000
DTSTAMP:20260424T160247
CREATED:20221112T214735Z
LAST-MODIFIED:20240520T215100Z
UID:10000835-1723885200-1723892400@suncoastpca.org
SUMMARY:Monthly Breakfast at Clear Sky Club Haus
DESCRIPTION:Please join us for our new and latest monthly breakfast at the Clear Sky Club Haus\, at 36355 East Lake Road South\, at the north end of the Ridgemoor Plaza Shopping Center\, in Palm Harbor. This will be a recurring monthly event. \nWe will begin at 9:00am. Your host for this event is Bill Schultz. \nWe encourage our members to come and bring your guests for a great time. \nRegister on ClubReg
URL:https://suncoastpca.org/event/monthly-breakfast-at-clear-sky-club-haus-2/2024-08-17/
LOCATION:Clear Sky Club Haus\, 36355 East Lake Road South\, Palm Harbor\, FL\, 34685\, United States
CATEGORIES:Social
END:VEVENT
BEGIN:VEVENT
DTSTART;TZID=America/New_York:20240720T090000
DTEND;TZID=America/New_York:20240720T110000
DTSTAMP:20260424T160247
CREATED:20221112T214735Z
LAST-MODIFIED:20240520T215100Z
UID:10000834-1721466000-1721473200@suncoastpca.org
SUMMARY:Monthly Breakfast at Clear Sky Club Haus
DESCRIPTION:Please join us for our new and latest monthly breakfast at the Clear Sky Club Haus\, at 36355 East Lake Road South\, at the north end of the Ridgemoor Plaza Shopping Center\, in Palm Harbor. This will be a recurring monthly event. \nWe will begin at 9:00am. Your host for this event is Bill Schultz. \nWe encourage our members to come and bring your guests for a great time. \nRegister on ClubReg
URL:https://suncoastpca.org/event/monthly-breakfast-at-clear-sky-club-haus-2/2024-07-20/
LOCATION:Clear Sky Club Haus\, 36355 East Lake Road South\, Palm Harbor\, FL\, 34685\, United States
CATEGORIES:Social
END:VEVENT
BEGIN:VEVENT
DTSTART;TZID=America/New_York:20240615T090000
DTEND;TZID=America/New_York:20240615T110000
DTSTAMP:20260424T160247
CREATED:20221112T214735Z
LAST-MODIFIED:20240520T215100Z
UID:10000833-1718442000-1718449200@suncoastpca.org
SUMMARY:Monthly Breakfast at Clear Sky Club Haus
DESCRIPTION:Please join us for our new and latest monthly breakfast at the Clear Sky Club Haus\, at 36355 East Lake Road South\, at the north end of the Ridgemoor Plaza Shopping Center\, in Palm Harbor. This will be a recurring monthly event. \nWe will begin at 9:00am. Your host for this event is Bill Schultz. \nWe encourage our members to come and bring your guests for a great time. \nRegister on ClubReg
URL:https://suncoastpca.org/event/monthly-breakfast-at-clear-sky-club-haus-2/2024-06-15/
LOCATION:Clear Sky Club Haus\, 36355 East Lake Road South\, Palm Harbor\, FL\, 34685\, United States
CATEGORIES:Social
END:VEVENT
BEGIN:VEVENT
DTSTART;TZID=America/New_York:20240518T090000
DTEND;TZID=America/New_York:20240518T110000
DTSTAMP:20260424T160247
CREATED:20221112T214735Z
LAST-MODIFIED:20240520T215100Z
UID:10000832-1716022800-1716030000@suncoastpca.org
SUMMARY:Monthly Breakfast at Clear Sky Club Haus
DESCRIPTION:Please join us for our new and latest monthly breakfast at the Clear Sky Club Haus\, at 36355 East Lake Road South\, at the north end of the Ridgemoor Plaza Shopping Center\, in Palm Harbor. This will be a recurring monthly event. \nWe will begin at 9:00am. Your host for this event is Bill Schultz. \nWe encourage our members to come and bring your guests for a great time. \nRegister on ClubReg
URL:https://suncoastpca.org/event/monthly-breakfast-at-clear-sky-club-haus-2/2024-05-18/
LOCATION:Clear Sky Club Haus\, 36355 East Lake Road South\, Palm Harbor\, FL\, 34685\, United States
CATEGORIES:Social
END:VEVENT
BEGIN:VEVENT
DTSTART;TZID=America/New_York:20240420T090000
DTEND;TZID=America/New_York:20240420T110000
DTSTAMP:20260424T160247
CREATED:20221112T214735Z
LAST-MODIFIED:20240520T215100Z
UID:10000831-1713603600-1713610800@suncoastpca.org
SUMMARY:Monthly Breakfast at Clear Sky Club Haus
DESCRIPTION:Please join us for our new and latest monthly breakfast at the Clear Sky Club Haus\, at 36355 East Lake Road South\, at the north end of the Ridgemoor Plaza Shopping Center\, in Palm Harbor. This will be a recurring monthly event. \nWe will begin at 9:00am. Your host for this event is Bill Schultz. \nWe encourage our members to come and bring your guests for a great time. \nRegister on ClubReg
URL:https://suncoastpca.org/event/monthly-breakfast-at-clear-sky-club-haus-2/2024-04-20/
LOCATION:Clear Sky Club Haus\, 36355 East Lake Road South\, Palm Harbor\, FL\, 34685\, United States
CATEGORIES:Social
END:VEVENT
BEGIN:VEVENT
DTSTART;TZID=America/New_York:20240316T090000
DTEND;TZID=America/New_York:20240316T110000
DTSTAMP:20260424T160247
CREATED:20221112T214735Z
LAST-MODIFIED:20240520T215100Z
UID:10000830-1710579600-1710586800@suncoastpca.org
SUMMARY:Monthly Breakfast at Clear Sky Club Haus
DESCRIPTION:Please join us for our new and latest monthly breakfast at the Clear Sky Club Haus\, at 36355 East Lake Road South\, at the north end of the Ridgemoor Plaza Shopping Center\, in Palm Harbor. This will be a recurring monthly event. \nWe will begin at 9:00am. Your host for this event is Bill Schultz. \nWe encourage our members to come and bring your guests for a great time. \nRegister on ClubReg
URL:https://suncoastpca.org/event/monthly-breakfast-at-clear-sky-club-haus-2/2024-03-16/
LOCATION:Clear Sky Club Haus\, 36355 East Lake Road South\, Palm Harbor\, FL\, 34685\, United States
CATEGORIES:Social
END:VEVENT
BEGIN:VEVENT
DTSTART;TZID=America/New_York:20240217T090000
DTEND;TZID=America/New_York:20240217T110000
DTSTAMP:20260424T160247
CREATED:20221112T214735Z
LAST-MODIFIED:20240520T215100Z
UID:10000829-1708160400-1708167600@suncoastpca.org
SUMMARY:Monthly Breakfast at Clear Sky Club Haus
DESCRIPTION:Please join us for our new and latest monthly breakfast at the Clear Sky Club Haus\, at 36355 East Lake Road South\, at the north end of the Ridgemoor Plaza Shopping Center\, in Palm Harbor. This will be a recurring monthly event. \nWe will begin at 9:00am. Your host for this event is Bill Schultz. \nWe encourage our members to come and bring your guests for a great time. \nRegister on ClubReg
URL:https://suncoastpca.org/event/monthly-breakfast-at-clear-sky-club-haus-2/2024-02-17/
LOCATION:Clear Sky Club Haus\, 36355 East Lake Road South\, Palm Harbor\, FL\, 34685\, United States
CATEGORIES:Social
END:VEVENT
BEGIN:VEVENT
DTSTART;TZID=America/New_York:20240120T090000
DTEND;TZID=America/New_York:20240120T110000
DTSTAMP:20260424T160247
CREATED:20221112T214735Z
LAST-MODIFIED:20240520T215100Z
UID:10000828-1705741200-1705748400@suncoastpca.org
SUMMARY:Monthly Breakfast at Clear Sky Club Haus
DESCRIPTION:Please join us for our new and latest monthly breakfast at the Clear Sky Club Haus\, at 36355 East Lake Road South\, at the north end of the Ridgemoor Plaza Shopping Center\, in Palm Harbor. This will be a recurring monthly event. \nWe will begin at 9:00am. Your host for this event is Bill Schultz. \nWe encourage our members to come and bring your guests for a great time. \nRegister on ClubReg
URL:https://suncoastpca.org/event/monthly-breakfast-at-clear-sky-club-haus-2/2024-01-20/
LOCATION:Clear Sky Club Haus\, 36355 East Lake Road South\, Palm Harbor\, FL\, 34685\, United States
CATEGORIES:Social
END:VEVENT
BEGIN:VEVENT
DTSTART;TZID=America/New_York:20231216T090000
DTEND;TZID=America/New_York:20231216T110000
DTSTAMP:20260424T160247
CREATED:20221112T214735Z
LAST-MODIFIED:20240520T215100Z
UID:10000827-1702717200-1702724400@suncoastpca.org
SUMMARY:Monthly Breakfast at Clear Sky Club Haus
DESCRIPTION:Please join us for our new and latest monthly breakfast at the Clear Sky Club Haus\, at 36355 East Lake Road South\, at the north end of the Ridgemoor Plaza Shopping Center\, in Palm Harbor. This will be a recurring monthly event. \nWe will begin at 9:00am. Your host for this event is Bill Schultz. \nWe encourage our members to come and bring your guests for a great time. \nRegister on ClubReg
URL:https://suncoastpca.org/event/monthly-breakfast-at-clear-sky-club-haus-2/2023-12-16/
LOCATION:Clear Sky Club Haus\, 36355 East Lake Road South\, Palm Harbor\, FL\, 34685\, United States
CATEGORIES:Social
END:VEVENT
BEGIN:VEVENT
DTSTART;TZID=America/New_York:20231118T090000
DTEND;TZID=America/New_York:20231118T110000
DTSTAMP:20260424T160247
CREATED:20221112T214735Z
LAST-MODIFIED:20240520T215100Z
UID:10000826-1700298000-1700305200@suncoastpca.org
SUMMARY:Monthly Breakfast at Clear Sky Club Haus
DESCRIPTION:Please join us for our new and latest monthly breakfast at the Clear Sky Club Haus\, at 36355 East Lake Road South\, at the north end of the Ridgemoor Plaza Shopping Center\, in Palm Harbor. This will be a recurring monthly event. \nWe will begin at 9:00am. Your host for this event is Bill Schultz. \nWe encourage our members to come and bring your guests for a great time. \nRegister on ClubReg
URL:https://suncoastpca.org/event/monthly-breakfast-at-clear-sky-club-haus-2/2023-11-18/
LOCATION:Clear Sky Club Haus\, 36355 East Lake Road South\, Palm Harbor\, FL\, 34685\, United States
CATEGORIES:Social
END:VEVENT
BEGIN:VEVENT
DTSTART;TZID=America/New_York:20231021T090000
DTEND;TZID=America/New_York:20231021T110000
DTSTAMP:20260424T160247
CREATED:20221112T214735Z
LAST-MODIFIED:20240520T215100Z
UID:10000825-1697878800-1697886000@suncoastpca.org
SUMMARY:Monthly Breakfast at Clear Sky Club Haus
DESCRIPTION:Please join us for our new and latest monthly breakfast at the Clear Sky Club Haus\, at 36355 East Lake Road South\, at the north end of the Ridgemoor Plaza Shopping Center\, in Palm Harbor. This will be a recurring monthly event. \nWe will begin at 9:00am. Your host for this event is Bill Schultz. \nWe encourage our members to come and bring your guests for a great time. \nRegister on ClubReg
URL:https://suncoastpca.org/event/monthly-breakfast-at-clear-sky-club-haus-2/2023-10-21/
LOCATION:Clear Sky Club Haus\, 36355 East Lake Road South\, Palm Harbor\, FL\, 34685\, United States
CATEGORIES:Social
END:VEVENT
BEGIN:VEVENT
DTSTART;TZID=America/New_York:20230916T090000
DTEND;TZID=America/New_York:20230916T110000
DTSTAMP:20260424T160247
CREATED:20221112T214735Z
LAST-MODIFIED:20240520T215100Z
UID:10000824-1694854800-1694862000@suncoastpca.org
SUMMARY:Monthly Breakfast at Clear Sky Club Haus
DESCRIPTION:Please join us for our new and latest monthly breakfast at the Clear Sky Club Haus\, at 36355 East Lake Road South\, at the north end of the Ridgemoor Plaza Shopping Center\, in Palm Harbor. This will be a recurring monthly event. \nWe will begin at 9:00am. Your host for this event is Bill Schultz. \nWe encourage our members to come and bring your guests for a great time. \nRegister on ClubReg
URL:https://suncoastpca.org/event/monthly-breakfast-at-clear-sky-club-haus-2/2023-09-16/
LOCATION:Clear Sky Club Haus\, 36355 East Lake Road South\, Palm Harbor\, FL\, 34685\, United States
CATEGORIES:Social
END:VEVENT
BEGIN:VEVENT
DTSTART;TZID=America/New_York:20230819T090000
DTEND;TZID=America/New_York:20230819T110000
DTSTAMP:20260424T160247
CREATED:20221112T214735Z
LAST-MODIFIED:20240520T215100Z
UID:10000823-1692435600-1692442800@suncoastpca.org
SUMMARY:Monthly Breakfast at Clear Sky Club Haus
DESCRIPTION:Please join us for our new and latest monthly breakfast at the Clear Sky Club Haus\, at 36355 East Lake Road South\, at the north end of the Ridgemoor Plaza Shopping Center\, in Palm Harbor. This will be a recurring monthly event. \nWe will begin at 9:00am. Your host for this event is Bill Schultz. \nWe encourage our members to come and bring your guests for a great time. \nRegister on ClubReg
URL:https://suncoastpca.org/event/monthly-breakfast-at-clear-sky-club-haus-2/2023-08-19/
LOCATION:Clear Sky Club Haus\, 36355 East Lake Road South\, Palm Harbor\, FL\, 34685\, United States
CATEGORIES:Social
END:VEVENT
BEGIN:VEVENT
DTSTART;TZID=America/New_York:20230715T090000
DTEND;TZID=America/New_York:20230715T110000
DTSTAMP:20260424T160247
CREATED:20221112T214735Z
LAST-MODIFIED:20240520T215100Z
UID:10000822-1689411600-1689418800@suncoastpca.org
SUMMARY:Monthly Breakfast at Clear Sky Club Haus
DESCRIPTION:Please join us for our new and latest monthly breakfast at the Clear Sky Club Haus\, at 36355 East Lake Road South\, at the north end of the Ridgemoor Plaza Shopping Center\, in Palm Harbor. This will be a recurring monthly event. \nWe will begin at 9:00am. Your host for this event is Bill Schultz. \nWe encourage our members to come and bring your guests for a great time. \nRegister on ClubReg
URL:https://suncoastpca.org/event/monthly-breakfast-at-clear-sky-club-haus-2/2023-07-15/
LOCATION:Clear Sky Club Haus\, 36355 East Lake Road South\, Palm Harbor\, FL\, 34685\, United States
CATEGORIES:Social
END:VEVENT
BEGIN:VEVENT
DTSTART;TZID=America/New_York:20230617T090000
DTEND;TZID=America/New_York:20230617T110000
DTSTAMP:20260424T160247
CREATED:20221112T214735Z
LAST-MODIFIED:20240520T215100Z
UID:10000821-1686992400-1686999600@suncoastpca.org
SUMMARY:Monthly Breakfast at Clear Sky Club Haus
DESCRIPTION:Please join us for our new and latest monthly breakfast at the Clear Sky Club Haus\, at 36355 East Lake Road South\, at the north end of the Ridgemoor Plaza Shopping Center\, in Palm Harbor. This will be a recurring monthly event. \nWe will begin at 9:00am. Your host for this event is Bill Schultz. \nWe encourage our members to come and bring your guests for a great time. \nRegister on ClubReg
URL:https://suncoastpca.org/event/monthly-breakfast-at-clear-sky-club-haus-2/2023-06-17/
LOCATION:Clear Sky Club Haus\, 36355 East Lake Road South\, Palm Harbor\, FL\, 34685\, United States
CATEGORIES:Social
END:VEVENT
BEGIN:VEVENT
DTSTART;TZID=America/New_York:20230520T090000
DTEND;TZID=America/New_York:20230520T110000
DTSTAMP:20260424T160247
CREATED:20221112T214735Z
LAST-MODIFIED:20240520T215100Z
UID:10000820-1684573200-1684580400@suncoastpca.org
SUMMARY:Monthly Breakfast at Clear Sky Club Haus
DESCRIPTION:Please join us for our new and latest monthly breakfast at the Clear Sky Club Haus\, at 36355 East Lake Road South\, at the north end of the Ridgemoor Plaza Shopping Center\, in Palm Harbor. This will be a recurring monthly event. \nWe will begin at 9:00am. Your host for this event is Bill Schultz. \nWe encourage our members to come and bring your guests for a great time. \nRegister on ClubReg
URL:https://suncoastpca.org/event/monthly-breakfast-at-clear-sky-club-haus-2/2023-05-20/
LOCATION:Clear Sky Club Haus\, 36355 East Lake Road South\, Palm Harbor\, FL\, 34685\, United States
CATEGORIES:Social
END:VEVENT
BEGIN:VEVENT
DTSTART;TZID=America/New_York:20230415T090000
DTEND;TZID=America/New_York:20230415T110000
DTSTAMP:20260424T160247
CREATED:20221112T214735Z
LAST-MODIFIED:20240520T215100Z
UID:10000819-1681549200-1681556400@suncoastpca.org
SUMMARY:Monthly Breakfast at Clear Sky Club Haus
DESCRIPTION:Please join us for our new and latest monthly breakfast at the Clear Sky Club Haus\, at 36355 East Lake Road South\, at the north end of the Ridgemoor Plaza Shopping Center\, in Palm Harbor. This will be a recurring monthly event. \nWe will begin at 9:00am. Your host for this event is Bill Schultz. \nWe encourage our members to come and bring your guests for a great time. \nRegister on ClubReg
URL:https://suncoastpca.org/event/monthly-breakfast-at-clear-sky-club-haus-2/2023-04-15/
LOCATION:Clear Sky Club Haus\, 36355 East Lake Road South\, Palm Harbor\, FL\, 34685\, United States
CATEGORIES:Social
END:VEVENT
BEGIN:VEVENT
DTSTART;TZID=America/New_York:20230318T090000
DTEND;TZID=America/New_York:20230318T110000
DTSTAMP:20260424T160247
CREATED:20221112T214735Z
LAST-MODIFIED:20240520T215100Z
UID:10000818-1679130000-1679137200@suncoastpca.org
SUMMARY:Monthly Breakfast at Clear Sky Club Haus
DESCRIPTION:Please join us for our new and latest monthly breakfast at the Clear Sky Club Haus\, at 36355 East Lake Road South\, at the north end of the Ridgemoor Plaza Shopping Center\, in Palm Harbor. This will be a recurring monthly event. \nWe will begin at 9:00am. Your host for this event is Bill Schultz. \nWe encourage our members to come and bring your guests for a great time. \nRegister on ClubReg
URL:https://suncoastpca.org/event/monthly-breakfast-at-clear-sky-club-haus-2/2023-03-18/
LOCATION:Clear Sky Club Haus\, 36355 East Lake Road South\, Palm Harbor\, FL\, 34685\, United States
CATEGORIES:Social
END:VEVENT
BEGIN:VEVENT
DTSTART;TZID=America/New_York:20230218T090000
DTEND;TZID=America/New_York:20230218T110000
DTSTAMP:20260424T160247
CREATED:20221112T214735Z
LAST-MODIFIED:20240520T215100Z
UID:10000817-1676710800-1676718000@suncoastpca.org
SUMMARY:Monthly Breakfast at Clear Sky Club Haus
DESCRIPTION:Please join us for our new and latest monthly breakfast at the Clear Sky Club Haus\, at 36355 East Lake Road South\, at the north end of the Ridgemoor Plaza Shopping Center\, in Palm Harbor. This will be a recurring monthly event. \nWe will begin at 9:00am. Your host for this event is Bill Schultz. \nWe encourage our members to come and bring your guests for a great time. \nRegister on ClubReg
URL:https://suncoastpca.org/event/monthly-breakfast-at-clear-sky-club-haus-2/2023-02-18/
LOCATION:Clear Sky Club Haus\, 36355 East Lake Road South\, Palm Harbor\, FL\, 34685\, United States
CATEGORIES:Social
END:VEVENT
BEGIN:VEVENT
DTSTART;TZID=America/New_York:20230121T090000
DTEND;TZID=America/New_York:20230121T110000
DTSTAMP:20260424T160247
CREATED:20221112T214735Z
LAST-MODIFIED:20240520T215100Z
UID:10000816-1674291600-1674298800@suncoastpca.org
SUMMARY:Monthly Breakfast at Clear Sky Club Haus
DESCRIPTION:Please join us for our new and latest monthly breakfast at the Clear Sky Club Haus\, at 36355 East Lake Road South\, at the north end of the Ridgemoor Plaza Shopping Center\, in Palm Harbor. This will be a recurring monthly event. \nWe will begin at 9:00am. Your host for this event is Bill Schultz. \nWe encourage our members to come and bring your guests for a great time. \nRegister on ClubReg
URL:https://suncoastpca.org/event/monthly-breakfast-at-clear-sky-club-haus-2/2023-01-21/
LOCATION:Clear Sky Club Haus\, 36355 East Lake Road South\, Palm Harbor\, FL\, 34685\, United States
CATEGORIES:Social
END:VEVENT
BEGIN:VEVENT
DTSTART;TZID=America/New_York:20221217T090000
DTEND;TZID=America/New_York:20221217T110000
DTSTAMP:20260424T160247
CREATED:20221112T214735Z
LAST-MODIFIED:20240520T215100Z
UID:10000814-1671267600-1671274800@suncoastpca.org
SUMMARY:Monthly Breakfast at Clear Sky Club Haus
DESCRIPTION:Please join us for our new and latest monthly breakfast at the Clear Sky Club Haus\, at 36355 East Lake Road South\, at the north end of the Ridgemoor Plaza Shopping Center\, in Palm Harbor. This will be a recurring monthly event. \nWe will begin at 9:00am. Your host for this event is Bill Schultz. \nWe encourage our members to come and bring your guests for a great time. \nRegister on ClubReg
URL:https://suncoastpca.org/event/monthly-breakfast-at-clear-sky-club-haus-2/2022-12-17/
LOCATION:Clear Sky Club Haus\, 36355 East Lake Road South\, Palm Harbor\, FL\, 34685\, United States
CATEGORIES:Social
END:VEVENT
BEGIN:VEVENT
DTSTART;TZID=America/New_York:20221015T090000
DTEND;TZID=America/New_York:20221015T110000
DTSTAMP:20260424T160247
CREATED:20221008T142556Z
LAST-MODIFIED:20221008T142556Z
UID:10000813-1665824400-1665831600@suncoastpca.org
SUMMARY:Monthly Breakfast at Clear Sky Club Haus
DESCRIPTION:Please join us for our new and latest monthly breakfast at the Clear Sky Club Haus\, at 36355 East Lake Road South\, at the north end of the Ridgemoor Plaza Shopping Center\, in Palm Harbor. This will be a recurring monthly event. \nWe will begin at 9:00am. Your host for this event is Bill Schultz. \nWe encourage our members to come and bring your guests for a great time.
URL:https://suncoastpca.org/event/monthly-breakfast-at-clear-sky-club-haus/
LOCATION:Clear Sky Club Haus\, 36355 East Lake Road South\, Palm Harbor\, FL\, 34685\, United States
CATEGORIES:Social
END:VEVENT
END:VCALENDAR