BEGIN:VCALENDAR
VERSION:2.0
PRODID:-//Suncoast Florida Region - PCA - ECPv6.15.20//NONSGML v1.0//EN
CALSCALE:GREGORIAN
METHOD:PUBLISH
X-WR-CALNAME:Suncoast Florida Region - PCA
X-ORIGINAL-URL:https://suncoastpca.org
X-WR-CALDESC:Events for Suncoast Florida Region - PCA
REFRESH-INTERVAL;VALUE=DURATION:PT1H
X-Robots-Tag:noindex
X-PUBLISHED-TTL:PT1H
BEGIN:VTIMEZONE
TZID:America/New_York
BEGIN:DAYLIGHT
TZOFFSETFROM:-0500
TZOFFSETTO:-0400
TZNAME:EDT
DTSTART:20150308T070000
END:DAYLIGHT
BEGIN:STANDARD
TZOFFSETFROM:-0400
TZOFFSETTO:-0500
TZNAME:EST
DTSTART:20151101T060000
END:STANDARD
BEGIN:DAYLIGHT
TZOFFSETFROM:-0500
TZOFFSETTO:-0400
TZNAME:EDT
DTSTART:20160313T070000
END:DAYLIGHT
BEGIN:STANDARD
TZOFFSETFROM:-0400
TZOFFSETTO:-0500
TZNAME:EST
DTSTART:20161106T060000
END:STANDARD
BEGIN:DAYLIGHT
TZOFFSETFROM:-0500
TZOFFSETTO:-0400
TZNAME:EDT
DTSTART:20170312T070000
END:DAYLIGHT
BEGIN:STANDARD
TZOFFSETFROM:-0400
TZOFFSETTO:-0500
TZNAME:EST
DTSTART:20171105T060000
END:STANDARD
END:VTIMEZONE
BEGIN:VEVENT
DTSTART;TZID=America/New_York:20160123T080000
DTEND;TZID=America/New_York:20160123T170000
DTSTAMP:20260422T195427
CREATED:20151217T131037Z
LAST-MODIFIED:20151217T131037Z
UID:10000567-1453536000-1453568400@suncoastpca.org
SUMMARY:356 Florida Owners Group Concours Event
DESCRIPTION:A DAY TOUR TO VIEW THE HISTORICAL PAST  \nA planned tour to Howie-in-the-Hills to view the 356 Florida Owners Group Concours Event: “The Gathering of the Faithful”. This is a display of the 356 models that are among the best in the country. The setting is the lovely Mission Inn. \nDetails\nWe will gather at: \nCity Park\n32856 Massachusetts Avenue\nSan Antonio\, Florida \nTime to meet and sign waivers: 8:00 am\nDepart for the Mission Inn: 8:30 am   \nAfter the Concours we will continue to Mt. Dora for shopping and lunch. There are many nice restaurants to choose from. \nMark Krekorian has planned this fun day for us.  Waivers and route sheets will be handed out at the City Park at 8:00am. Hope to see you all there and Thank You very much Mark for taking the time to plan this fun day for us! \nRSVP:  missyteasley@aol.com
URL:https://suncoastpca.org/event/356-florida-owners-group-concours-event/
LOCATION:City Park\, 32856 Massachusetts Avenue\, San Antonio\, FL\, 33576\, United States
CATEGORIES:Social
ORGANIZER;CN="Missy Teasley":MAILTO:missyteasley@aol.com
GEO:28.3350058;-82.2723557
X-APPLE-STRUCTURED-LOCATION;VALUE=URI;X-ADDRESS=City Park 32856 Massachusetts Avenue San Antonio FL 33576 United States;X-APPLE-RADIUS=500;X-TITLE=32856 Massachusetts Avenue:geo:-82.2723557,28.3350058
END:VEVENT
END:VCALENDAR