BEGIN:VCALENDAR
VERSION:2.0
PRODID:-//Suncoast Florida Region - PCA - ECPv6.15.20//NONSGML v1.0//EN
CALSCALE:GREGORIAN
METHOD:PUBLISH
X-ORIGINAL-URL:https://suncoastpca.org
X-WR-CALDESC:Events for Suncoast Florida Region - PCA
REFRESH-INTERVAL;VALUE=DURATION:PT1H
X-Robots-Tag:noindex
X-PUBLISHED-TTL:PT1H
BEGIN:VTIMEZONE
TZID:America/New_York
BEGIN:DAYLIGHT
TZOFFSETFROM:-0500
TZOFFSETTO:-0400
TZNAME:EDT
DTSTART:20180311T070000
END:DAYLIGHT
BEGIN:STANDARD
TZOFFSETFROM:-0400
TZOFFSETTO:-0500
TZNAME:EST
DTSTART:20181104T060000
END:STANDARD
BEGIN:DAYLIGHT
TZOFFSETFROM:-0500
TZOFFSETTO:-0400
TZNAME:EDT
DTSTART:20190310T070000
END:DAYLIGHT
BEGIN:STANDARD
TZOFFSETFROM:-0400
TZOFFSETTO:-0500
TZNAME:EST
DTSTART:20191103T060000
END:STANDARD
BEGIN:DAYLIGHT
TZOFFSETFROM:-0500
TZOFFSETTO:-0400
TZNAME:EDT
DTSTART:20200308T070000
END:DAYLIGHT
BEGIN:STANDARD
TZOFFSETFROM:-0400
TZOFFSETTO:-0500
TZNAME:EST
DTSTART:20201101T060000
END:STANDARD
BEGIN:DAYLIGHT
TZOFFSETFROM:-0500
TZOFFSETTO:-0400
TZNAME:EDT
DTSTART:20210314T070000
END:DAYLIGHT
BEGIN:STANDARD
TZOFFSETFROM:-0400
TZOFFSETTO:-0500
TZNAME:EST
DTSTART:20211107T060000
END:STANDARD
END:VTIMEZONE
BEGIN:VEVENT
DTSTART;TZID=America/New_York:20200229T083000
DTEND;TZID=America/New_York:20200229T120000
DTSTAMP:20260422T202418
CREATED:20200217T211932Z
LAST-MODIFIED:20200217T211932Z
UID:10000724-1582965000-1582977600@suncoastpca.org
SUMMARY:Take Your Porsche to Breakfast
DESCRIPTION:Only once every 4 years can you celebrate February 29\, with a chance to get together at the Burgundy Square Café in Venice\, on February 29th at 8:30 am. \nThe restaurant is located at 227 Miami Avenue West in Venice\, FL 34285. Enjoy their expansive menu with your friends and fellow Porsche owners. Parking is ample across Miami Ave.as well as behind the Café off Ponce de Leon Ave. If necessary\, you can use the last row of the Sun Trust lot on the south side of Ponce de Leon. \nThe restaurant will put our group together if possible. Last year there were 40 of us and our group was all together. See: January/February 2019 Profile\, page 19. \nSign up on www.ClubRegistration.net . If you need help setting up an account there\, check out Denise Remus’s article on page 24 of the January 2018 Profile. \nSee you there.
URL:https://suncoastpca.org/event/take-your-porsche-to-breakfast/
LOCATION:Burgundy Square Café\, 227 West Miami Ave\, Venice\, FL\, 34285\, United States
CATEGORIES:Social
END:VEVENT
BEGIN:VEVENT
DTSTART;TZID=America/New_York:20190105T080000
DTEND;TZID=America/New_York:20190105T080000
DTSTAMP:20260422T202418
CREATED:20181108T175956Z
LAST-MODIFIED:20181212T210110Z
UID:10000666-1546675200-1546675200@suncoastpca.org
SUMMARY:Porsches and Pancakes
DESCRIPTION:Sign up soon – we have room for only 40 people! \nLet’s get together with our PCA South members for Porsches and Pancakes on Saturday\, Jan 5\, 2019\, 8:00am at Burgundy Square Café in Venice. This Café was voted “Best Home Style Breakfast in Venice.” \nTheir breakfast menu lists various delicious sounding Eggs Benedict dishes; for example\, the Venice Ave with fresh Gulf shrimp and Lump Crab Meat\, the Miami Ave with poached salmon and the Seafood with Maine lobster\, scallops and shrimp!! There are also the regular breakfast standards for you to purchase too. \nParking in rear of building\, or on Miami Ave. or in SunTrust lot on south side of Ponce De Leon Ave. \nPreregistration is required at ClubReg: https://clubregistration.net/events/register.cfm?event_id=9464
URL:https://suncoastpca.org/event/porsches-and-pancakes-3/
LOCATION:Burgundy Square Café\, 227 West Miami Ave\, Venice\, FL\, 34285\, United States
CATEGORIES:Social
END:VEVENT
END:VCALENDAR