BEGIN:VCALENDAR
VERSION:2.0
PRODID:-//Suncoast Florida Region - PCA - ECPv6.15.20//NONSGML v1.0//EN
CALSCALE:GREGORIAN
METHOD:PUBLISH
X-ORIGINAL-URL:https://suncoastpca.org
X-WR-CALDESC:Events for Suncoast Florida Region - PCA
REFRESH-INTERVAL;VALUE=DURATION:PT1H
X-Robots-Tag:noindex
X-PUBLISHED-TTL:PT1H
BEGIN:VTIMEZONE
TZID:America/New_York
BEGIN:DAYLIGHT
TZOFFSETFROM:-0500
TZOFFSETTO:-0400
TZNAME:EDT
DTSTART:20230312T070000
END:DAYLIGHT
BEGIN:STANDARD
TZOFFSETFROM:-0400
TZOFFSETTO:-0500
TZNAME:EST
DTSTART:20231105T060000
END:STANDARD
BEGIN:DAYLIGHT
TZOFFSETFROM:-0500
TZOFFSETTO:-0400
TZNAME:EDT
DTSTART:20240310T070000
END:DAYLIGHT
BEGIN:STANDARD
TZOFFSETFROM:-0400
TZOFFSETTO:-0500
TZNAME:EST
DTSTART:20241103T060000
END:STANDARD
BEGIN:DAYLIGHT
TZOFFSETFROM:-0500
TZOFFSETTO:-0400
TZNAME:EDT
DTSTART:20250309T070000
END:DAYLIGHT
BEGIN:STANDARD
TZOFFSETFROM:-0400
TZOFFSETTO:-0500
TZNAME:EST
DTSTART:20251102T060000
END:STANDARD
END:VTIMEZONE
BEGIN:VEVENT
DTSTART;TZID=America/New_York:20240710T183000
DTEND;TZID=America/New_York:20240710T210000
DTSTAMP:20260424T171135
CREATED:20240601T172509Z
LAST-MODIFIED:20240601T172607Z
UID:10001067-1720636200-1720645200@suncoastpca.org
SUMMARY:Date Your Porsche Night
DESCRIPTION:Suncoast PCA DYPN at Blackburn’s BBQ on Wednesday\, July 10 at 6:30pm! \nLocated at 169 5th Street\, Eagle Lake\, FL\nBlackburn’s BBQ will offer the full menu and provide a back section of the restaurant for our group! \nSee you there! \nRegister on ClubReg
URL:https://suncoastpca.org/event/date-your-porsche-night-67/
LOCATION:Blackburn’s BBQ\, 169 5th St\, Eagle Lake\, 33839\, United States
CATEGORIES:Social
END:VEVENT
END:VCALENDAR