BEGIN:VCALENDAR
VERSION:2.0
PRODID:-//Suncoast Florida Region - PCA - ECPv6.15.20//NONSGML v1.0//EN
CALSCALE:GREGORIAN
METHOD:PUBLISH
X-WR-CALNAME:Suncoast Florida Region - PCA
X-ORIGINAL-URL:https://suncoastpca.org
X-WR-CALDESC:Events for Suncoast Florida Region - PCA
REFRESH-INTERVAL;VALUE=DURATION:PT1H
X-Robots-Tag:noindex
X-PUBLISHED-TTL:PT1H
BEGIN:VTIMEZONE
TZID:America/New_York
BEGIN:DAYLIGHT
TZOFFSETFROM:-0500
TZOFFSETTO:-0400
TZNAME:EDT
DTSTART:20170312T070000
END:DAYLIGHT
BEGIN:STANDARD
TZOFFSETFROM:-0400
TZOFFSETTO:-0500
TZNAME:EST
DTSTART:20171105T060000
END:STANDARD
BEGIN:DAYLIGHT
TZOFFSETFROM:-0500
TZOFFSETTO:-0400
TZNAME:EDT
DTSTART:20180311T070000
END:DAYLIGHT
BEGIN:STANDARD
TZOFFSETFROM:-0400
TZOFFSETTO:-0500
TZNAME:EST
DTSTART:20181104T060000
END:STANDARD
BEGIN:DAYLIGHT
TZOFFSETFROM:-0500
TZOFFSETTO:-0400
TZNAME:EDT
DTSTART:20190310T070000
END:DAYLIGHT
BEGIN:STANDARD
TZOFFSETFROM:-0400
TZOFFSETTO:-0500
TZNAME:EST
DTSTART:20191103T060000
END:STANDARD
BEGIN:DAYLIGHT
TZOFFSETFROM:-0500
TZOFFSETTO:-0400
TZNAME:EDT
DTSTART:20200308T070000
END:DAYLIGHT
BEGIN:STANDARD
TZOFFSETFROM:-0400
TZOFFSETTO:-0500
TZNAME:EST
DTSTART:20201101T060000
END:STANDARD
END:VTIMEZONE
BEGIN:VEVENT
DTSTART;TZID=America/New_York:20191112T183000
DTEND;TZID=America/New_York:20191112T183000
DTSTAMP:20260423T002327
CREATED:20191015T112142Z
LAST-MODIFIED:20191015T112142Z
UID:10000706-1573583400-1573583400@suncoastpca.org
SUMMARY:Date Your Porsche Night
DESCRIPTION:Join your fellow Suncoast PCA members for a great evening at Bay Street Bistro in Lakeland! The event will start at 6:30 pm (food and drinks on your own). It’s located in a restored historic building in downtown Lakeland (used to be the Studebaker dealership!) and there is convenient parking next to the restaurant. Feel free to arrive early or stay late to enjoy the other amenities downtown has to offer! \nPreregistration is required at ClubReg: Bay Street Bistro\, Lakeland
URL:https://suncoastpca.org/event/date-your-porsche-night-43/
LOCATION:Bay Street Bistro\, 211 East Bay Street\, Lakeland\, FL\, 33801\, United States
CATEGORIES:Social
GEO:28.04666;-81.955624
X-APPLE-STRUCTURED-LOCATION;VALUE=URI;X-ADDRESS=Bay Street Bistro 211 East Bay Street Lakeland FL 33801 United States;X-APPLE-RADIUS=500;X-TITLE=211 East Bay Street:geo:-81.955624,28.04666
END:VEVENT
BEGIN:VEVENT
DTSTART;TZID=America/New_York:20180731T173000
DTEND;TZID=America/New_York:20180731T173000
DTSTAMP:20260423T002327
CREATED:20180630T164540Z
LAST-MODIFIED:20180630T164632Z
UID:10000659-1533058200-1533058200@suncoastpca.org
SUMMARY:Date Your Porsche Night
DESCRIPTION:We heard your request for a Date Your Porsche Night in July! Join your fellow Suncoast PCA members for a great evening at Bay Street Bistro in Lakeland!  This will be an entirely private event with a custom menu just for us!  Event will begin with social and cocktails at 5:30 pm\, dinner at 6:30 pm (food and drinks on your own). It’s located in a restored historic building in downtown Lakeland (used to be the Studebaker dealership!) and there is convenient parking next to the restaurant. Feel free to arrive early or stay late to enjoy the other amenities downtown has to offer!  \nPlease note: We need a minimum of 30 diners for our private event\, if this registration requirement is not met by July 23 we will have to cancel and would notify everyone by e-mail. \nhttps://clubregistration.net/events/signUp.cfm/event/9240
URL:https://suncoastpca.org/event/date-your-porsche-night-34/
LOCATION:Bay Street Bistro\, 211 East Bay Street\, Lakeland\, FL\, 33801\, United States
CATEGORIES:Social
GEO:28.04666;-81.955624
X-APPLE-STRUCTURED-LOCATION;VALUE=URI;X-ADDRESS=Bay Street Bistro 211 East Bay Street Lakeland FL 33801 United States;X-APPLE-RADIUS=500;X-TITLE=211 East Bay Street:geo:-81.955624,28.04666
END:VEVENT
END:VCALENDAR