BEGIN:VCALENDAR
VERSION:2.0
PRODID:-//Suncoast Florida Region - PCA - ECPv6.15.20//NONSGML v1.0//EN
CALSCALE:GREGORIAN
METHOD:PUBLISH
X-ORIGINAL-URL:https://suncoastpca.org
X-WR-CALDESC:Events for Suncoast Florida Region - PCA
REFRESH-INTERVAL;VALUE=DURATION:PT1H
X-Robots-Tag:noindex
X-PUBLISHED-TTL:PT1H
BEGIN:VTIMEZONE
TZID:America/New_York
BEGIN:DAYLIGHT
TZOFFSETFROM:-0500
TZOFFSETTO:-0400
TZNAME:EDT
DTSTART:20170312T070000
END:DAYLIGHT
BEGIN:STANDARD
TZOFFSETFROM:-0400
TZOFFSETTO:-0500
TZNAME:EST
DTSTART:20171105T060000
END:STANDARD
BEGIN:DAYLIGHT
TZOFFSETFROM:-0500
TZOFFSETTO:-0400
TZNAME:EDT
DTSTART:20180311T070000
END:DAYLIGHT
BEGIN:STANDARD
TZOFFSETFROM:-0400
TZOFFSETTO:-0500
TZNAME:EST
DTSTART:20181104T060000
END:STANDARD
BEGIN:DAYLIGHT
TZOFFSETFROM:-0500
TZOFFSETTO:-0400
TZNAME:EDT
DTSTART:20190310T070000
END:DAYLIGHT
BEGIN:STANDARD
TZOFFSETFROM:-0400
TZOFFSETTO:-0500
TZNAME:EST
DTSTART:20191103T060000
END:STANDARD
END:VTIMEZONE
BEGIN:VEVENT
DTSTART;TZID=America/New_York:20180508T183000
DTEND;TZID=America/New_York:20180508T183000
DTSTAMP:20260422T185134
CREATED:20180502T212910Z
LAST-MODIFIED:20180502T213108Z
UID:10000655-1525804200-1525804200@suncoastpca.org
SUMMARY:Porsche Owners Meet & Greet
DESCRIPTION:This is a casual get together for anyone that wants to come out. It will be held on the 2nd Tuesday of each month at 6:30ish starting in May\, 2018 at the JBurns Pizza Shop in Lakeland\, FL.  \nNote that this is a non-PCA event\, so PCA insurance does not apply.  \n 
URL:https://suncoastpca.org/event/porsche-owners-meet-greet/
LOCATION:JBurns Pizza Shop\, 2306 East Edgewood Drive\, Lakeland\, FL\, 33803\, United States
CATEGORIES:Other
ORGANIZER;CN="Shawn Graham":MAILTO:divefl26@aol.com
END:VEVENT
END:VCALENDAR