BEGIN:VCALENDAR
VERSION:2.0
PRODID:-//Suncoast Florida Region - PCA - ECPv6.15.20//NONSGML v1.0//EN
CALSCALE:GREGORIAN
METHOD:PUBLISH
X-WR-CALNAME:Suncoast Florida Region - PCA
X-ORIGINAL-URL:https://suncoastpca.org
X-WR-CALDESC:Events for Suncoast Florida Region - PCA
REFRESH-INTERVAL;VALUE=DURATION:PT1H
X-Robots-Tag:noindex
X-PUBLISHED-TTL:PT1H
BEGIN:VTIMEZONE
TZID:UTC
BEGIN:STANDARD
TZOFFSETFROM:+0000
TZOFFSETTO:+0000
TZNAME:UTC
DTSTART:20130101T000000
END:STANDARD
END:VTIMEZONE
BEGIN:VTIMEZONE
TZID:America/New_York
BEGIN:DAYLIGHT
TZOFFSETFROM:-0500
TZOFFSETTO:-0400
TZNAME:EDT
DTSTART:20120311T070000
END:DAYLIGHT
BEGIN:STANDARD
TZOFFSETFROM:-0400
TZOFFSETTO:-0500
TZNAME:EST
DTSTART:20121104T060000
END:STANDARD
BEGIN:DAYLIGHT
TZOFFSETFROM:-0500
TZOFFSETTO:-0400
TZNAME:EDT
DTSTART:20130310T070000
END:DAYLIGHT
BEGIN:STANDARD
TZOFFSETFROM:-0400
TZOFFSETTO:-0500
TZNAME:EST
DTSTART:20131103T060000
END:STANDARD
BEGIN:DAYLIGHT
TZOFFSETFROM:-0500
TZOFFSETTO:-0400
TZNAME:EDT
DTSTART:20140309T070000
END:DAYLIGHT
BEGIN:STANDARD
TZOFFSETFROM:-0400
TZOFFSETTO:-0500
TZNAME:EST
DTSTART:20141102T060000
END:STANDARD
END:VTIMEZONE
BEGIN:VEVENT
DTSTART;TZID=UTC:20141101T130000
DTEND;TZID=UTC:20141101T200000
DTSTAMP:20260423T020924
CREATED:20140404T164144Z
LAST-MODIFIED:20141008T212244Z
UID:10000492-1414846800-1414872000@suncoastpca.org
SUMMARY:Golf Tournament
DESCRIPTION:Wentworth Golf Club\, Tarpon Springs
URL:https://suncoastpca.org/event/golf-tournament-4/
LOCATION:Wentworth Golf Club\, 2990 Wentworth Way\, Tarpon Springs\, FL\, 34688\, United States
CATEGORIES:Social
ORGANIZER;CN="Sharron Shields":MAILTO:GolfSharro@aol.com
GEO:28.142954;-82.702791
X-APPLE-STRUCTURED-LOCATION;VALUE=URI;X-ADDRESS=Wentworth Golf Club 2990 Wentworth Way Tarpon Springs FL 34688 United States;X-APPLE-RADIUS=500;X-TITLE=2990 Wentworth Way:geo:-82.702791,28.142954
END:VEVENT
BEGIN:VEVENT
DTSTART;TZID=UTC:20140614T090000
DTEND;TZID=UTC:20140614T170000
DTSTAMP:20260423T020924
CREATED:20140404T160055Z
LAST-MODIFIED:20140609T143215Z
UID:10000489-1402736400-1402765200@suncoastpca.org
SUMMARY:Rookie Rally
DESCRIPTION:This event was originally scheduled for May 3rd but was rescheduled for June 14 due to inclement weather.  \nCalling all new and long time members to come out and enjoy a fun rally through some of the best country roads Hillsborough and Manatee Counties offer.  We’ll met in Ruskin at I-75 and SR 674\, in the parking lot\, in front of the Big Lots at 9AM.  The rally will end at Motorworks Brewery in Bradenton for food\, beverage\, awards and prizes.  Cost is $10 per car.  Payment will be taken at the event\, no online payment\, but please register at clubregistration.net.  Any questions or to register by email contact Sharron Shields at GolfSharro@aol.com. \n 
URL:https://suncoastpca.org/event/rookie-rally/
LOCATION:United States
CATEGORIES:Other
ORGANIZER;CN="Sharron Shields":MAILTO:GolfSharro@aol.com
END:VEVENT
BEGIN:VEVENT
DTSTART;TZID=America/New_York:20131026T080000
DTEND;TZID=America/New_York:20131026T170000
DTSTAMP:20260423T020924
CREATED:20131102T162319Z
LAST-MODIFIED:20131102T162352Z
UID:10000441-1382774400-1382806800@suncoastpca.org
SUMMARY:Golf Tournament
DESCRIPTION:Don’t miss out on some great golf benefiting a great cause at the finest semi-private golf facility in Pinellas County! \nPorsches and Putters golf tournament benefiting All Children’s Hospital\, October 26 at the Wentworth Golf Club\, Tarpon Springs\, 1pm shot gun start. Entry fee: $100 per player. www.wentworthgolfclub.org \nWe have some great door prizes\, use of a new Porsche for the weekend\, courtesy of Suncoast Porsche\, D.E entry \, restaurant gift cards and more. Lunch and dinner provided with entry fee. This is a fun event open to all handicaps. Come out and support Suncoast Region and All Children’s Hospital. \nRegister at Clubregistration.net\, or call Sharron Shields at 813-681-5378 (H) or 407-342-7439 (C)\, or email to GolfSharro@aol.com.
URL:https://suncoastpca.org/event/golf-tournament-2/
LOCATION:Wentworth Golf Club\, 2990 Wentworth Way\, Tarpon Springs\, FL\, 34688\, United States
CATEGORIES:Other
ORGANIZER;CN="Sharron Shields":MAILTO:GolfSharro@aol.com
GEO:28.142954;-82.702791
X-APPLE-STRUCTURED-LOCATION;VALUE=URI;X-ADDRESS=Wentworth Golf Club 2990 Wentworth Way Tarpon Springs FL 34688 United States;X-APPLE-RADIUS=500;X-TITLE=2990 Wentworth Way:geo:-82.702791,28.142954
END:VEVENT
END:VCALENDAR