BEGIN:VCALENDAR
VERSION:2.0
PRODID:-//Suncoast Florida Region - PCA - ECPv6.15.20//NONSGML v1.0//EN
CALSCALE:GREGORIAN
METHOD:PUBLISH
X-WR-CALNAME:Suncoast Florida Region - PCA
X-ORIGINAL-URL:https://suncoastpca.org
X-WR-CALDESC:Events for Suncoast Florida Region - PCA
REFRESH-INTERVAL;VALUE=DURATION:PT1H
X-Robots-Tag:noindex
X-PUBLISHED-TTL:PT1H
BEGIN:VTIMEZONE
TZID:UTC
BEGIN:STANDARD
TZOFFSETFROM:+0000
TZOFFSETTO:+0000
TZNAME:UTC
DTSTART:20130101T000000
END:STANDARD
END:VTIMEZONE
BEGIN:VTIMEZONE
TZID:America/New_York
BEGIN:DAYLIGHT
TZOFFSETFROM:-0500
TZOFFSETTO:-0400
TZNAME:EDT
DTSTART:20120311T070000
END:DAYLIGHT
BEGIN:STANDARD
TZOFFSETFROM:-0400
TZOFFSETTO:-0500
TZNAME:EST
DTSTART:20121104T060000
END:STANDARD
BEGIN:DAYLIGHT
TZOFFSETFROM:-0500
TZOFFSETTO:-0400
TZNAME:EDT
DTSTART:20130310T070000
END:DAYLIGHT
BEGIN:STANDARD
TZOFFSETFROM:-0400
TZOFFSETTO:-0500
TZNAME:EST
DTSTART:20131103T060000
END:STANDARD
BEGIN:DAYLIGHT
TZOFFSETFROM:-0500
TZOFFSETTO:-0400
TZNAME:EDT
DTSTART:20140309T070000
END:DAYLIGHT
BEGIN:STANDARD
TZOFFSETFROM:-0400
TZOFFSETTO:-0500
TZNAME:EST
DTSTART:20141102T060000
END:STANDARD
BEGIN:DAYLIGHT
TZOFFSETFROM:-0500
TZOFFSETTO:-0400
TZNAME:EDT
DTSTART:20150308T070000
END:DAYLIGHT
BEGIN:STANDARD
TZOFFSETFROM:-0400
TZOFFSETTO:-0500
TZNAME:EST
DTSTART:20151101T060000
END:STANDARD
END:VTIMEZONE
BEGIN:VEVENT
DTSTART;TZID=UTC:20150610T190000
DTEND;TZID=UTC:20150610T220000
DTSTAMP:20260422T213817
CREATED:20150508T202533Z
LAST-MODIFIED:20150528T151621Z
UID:10000536-1433962800-1433973600@suncoastpca.org
SUMMARY:Suncoast Motorsports Member Social
DESCRIPTION:Registration for this event is now closed.
URL:https://suncoastpca.org/event/suncoast-motorsports-member-social/
LOCATION:Suncoast Porsche\, 5005 S. Tamiami Trail\, Sarasota\, FL\, 34231\, United States
CATEGORIES:Social
ORGANIZER;CN="Missy Teasley":MAILTO:missyteasley@aol.com
GEO:27.279772;-82.529245
X-APPLE-STRUCTURED-LOCATION;VALUE=URI;X-ADDRESS=Suncoast Porsche 5005 S. Tamiami Trail Sarasota FL 34231 United States;X-APPLE-RADIUS=500;X-TITLE=5005 S. Tamiami Trail:geo:-82.529245,27.279772
END:VEVENT
BEGIN:VEVENT
DTSTART;VALUE=DATE:20150606
DTEND;VALUE=DATE:20150607
DTSTAMP:20260422T213817
CREATED:20150318T221436Z
LAST-MODIFIED:20150318T221436Z
UID:10000532-1433548800-1433635199@suncoastpca.org
SUMMARY:The Larry Wilson Collection Tour
DESCRIPTION:GET YOUR PORSCHES READY FOR A SPECTACULAR EVENT \nOn\, Saturday\, June 6\, we have planned a tour to visit The Larry Wilson Collection. The Larry Wilson Collection is a private display of nearly 100 cars which includes Porsches\, Jaguar\, MG\, Mercedes-Benz\, various race cars\, numerous special interest cars and so many other things. This again is a private collection and is not open to the public; however\, we are fortunate enough to be invited to view these cars. Add this experience to your prior visit to the Collier Museum\, you will come away and say “Oh my\, where do these cars come from?”. \nThe collection is located in Palm Beach Gardens. Because our region is so spread out\, we will meet at several predetermined locations and caravan down together. Those locations will be announced as we get closer to the event. \nOur caravans will end up in Jupiter and lunch will be on our own. After lunch we will meet in the Publix parking lot located at Jupiter Farms Village\, 10142 Indiantown Road at 2:00 pm. We will tour as a group to the warehouse location. \nWe will try for a group dinner after the tour. For those wishing to spend the night in the area and do some sight seeing on Sunday\, we will list a few suggestions for hotels in Jupiter. These arrangements will also be announced as we get closer to the event. \nContact missyteasley@aol.com to get on the list and for more information.
URL:https://suncoastpca.org/event/the-larry-wilson-collection-tour/
LOCATION:Unnamed Venue\, FL\, United States
CATEGORIES:Other
ORGANIZER;CN="Missy Teasley":MAILTO:missyteasley@aol.com
GEO:27.6648274;-81.5157535
END:VEVENT
BEGIN:VEVENT
DTSTART;TZID=UTC:20150517T120000
DTEND;TZID=UTC:20150517T140000
DTSTAMP:20260422T213817
CREATED:20150318T221748Z
LAST-MODIFIED:20150318T221748Z
UID:10000533-1431864000-1431871200@suncoastpca.org
SUMMARY:Porsche Brunch Bunch
DESCRIPTION:
URL:https://suncoastpca.org/event/porsche-brunch-bunch/
LOCATION:Jackson’s Bistro – Bar – Sushi\, 601 S. Harbour Island Blvd.\, Tampa\, FL\, 33602-5749\, United States
CATEGORIES:Social
ORGANIZER;CN="Missy Teasley":MAILTO:missyteasley@aol.com
GEO:27.938841;-82.45482
X-APPLE-STRUCTURED-LOCATION;VALUE=URI;X-ADDRESS=Jackson’s Bistro – Bar – Sushi 601 S. Harbour Island Blvd. Tampa FL 33602-5749 United States;X-APPLE-RADIUS=500;X-TITLE=601 S. Harbour Island Blvd.:geo:-82.45482,27.938841
END:VEVENT
BEGIN:VEVENT
DTSTART;VALUE=DATE:20150425
DTEND;VALUE=DATE:20150426
DTSTAMP:20260422T213817
CREATED:20150318T220935Z
LAST-MODIFIED:20150318T220935Z
UID:10000531-1429920000-1430006399@suncoastpca.org
SUMMARY:Bert Smith Poker Run
DESCRIPTION:RSVP quickly as space is limited and limited to Porsches only. Bert Smith is going to treat our club to another fabulous poker run. As stated\, space is limited and you must be on the confirmed list to participate. Meet at Bert Smith for a route of fun driving and a card at each stop. This event is a full day of fun. RSVP to missyteasley@aol.com for more information. You must be confirmed to participate in this event.
URL:https://suncoastpca.org/event/bert-smith-poker-run-2/
LOCATION:Bert Smith Porsche\, 3800 34th Street North\, St. Petersburg\, FL\, 33714\, United States
CATEGORIES:Other
ORGANIZER;CN="Missy Teasley":MAILTO:missyteasley@aol.com
GEO:27.8074509;-82.6803894
X-APPLE-STRUCTURED-LOCATION;VALUE=URI;X-ADDRESS=Bert Smith Porsche 3800 34th Street North St. Petersburg FL 33714 United States;X-APPLE-RADIUS=500;X-TITLE=3800 34th Street North:geo:-82.6803894,27.8074509
END:VEVENT
BEGIN:VEVENT
DTSTART;TZID=UTC:20150415T190000
DTEND;TZID=UTC:20150415T220000
DTSTAMP:20260422T213817
CREATED:20150227T122941Z
LAST-MODIFIED:20150227T123031Z
UID:10000530-1429124400-1429135200@suncoastpca.org
SUMMARY:Date Your Porsche Night
DESCRIPTION:Ozona Blue
URL:https://suncoastpca.org/event/date-your-porsche-night-9/
LOCATION:Ozona Blue\, 125 Orange Street\, Palm Harbor\, FL\, 34683\, United States
CATEGORIES:Social
ORGANIZER;CN="Missy Teasley":MAILTO:missyteasley@aol.com
GEO:28.058654;-82.7767734
X-APPLE-STRUCTURED-LOCATION;VALUE=URI;X-ADDRESS=Ozona Blue 125 Orange Street Palm Harbor FL 34683 United States;X-APPLE-RADIUS=500;X-TITLE=125 Orange Street:geo:-82.7767734,28.058654
END:VEVENT
BEGIN:VEVENT
DTSTART;VALUE=DATE:20150318
DTEND;VALUE=DATE:20150319
DTSTAMP:20260422T213817
CREATED:20141207T174521Z
LAST-MODIFIED:20150130T183103Z
UID:10000523-1426636800-1426723199@suncoastpca.org
SUMMARY:Date Your Porsche Night
DESCRIPTION:Tarpon Pointe Grill & Tiki Bar is a casual open air waterfront restaurant with a easy-going atmosphere. Good view\, good food and of course good Porsche friends to visit with.
URL:https://suncoastpca.org/event/date-your-porsche-night-8/
LOCATION:Tarpon Pointe Grille & Tiki Bar\, 801 Riverside Dr E\, Bradenton\, FL\, 34208\, United States
CATEGORIES:Social
ORGANIZER;CN="Missy Teasley":MAILTO:missyteasley@aol.com
GEO:27.4984166;-82.5566596
X-APPLE-STRUCTURED-LOCATION;VALUE=URI;X-ADDRESS=Tarpon Pointe Grille & Tiki Bar 801 Riverside Dr E Bradenton FL 34208 United States;X-APPLE-RADIUS=500;X-TITLE=801 Riverside Dr E:geo:-82.5566596,27.4984166
END:VEVENT
BEGIN:VEVENT
DTSTART;TZID=UTC:20150218T190000
DTEND;TZID=UTC:20150218T220000
DTSTAMP:20260422T213817
CREATED:20140903T183730Z
LAST-MODIFIED:20150205T144950Z
UID:10000504-1424286000-1424296800@suncoastpca.org
SUMMARY:Date Your Porsche Night
DESCRIPTION:Bahama Breeze.  \nBe sure to check out the Bahama Breeze website to checkout the specials\, the variety of drinks and of course the great menu selections.
URL:https://suncoastpca.org/event/to-be-announced/
LOCATION:Bahama Breeze\, 3045 North Rocky Point Dr. East\, Tampa\, FL\, 33607\, United States
CATEGORIES:Social
ORGANIZER;CN="Missy Teasley":MAILTO:missyteasley@aol.com
GEO:27.9697495;-82.5628056
X-APPLE-STRUCTURED-LOCATION;VALUE=URI;X-ADDRESS=Bahama Breeze 3045 North Rocky Point Dr. East Tampa FL 33607 United States;X-APPLE-RADIUS=500;X-TITLE=3045 North Rocky Point Dr. East:geo:-82.5628056,27.9697495
END:VEVENT
BEGIN:VEVENT
DTSTART;TZID=UTC:20150121T190000
DTEND;TZID=UTC:20150121T220000
DTSTAMP:20260422T213817
CREATED:20140903T182827Z
LAST-MODIFIED:20141231T153359Z
UID:10000500-1421866800-1421877600@suncoastpca.org
SUMMARY:Date Your Porsche Night
DESCRIPTION:RSVP to Missy Teasley at missyteasley@aol.com
URL:https://suncoastpca.org/event/date-your-porsche-night-7/
LOCATION:The Colonnade\, 3401 Bayshore Blvd\, Tampa\, FL\, 33629\, United States
CATEGORIES:Social
ORGANIZER;CN="Missy Teasley":MAILTO:missyteasley@aol.com
GEO:27.912453;-82.491907
X-APPLE-STRUCTURED-LOCATION;VALUE=URI;X-ADDRESS=The Colonnade 3401 Bayshore Blvd Tampa FL 33629 United States;X-APPLE-RADIUS=500;X-TITLE=3401 Bayshore Blvd:geo:-82.491907,27.912453
END:VEVENT
BEGIN:VEVENT
DTSTART;TZID=UTC:20141214T120000
DTEND;TZID=UTC:20141214T160000
DTSTAMP:20260422T213817
CREATED:20140825T201307Z
LAST-MODIFIED:20141006T115721Z
UID:10000498-1418558400-1418572800@suncoastpca.org
SUMMARY:Porsches Brunch Bunch
DESCRIPTION:Jackson’s Bistro\, Tampa
URL:https://suncoastpca.org/event/porsches-brunch-bunch/
LOCATION:Jackson’s Bistro – Bar – Sushi\, 601 S. Harbour Island Blvd.\, Tampa\, FL\, 33602-5749\, United States
CATEGORIES:Social
ORGANIZER;CN="Missy Teasley":MAILTO:missyteasley@aol.com
GEO:27.938841;-82.45482
X-APPLE-STRUCTURED-LOCATION;VALUE=URI;X-ADDRESS=Jackson’s Bistro – Bar – Sushi 601 S. Harbour Island Blvd. Tampa FL 33602-5749 United States;X-APPLE-RADIUS=500;X-TITLE=601 S. Harbour Island Blvd.:geo:-82.45482,27.938841
END:VEVENT
BEGIN:VEVENT
DTSTART;VALUE=DATE:20141206
DTEND;VALUE=DATE:20141207
DTSTAMP:20260422T213817
CREATED:20140611T121947Z
LAST-MODIFIED:20141121T154609Z
UID:10000495-1417824000-1417910399@suncoastpca.org
SUMMARY:Holiday Gala
DESCRIPTION:
URL:https://suncoastpca.org/event/holiday-gala-2/
LOCATION:Museum of Fine Arts\, 255 Beach Dr NE\, St Petersburg\, FL\, 33701\, United States
CATEGORIES:Social
ORGANIZER;CN="Missy Teasley":MAILTO:missyteasley@aol.com
GEO:27.7744205;-82.6318843
X-APPLE-STRUCTURED-LOCATION;VALUE=URI;X-ADDRESS=Museum of Fine Arts 255 Beach Dr NE St Petersburg FL 33701 United States;X-APPLE-RADIUS=500;X-TITLE=255 Beach Dr NE:geo:-82.6318843,27.7744205
END:VEVENT
BEGIN:VEVENT
DTSTART;TZID=UTC:20141015T190000
DTEND;TZID=UTC:20141015T220000
DTSTAMP:20260422T213817
CREATED:20140903T182041Z
LAST-MODIFIED:20141006T120312Z
UID:10000499-1413399600-1413410400@suncoastpca.org
SUMMARY:Date Your Porsche Night
DESCRIPTION:
URL:https://suncoastpca.org/event/date-your-porsche-night-3/
LOCATION:Bubba Gump Shrimp Co.\, 185 Boardwalk Pl.W.\, Madeira Beach\, FL\, 33708-2693\, United States
CATEGORIES:Social
ORGANIZER;CN="Missy Teasley":MAILTO:missyteasley@aol.com
GEO:27.784305;-82.7826191
X-APPLE-STRUCTURED-LOCATION;VALUE=URI;X-ADDRESS=Bubba Gump Shrimp Co. 185 Boardwalk Pl.W. Madeira Beach FL 33708-2693 United States;X-APPLE-RADIUS=500;X-TITLE=185 Boardwalk Pl.W.:geo:-82.7826191,27.784305
END:VEVENT
BEGIN:VEVENT
DTSTART;VALUE=DATE:20141004
DTEND;VALUE=DATE:20141005
DTSTAMP:20260422T213817
CREATED:20140806T191513Z
LAST-MODIFIED:20140828T004156Z
UID:10000496-1412380800-1412467199@suncoastpca.org
SUMMARY:Porsches & Pints
DESCRIPTION:
URL:https://suncoastpca.org/event/porsches-pints-2/
CATEGORIES:Social
ORGANIZER;CN="Missy Teasley":MAILTO:missyteasley@aol.com
END:VEVENT
BEGIN:VEVENT
DTSTART;TZID=UTC:20140917T190000
DTEND;TZID=UTC:20140917T220000
DTSTAMP:20260422T213817
CREATED:20131110T201502Z
LAST-MODIFIED:20140819T195905Z
UID:10000469-1410980400-1410991200@suncoastpca.org
SUMMARY:Date Your Porsche Night
DESCRIPTION:The Island Grille & Raw Bar
URL:https://suncoastpca.org/event/date-your-porsche-night-6/
LOCATION:The Island Grille & Raw Bar\, 210 Madonna Boulevard\, Tierra Verde\, FL\, 33715\, United States
CATEGORIES:Social
ORGANIZER;CN="Missy Teasley":MAILTO:missyteasley@aol.com
GEO:27.6905993;-82.7224964
X-APPLE-STRUCTURED-LOCATION;VALUE=URI;X-ADDRESS=The Island Grille & Raw Bar 210 Madonna Boulevard Tierra Verde FL 33715 United States;X-APPLE-RADIUS=500;X-TITLE=210 Madonna Boulevard:geo:-82.7224964,27.6905993
END:VEVENT
BEGIN:VEVENT
DTSTART;TZID=UTC:20140906T090000
DTEND;TZID=UTC:20140906T120000
DTSTAMP:20260422T213817
CREATED:20140404T152402Z
LAST-MODIFIED:20140819T195740Z
UID:10000488-1409994000-1410004800@suncoastpca.org
SUMMARY:Skeet Shoot
DESCRIPTION:Skeet Shoot\nSeptember 6\, 2014 \nLocation:  Tampa Bay Sporting Clay & Archery\n10514 Ehren Cutoff\nLand O Lakes\, Florida  34639\n813-927-6200 \n$70.00 per shooter includes \n\n50 targets\n2 boxes of Ammo\nGolf cart (1 per 4 person team)\nPavilion\, ear protection and score cards\n\nThis is with you bringing your own gun.  The cost to rent a gun is $5.00 per cart. \nWe will meet at 9:00am for registration.\nSafety briefing ( mandatory )  then the fun  and / or competition begins. \nMorning snacks and beverages will be served at the pavilion during registration.  Beverages and various food items such as sandwiches\, chips\, fruit and of course some dessert items will be available throughout the shoot compliments of the Suncoast Region PCA. \nFollowing is the price list for practice \n\nThe golf cart which is required is $20.00 total\, this is for one or four persons..\nTargets $.48 each\n\nThis is a beautiful woodsy area.  I am sure being out in the “rough” shooting your gun and having fun with fellow club members will make great conversation later\, maybe even some laughter as you recount some of the  vocal expressions voiced during the morning of fun. \nQuestions or to be included contact missyteaslely@aol.com.
URL:https://suncoastpca.org/event/skeet-shoot/
LOCATION:Tampa Bay Sporting Clays and Archery\, 10514 Ehren Cutoff\, Land O' Lakes\, FL\, 34639\, United States
CATEGORIES:Social
ORGANIZER;CN="Missy Teasley":MAILTO:missyteasley@aol.com
GEO:28.3012428;-82.4313091
X-APPLE-STRUCTURED-LOCATION;VALUE=URI;X-ADDRESS=Tampa Bay Sporting Clays and Archery 10514 Ehren Cutoff Land O' Lakes FL 34639 United States;X-APPLE-RADIUS=500;X-TITLE=10514 Ehren Cutoff:geo:-82.4313091,28.3012428
END:VEVENT
BEGIN:VEVENT
DTSTART;VALUE=DATE:20140809
DTEND;VALUE=DATE:20140810
DTSTAMP:20260422T213817
CREATED:20131110T201444Z
LAST-MODIFIED:20140715T202424Z
UID:10000468-1407542400-1407628799@suncoastpca.org
SUMMARY:Mid-Summer BBQ
DESCRIPTION:
URL:https://suncoastpca.org/event/mid-summer-bbq/
LOCATION:Mike Kwasin’s Home\, 3613 S. Beach Drive\, Tampa\, FL\, 33629\, United States
CATEGORIES:Social
ORGANIZER;CN="Missy Teasley":MAILTO:missyteasley@aol.com
GEO:27.910035;-82.533317
X-APPLE-STRUCTURED-LOCATION;VALUE=URI;X-ADDRESS=Mike Kwasin’s Home 3613 S. Beach Drive Tampa FL 33629 United States;X-APPLE-RADIUS=500;X-TITLE=3613 S. Beach Drive:geo:-82.533317,27.910035
END:VEVENT
BEGIN:VEVENT
DTSTART;TZID=UTC:20140716T183000
DTEND;TZID=UTC:20140716T210000
DTSTAMP:20260422T213817
CREATED:20131110T201427Z
LAST-MODIFIED:20140602T112433Z
UID:10000467-1405535400-1405544400@suncoastpca.org
SUMMARY:Dealer Social
DESCRIPTION:Come join this special evening provided by Suncoast Motorsports  located at 5005 S. Tamiami Trail.  6:30pm. \nWe are very fortunate to have great dealers that continue to support and entertain our club.  We thank Suncoast Motorsports and look forward to this fun evening. \nSpace is limited – To attend or for more information  contact missyteasley@aol.com \nLooking forward to seeing you there.
URL:https://suncoastpca.org/event/dealer-social-2/
LOCATION:Suncoast Porsche\, 5005 S. Tamiami Trail\, Sarasota\, FL\, 34231\, United States
CATEGORIES:Social
ORGANIZER;CN="Missy Teasley":MAILTO:missyteasley@aol.com
GEO:27.279772;-82.529245
X-APPLE-STRUCTURED-LOCATION;VALUE=URI;X-ADDRESS=Suncoast Porsche 5005 S. Tamiami Trail Sarasota FL 34231 United States;X-APPLE-RADIUS=500;X-TITLE=5005 S. Tamiami Trail:geo:-82.529245,27.279772
END:VEVENT
BEGIN:VEVENT
DTSTART;VALUE=DATE:20140618
DTEND;VALUE=DATE:20140619
DTSTAMP:20260422T213817
CREATED:20131110T201402Z
LAST-MODIFIED:20140304T223200Z
UID:10000466-1403049600-1403135999@suncoastpca.org
SUMMARY:Date Your Porsche Night
DESCRIPTION:Bahama Breeze
URL:https://suncoastpca.org/event/date-your-porsche-night-5/
LOCATION:Bahama Breeze\, 3045 North Rocky Point Dr. East\, Tampa\, FL\, 33607\, United States
CATEGORIES:Social
ORGANIZER;CN="Missy Teasley":MAILTO:missyteasley@aol.com
GEO:27.9697495;-82.5628056
X-APPLE-STRUCTURED-LOCATION;VALUE=URI;X-ADDRESS=Bahama Breeze 3045 North Rocky Point Dr. East Tampa FL 33607 United States;X-APPLE-RADIUS=500;X-TITLE=3045 North Rocky Point Dr. East:geo:-82.5628056,27.9697495
END:VEVENT
BEGIN:VEVENT
DTSTART;VALUE=DATE:20140607
DTEND;VALUE=DATE:20140608
DTSTAMP:20260422T213817
CREATED:20140328T142120Z
LAST-MODIFIED:20140522T120646Z
UID:10000486-1402099200-1402185599@suncoastpca.org
SUMMARY:Crystal River Invasion
DESCRIPTION:A drive to Crystal River for a fun filled day.  A nine mile drive of curves.  You read that right\, a miniature flat – Tale of the Dragon. \nA delicious seafood lunch at Peck’s Old Port Cove Restaurant followed by a tour of Crystal Motor Sports Museum  and more. \nInterested?   Contact missyteasley@aol.com for  details.
URL:https://suncoastpca.org/event/crystal-river-invasion/
LOCATION:Peck’s Old Port Cove Restaurant\, 139 N Ozello Trail\, Crystal River\, FL\, 34429\, United States
CATEGORIES:Social
ORGANIZER;CN="Missy Teasley":MAILTO:missyteasley@aol.com
GEO:28.863382;-82.667728
X-APPLE-STRUCTURED-LOCATION;VALUE=URI;X-ADDRESS=Peck’s Old Port Cove Restaurant 139 N Ozello Trail Crystal River FL 34429 United States;X-APPLE-RADIUS=500;X-TITLE=139 N Ozello Trail:geo:-82.667728,28.863382
END:VEVENT
BEGIN:VEVENT
DTSTART;VALUE=DATE:20140521
DTEND;VALUE=DATE:20140522
DTSTAMP:20260422T213817
CREATED:20131110T200753Z
LAST-MODIFIED:20140428T224529Z
UID:10000463-1400630400-1400716799@suncoastpca.org
SUMMARY:Date Your Porsche Night
DESCRIPTION:Tarpon Pointe Grille & Tiki Bar\, Bradenton
URL:https://suncoastpca.org/event/date-your-porsche-night-4/
LOCATION:Tarpon Pointe Grille & Tiki Bar\, 801 Riverside Dr E\, Bradenton\, FL\, 34208\, United States
CATEGORIES:Social
ORGANIZER;CN="Missy Teasley":MAILTO:missyteasley@aol.com
GEO:27.4984166;-82.5566596
X-APPLE-STRUCTURED-LOCATION;VALUE=URI;X-ADDRESS=Tarpon Pointe Grille & Tiki Bar 801 Riverside Dr E Bradenton FL 34208 United States;X-APPLE-RADIUS=500;X-TITLE=801 Riverside Dr E:geo:-82.5566596,27.4984166
END:VEVENT
BEGIN:VEVENT
DTSTART;TZID=UTC:20140219T190000
DTEND;TZID=UTC:20140219T220000
DTSTAMP:20260422T213817
CREATED:20140118T192856Z
LAST-MODIFIED:20140127T222009Z
UID:10000484-1392836400-1392847200@suncoastpca.org
SUMMARY:Date Your Porsche Night
DESCRIPTION:Ricky P’s Orleans Bistro\n1113 Central Avenue\, St. Pete\, FL\n(727) 821-4061
URL:https://suncoastpca.org/event/1337/
LOCATION:Ricky P’s Orleans Bistro\, 1113 Central Avenue\, St Petersburg\, FL\, United States
CATEGORIES:Social
ORGANIZER;CN="Missy Teasley":MAILTO:missyteasley@aol.com
GEO:27.7711358;-82.6499963
X-APPLE-STRUCTURED-LOCATION;VALUE=URI;X-ADDRESS=Ricky P’s Orleans Bistro 1113 Central Avenue St Petersburg FL United States;X-APPLE-RADIUS=500;X-TITLE=1113 Central Avenue:geo:-82.6499963,27.7711358
END:VEVENT
BEGIN:VEVENT
DTSTART;TZID=America/New_York:20140115T190000
DTEND;TZID=America/New_York:20140115T220000
DTSTAMP:20260422T213817
CREATED:20131109T152359Z
LAST-MODIFIED:20140127T220234Z
UID:10000449-1389812400-1389823200@suncoastpca.org
SUMMARY:Date Your Porsche Night
DESCRIPTION:
URL:https://suncoastpca.org/event/date-your-porsche-night-2/
LOCATION:The Colonnade\, 3401 Bayshore Blvd\, Tampa\, FL\, 33629\, United States
CATEGORIES:Social
ORGANIZER;CN="Missy Teasley":MAILTO:missyteasley@aol.com
GEO:27.912453;-82.491907
X-APPLE-STRUCTURED-LOCATION;VALUE=URI;X-ADDRESS=The Colonnade 3401 Bayshore Blvd Tampa FL 33629 United States;X-APPLE-RADIUS=500;X-TITLE=3401 Bayshore Blvd:geo:-82.491907,27.912453
END:VEVENT
BEGIN:VEVENT
DTSTART;TZID=America/New_York:20131016T184500
DTEND;TZID=America/New_York:20131016T220000
DTSTAMP:20260422T213817
CREATED:20131027T213803Z
LAST-MODIFIED:20131027T213803Z
UID:10000440-1381949100-1381960800@suncoastpca.org
SUMMARY:Date Your Porsche Night
DESCRIPTION:Date Your Porsche Night – Salt Rock Grille\, Indian Rocks Beach
URL:https://suncoastpca.org/event/date-your-porsche-night/
LOCATION:Salt Rock Grille\, 19325 Gulf Blvd.\, Indian Shores\, FL\, 33785\, United States
CATEGORIES:Social
ORGANIZER;CN="Missy Teasley":MAILTO:missyteasley@aol.com
GEO:27.848536;-82.842646
X-APPLE-STRUCTURED-LOCATION;VALUE=URI;X-ADDRESS=Salt Rock Grille 19325 Gulf Blvd. Indian Shores FL 33785 United States;X-APPLE-RADIUS=500;X-TITLE=19325 Gulf Blvd.:geo:-82.842646,27.848536
END:VEVENT
END:VCALENDAR