BEGIN:VCALENDAR
VERSION:2.0
PRODID:-//Suncoast Florida Region - PCA - ECPv6.15.20//NONSGML v1.0//EN
CALSCALE:GREGORIAN
METHOD:PUBLISH
X-WR-CALNAME:Suncoast Florida Region - PCA
X-ORIGINAL-URL:https://suncoastpca.org
X-WR-CALDESC:Events for Suncoast Florida Region - PCA
REFRESH-INTERVAL;VALUE=DURATION:PT1H
X-Robots-Tag:noindex
X-PUBLISHED-TTL:PT1H
BEGIN:VTIMEZONE
TZID:America/New_York
BEGIN:DAYLIGHT
TZOFFSETFROM:-0500
TZOFFSETTO:-0400
TZNAME:EDT
DTSTART:20180311T070000
END:DAYLIGHT
BEGIN:STANDARD
TZOFFSETFROM:-0400
TZOFFSETTO:-0500
TZNAME:EST
DTSTART:20181104T060000
END:STANDARD
BEGIN:DAYLIGHT
TZOFFSETFROM:-0500
TZOFFSETTO:-0400
TZNAME:EDT
DTSTART:20190310T070000
END:DAYLIGHT
BEGIN:STANDARD
TZOFFSETFROM:-0400
TZOFFSETTO:-0500
TZNAME:EST
DTSTART:20191103T060000
END:STANDARD
BEGIN:DAYLIGHT
TZOFFSETFROM:-0500
TZOFFSETTO:-0400
TZNAME:EDT
DTSTART:20200308T070000
END:DAYLIGHT
BEGIN:STANDARD
TZOFFSETFROM:-0400
TZOFFSETTO:-0500
TZNAME:EST
DTSTART:20201101T060000
END:STANDARD
END:VTIMEZONE
BEGIN:VEVENT
DTSTART;TZID=America/New_York:20190216T100000
DTEND;TZID=America/New_York:20190216T170000
DTSTAMP:20260423T051537
CREATED:20190109T212114Z
LAST-MODIFIED:20190109T212114Z
UID:10000678-1550311200-1550336400@suncoastpca.org
SUMMARY:Time Speed Distance Rally
DESCRIPTION:The Time Speed Distance (TSD) Rally is Saturday\, Feb 16th. We will meet at Denny’s in Sun City Center at 10 AM for a Rally school. Breakfast available on your own during the school. The Rally starts at Noon. \nNOTE: there is a 20 car limit for this rally. You will automatically be wait-listed if we exceed this number. \nhttps://clubregistration.net/events/register.cfm?event_id=9609
URL:https://suncoastpca.org/event/time-speed-distance-rally/
LOCATION:United States
CATEGORIES:Social
ORGANIZER;CN="Jim Hoey":MAILTO:rallymaster@suncoastpca.org
END:VEVENT
END:VCALENDAR