BEGIN:VCALENDAR
VERSION:2.0
PRODID:-//Suncoast Florida Region - PCA - ECPv6.15.20//NONSGML v1.0//EN
CALSCALE:GREGORIAN
METHOD:PUBLISH
X-ORIGINAL-URL:https://suncoastpca.org
X-WR-CALDESC:Events for Suncoast Florida Region - PCA
REFRESH-INTERVAL;VALUE=DURATION:PT1H
X-Robots-Tag:noindex
X-PUBLISHED-TTL:PT1H
BEGIN:VTIMEZONE
TZID:UTC
BEGIN:STANDARD
TZOFFSETFROM:+0000
TZOFFSETTO:+0000
TZNAME:UTC
DTSTART:20130101T000000
END:STANDARD
END:VTIMEZONE
BEGIN:VTIMEZONE
TZID:America/New_York
BEGIN:DAYLIGHT
TZOFFSETFROM:-0500
TZOFFSETTO:-0400
TZNAME:EDT
DTSTART:20120311T070000
END:DAYLIGHT
BEGIN:STANDARD
TZOFFSETFROM:-0400
TZOFFSETTO:-0500
TZNAME:EST
DTSTART:20121104T060000
END:STANDARD
BEGIN:DAYLIGHT
TZOFFSETFROM:-0500
TZOFFSETTO:-0400
TZNAME:EDT
DTSTART:20130310T070000
END:DAYLIGHT
BEGIN:STANDARD
TZOFFSETFROM:-0400
TZOFFSETTO:-0500
TZNAME:EST
DTSTART:20131103T060000
END:STANDARD
BEGIN:DAYLIGHT
TZOFFSETFROM:-0500
TZOFFSETTO:-0400
TZNAME:EDT
DTSTART:20140309T070000
END:DAYLIGHT
BEGIN:STANDARD
TZOFFSETFROM:-0400
TZOFFSETTO:-0500
TZNAME:EST
DTSTART:20141102T060000
END:STANDARD
END:VTIMEZONE
BEGIN:VEVENT
DTSTART;TZID=UTC:20140824T083000
DTEND;TZID=UTC:20140824T160000
DTSTAMP:20260422T213904
CREATED:20131126T203241Z
LAST-MODIFIED:20140822T141137Z
UID:10000479-1408869000-1408896000@suncoastpca.org
SUMMARY:Autocross - Tampa Bay Downs
DESCRIPTION:August Autocross #6 at Tampa Bay Downs – Ladies’ Day \nRegistration and tech inspection 8:30am – 9:30am.  Course walk at 9:45am followed by drivers’ meeting at 10:15am. \nCost is $30 for PCA and BMWCCA members\, $40 for non-members\, to be paid on site.   (Update 21 AUG):  Due to excellent interest\, the event is full and we will not be taking walk-up registrations. \nSnell 2005 helmet or newer required\, loaners available.   Please register on-line.  All payment will be taken at the site.  Lunch will be provided.  Non-Porsche vehicles are welcome. \nSpecial instruction and prizes will be provided for the ladies! \nDirections: \nLocated on Race Track Rd about 1 mile north of Tampa Rd in northwest Hillsborough County.  Use the facility entrance on the south side of the main grandstands building and we will direct you to the parking location. \n11225 Race Track Rd \nTampa\, FL 33626
URL:https://suncoastpca.org/event/autocross-tampa-bay-downs/
LOCATION:Tampa Bay Downs\, 11225 Race Track Rd\, Tampa\, FL\, 33626\, United States
CATEGORIES:Autocross
ORGANIZER;CN="Brian West":MAILTO:bwfst84@gmail.com
GEO:28.0498549;-82.6480971
X-APPLE-STRUCTURED-LOCATION;VALUE=URI;X-ADDRESS=Tampa Bay Downs 11225 Race Track Rd Tampa FL 33626 United States;X-APPLE-RADIUS=500;X-TITLE=11225 Race Track Rd:geo:-82.6480971,28.0498549
END:VEVENT
BEGIN:VEVENT
DTSTART;TZID=UTC:20140525T080000
DTEND;TZID=UTC:20140525T170000
DTSTAMP:20260422T213904
CREATED:20131126T203131Z
LAST-MODIFIED:20140325T130515Z
UID:10000478-1401004800-1401037200@suncoastpca.org
SUMMARY:Autocross - Tavares
DESCRIPTION:Autocross #5 in conjunction with Zonefest run by Florida Citrus Region \nRegistration will be available on www.clubregistration.net a few weeks prior to the event.  Cost is $35\, payable at the event (only)\, including lunch\, with a $5 discount for pre-registration. \nThe event will be held at the Lake County Sheriff’s Training Facility.  We will run an exciting course on the big lot. Gates open at 7:00 and on site registration closes at 8:30. On line registration closes at 12:01 AM on May 23\, so register before midnight Thursday\, May 22.   Please preregister\, we need the time to process the registration data. Course map will be sent a few days before the event. \nIf you are an experienced autocrosser\, you know the FLC series offers friendly competition and great camaraderie. If you have not done an autocross\, please join us. We offer a fun\, safe environment in which you can drive your Porsche the way the engineers designed it. We welcome novices\, women\, and young drivers (over 16 with a valid license). Instructors and loaner helmets are available. \nIf you have any problems registering or any other questions\, contact me. \nBert Del Villano\nFLC Autocross Chair\n407-909-0636 (Orlando)\n970-262-9073 (Dillon\, CO)\n970-406-1703 (cell)\nbertdelvillano@aol.com \nDirections: \nFrom the Orlando area\, take Rte 429 to Rte 441 and head toward Mt. Dora.  Turn left at Saddler Rd.  Shell station on left.  Set the odometer to 0.  At 1.6 miles there is a split in the road.  Stay straight.  At 2.9 miles turn right at a stop sign\, then immediately go left.  At 7.7 miles\, go left at the red light onto Rte 561.  At 8.5 miles go right then about a half mile\, enter the site on the left.
URL:https://suncoastpca.org/event/autocross-mt-doratavares/
LOCATION:Tavares – Lake County Sheriff’s Training Facility\, 13000 Frankies Rd‎\, Tavares\, FL\, 32778\, United States
CATEGORIES:Autocross
ORGANIZER;CN="Brian West":MAILTO:bwfst84@gmail.com
GEO:28.7537795;-81.735054
X-APPLE-STRUCTURED-LOCATION;VALUE=URI;X-ADDRESS=Tavares – Lake County Sheriff’s Training Facility 13000 Frankies Rd‎ Tavares FL 32778 United States;X-APPLE-RADIUS=500;X-TITLE=13000 Frankies Rd‎:geo:-81.735054,28.7537795
END:VEVENT
BEGIN:VEVENT
DTSTART;TZID=UTC:20140504T090000
DTEND;TZID=UTC:20140504T160000
DTSTAMP:20260422T213904
CREATED:20131126T203023Z
LAST-MODIFIED:20140105T162951Z
UID:10000477-1399194000-1399219200@suncoastpca.org
SUMMARY:Autocross - St. Petersburg College
DESCRIPTION:May Autocross #4 at  the St. Petersburg College Allstate Center – Rookie Autocross \nWe are encouraging folks that are new to autocross to come out to this event.  We will focus on instruction for rookies and will have special rookie prizes\, but drivers of all levels of experience are welcome. \nRegistration and tech inspection 9:00am – 10:00am.  Novice course walk at 10:15am followed by driver’s meeting at 10:45am. \nCost is $30 for PCA and BMW CCA members\, $40 for non-members\, to be paid on site.  $10 added for day of event registration. \nSnell 2005 helmet or newer required\, loaners available.   Please register on-line.  All payment will be taken at the site.  Lunch will be provided.  Non-Porsche vehicles are welcome. \nNote that due to this site’s proximity to residential neighborhoods\, we require cars at this event to use muffled exhausts.  We reserve the right to refuse participation for cars that are too loud at this event. \nDirections: \nFrom the north/south take I-275 to west on exit 19\, 22nd Ave S.  Take first left onto 34th St S\, continue ~ 1/2 mile\, take a left on 32nd Ave S\, then take a right on 32nd St S.  The event will be held in the large gated parking lot on the right.  Please stage in the adjacent open lot. \n3200 34th St South \nSt. Petersburg\, FL
URL:https://suncoastpca.org/event/autocross-st-petersburg-college/
LOCATION:St. Petersburg College\, 3200 34th St South\, St. Petersburg\, FL\, United States
CATEGORIES:Autocross
ORGANIZER;CN="Brian West":MAILTO:bwfst84@gmail.com
GEO:27.738075;-82.678108
X-APPLE-STRUCTURED-LOCATION;VALUE=URI;X-ADDRESS=St. Petersburg College 3200 34th St South St. Petersburg FL United States;X-APPLE-RADIUS=500;X-TITLE=3200 34th St South:geo:-82.678108,27.738075
END:VEVENT
BEGIN:VEVENT
DTSTART;TZID=UTC:20140302T090000
DTEND;TZID=UTC:20140302T160000
DTSTAMP:20260422T213904
CREATED:20131126T130719Z
LAST-MODIFIED:20140214T202749Z
UID:10000476-1393750800-1393776000@suncoastpca.org
SUMMARY:Autocross - Bradenton
DESCRIPTION:March Autocross #3 at Desoto/Full Throttle Speedway. \nRegistration and tech inspection 9am – 10am. Novice course walk at 10:15am followed by drivers’ meeting at 10:45am. \nSnell 2005 helmet or newer required\, loaners available.   Please register on-line at clubregistration.net.  Lunch will be provided.  Non-Porsche vehicles are welcome. \nCost is $30 for PCA and BMWCCA members\, $40 for non-members\, to be paid on site.  $10 added for day of event registration. \nDirections: \nTake I-75 to Bradenton \nExit 220/FL-64 eastbound \nFull Throttle Speedway is 9.5 miles east of I-75 on the south side of the road \n21000A State Road 64E \nBradenton\, FL 34212
URL:https://suncoastpca.org/event/autocross-bradenton/
LOCATION:Desoto Speedway\, 21000A SR 64\, Bradenton\, FL\, 34212\, United States
CATEGORIES:Autocross
ORGANIZER;CN="Brian West":MAILTO:bwfst84@gmail.com
GEO:27.469596;-82.326891
X-APPLE-STRUCTURED-LOCATION;VALUE=URI;X-ADDRESS=Desoto Speedway 21000A SR 64 Bradenton FL 34212 United States;X-APPLE-RADIUS=500;X-TITLE=21000A SR 64:geo:-82.326891,27.469596
END:VEVENT
BEGIN:VEVENT
DTSTART;TZID=UTC:20140201T100000
DTEND;TZID=UTC:20140201T170000
DTSTAMP:20260422T213904
CREATED:20131126T130237Z
LAST-MODIFIED:20131229T194952Z
UID:10000475-1391248800-1391274000@suncoastpca.org
SUMMARY:Autocross - Sebring
DESCRIPTION:February Autocross #2 at Sebring International Raceway on the skid pad just before the bridge. \nThis event is hosted by Gold Coast PCA and it is in conjunction with the 48 Hours of Sebring club race. \nSnell 2005 helmet or newer required.  This event is open to PCA members and Porsche cars only. \nFinal Registration/Tech/Course Walk from 10:00AM – 11:30AM \nMandatory Drivers meeting @ 11:40AM with 1st car out @ 12:00PM \nPre-registration required via Clubregistration.net with a limit of 75 paid entries.  No on-site registration. \nCost is $35 prepaid or $45 if paid after Jan. 15 2014.  All entrants will receive a 21st anniversary souvenir or hat\, and we anticipate 4 runs and great trophies. \nBert Smith will again be our sponsor.  Many thanks to the Bert Smith Team for providing a 21st anniversary souvenir\, trophies\, water and other goodies. \nDirections: \nFrom Tampa: \nSR 60 East to US 27 South to Hwy. 98 \nFrom Sarasota: \nI-75 to Hwy. 66 to US 27 North to Hwy. 98
URL:https://suncoastpca.org/event/autocross-sebring/
LOCATION:Sebring International Raceway\, 113 Midway Drive\, Sebring\, FL\, 33870\, United States
CATEGORIES:Autocross
ORGANIZER;CN="Brian West":MAILTO:bwfst84@gmail.com
END:VEVENT
BEGIN:VEVENT
DTSTART;TZID=UTC:20140119T080000
DTEND;TZID=UTC:20140119T170000
DTSTAMP:20260422T213904
CREATED:20131126T130148Z
LAST-MODIFIED:20131229T202807Z
UID:10000474-1390118400-1390150800@suncoastpca.org
SUMMARY:Autocross - Brooksville
DESCRIPTION:Autocross #1 at the Brooksville Tampa Bay Regional Airport. \nPre-registration on clubregistration.net by Thursday January 9th is required for all drivers and non-drivers/spectators. \nPlease arrive at the airport gate between 7:45am and 8:15am.  Tech inspection 8am – 9am.  Novice course walk at 9:15am followed by drivers’ meeting at 9:45am. \nCost is $30 for PCA and BMW CCA members\, $40 for non-members\, to be paid on site. \nSnell 2005 helmet or newer required\, loaners available.  Lunch will be provided.  Non-Porsche vehicles are welcome. \nWelcome to the start of the 2014 Suncoast PCA Autocross Series! \nDirections: \nDo not enter through the public airport entrance! \nFrom the north take the Suncoast Parkway (FL-589) and exit east on Spring Hill Dr.  Travel ~2.5 miles then take a right (south) on US-41.  Drive ~1.5miles – the gated entrance will be on the right\, just before the railroad tracks – Runway Drive. \nFrom the south\, take Suncoast Pkwy to County Line Rd and head east to US41\, then north on US41 until you cross RR tracks\, then take an immediate left on Runway Drive.
URL:https://suncoastpca.org/event/autocross-brooksville/
LOCATION:Brooksville Tampa Bay Regional Airport\, Runway Drive\, Brooksville\, FL\, 34604\, United States
CATEGORIES:Autocross
ORGANIZER;CN="Brian West":MAILTO:bwfst84@gmail.com
GEO:28.4629058;-82.4482452
X-APPLE-STRUCTURED-LOCATION;VALUE=URI;X-ADDRESS=Brooksville Tampa Bay Regional Airport Runway Drive Brooksville FL 34604 United States;X-APPLE-RADIUS=500;X-TITLE=Runway Drive:geo:-82.4482452,28.4629058
END:VEVENT
BEGIN:VEVENT
DTSTART;TZID=America/New_York:20131201T080000
DTEND;TZID=America/New_York:20131201T160000
DTSTAMP:20260422T213904
CREATED:20131102T163524Z
LAST-MODIFIED:20131212T193344Z
UID:10000444-1385884800-1385913600@suncoastpca.org
SUMMARY:Autocross - Hernando County
DESCRIPTION:December Autocross #10 at Brooksville Airport and the final event of the 2012 PCA/BMW challenge \nDecember Autocross #10 at Brooksville Airport and the final event of the Suncoast PCA 2013 Autocross Series.  Please be at the gate no later than 8:15 AM. \nSnell 2005 helmet or newer required\, loaners available.   All drivers and non-participant observers must register on-line.  Lunch will be provided. \nDirections:\nDo not enter through the public airport entrance!\nFrom the north take the Suncoast Parkway (FL-589) and exit east on Spring Hill Dr.  Travel ~2.5 miles then take a right (south) on US-41.  Drive ~1.5miles – the gated entrance will be on the right\, just before the railroad tracks – Runway Dr. \nFrom the south\, take Suncoast Pkwy to County Line Rd and head east to US41\, then north on US41 until you cross RR tracks\, then immediate left on Runway Drive. \nALL DRIVERS MUST REGISTER ON-LINE!  No walk-ups will be allowed due to Brooksville Airport security regulations.  Registration and fee information will be available on-line at Clubregistration.net \nBrian West – Competition Chairman:  bwfst84@gmail.com\, (727) 510-9252\nDanny Shields – Chief Instructor: FastDan5@aol.com\, (813) 681-5378 \nThis is the final event of 2013 Suncoast PCA Autocross Series.  The Florida Suncoast BMW Club will be our guests.  Year end prizes will be awarded. \nResults
URL:https://suncoastpca.org/event/autocross-hernando-county-2013-12-01/
LOCATION:Brooksville Tampa Bay Regional Airport\, Runway Drive\, Brooksville\, FL\, 34604\, United States
CATEGORIES:Autocross
ORGANIZER;CN="Brian West":MAILTO:bwfst84@gmail.com
GEO:28.4629058;-82.4482452
X-APPLE-STRUCTURED-LOCATION;VALUE=URI;X-ADDRESS=Brooksville Tampa Bay Regional Airport Runway Drive Brooksville FL 34604 United States;X-APPLE-RADIUS=500;X-TITLE=Runway Drive:geo:-82.4482452,28.4629058
END:VEVENT
BEGIN:VEVENT
DTSTART;TZID=America/New_York:20131117T080000
DTEND;TZID=America/New_York:20131117T160000
DTSTAMP:20260422T213904
CREATED:20131102T163138Z
LAST-MODIFIED:20131102T215924Z
UID:10000443-1384675200-1384704000@suncoastpca.org
SUMMARY:Autocross - Hernando County
DESCRIPTION:November Autocross #9 at Brooksville Airport\, hosted by the Florida Suncoast BMW Club.  Please be at the gate no later than 8:15 AM. \nSnell 2005 helmet or newer required\, loaners available.   All drivers and non-participant observers must register on-line.  Lunch will be provided. \nDirections:\nDo not enter through the public airport entrance!\nFrom the north take the Suncoast Parkway (FL-589) and exit east on Spring Hill Dr.  Travel ~2.5 miles then take a right (south) on US-41.  Drive ~1.5miles – the gated entrance will be on the right\, just before the railroad tracks – Runway Dr. \nFrom the south\, take Suncoast Pkwy to County Line Rd and head east to US41\, then north on US41 until you cross RR tracks\, then immediate left on Runway Drive. \nALL DRIVERS MUST REGISTER ON-LINE!  No walk-ups will be allowed due to Brooksville Airport security regulations.  Registration and fee information will be available on-line at MotorsportReg.com \nThe Florida Suncoast BMW Club will be hosting Suncoast PCA for this event. \nBrian West – Competition Chairman:  bwfst84@gmail.com\, (727) 510-9252\nDanny Shields – Chief Instructor: FastDan5@aol.com\, (813) 681-5378
URL:https://suncoastpca.org/event/autocross-hernando-county-2013-11-17/
LOCATION:Brooksville Tampa Bay Regional Airport\, Runway Drive\, Brooksville\, FL\, 34604\, United States
CATEGORIES:Autocross
ORGANIZER;CN="Brian West":MAILTO:bwfst84@gmail.com
GEO:28.4629058;-82.4482452
X-APPLE-STRUCTURED-LOCATION;VALUE=URI;X-ADDRESS=Brooksville Tampa Bay Regional Airport Runway Drive Brooksville FL 34604 United States;X-APPLE-RADIUS=500;X-TITLE=Runway Drive:geo:-82.4482452,28.4629058
END:VEVENT
END:VCALENDAR