BEGIN:VCALENDAR
VERSION:2.0
PRODID:-//Suncoast Florida Region - PCA - ECPv6.15.20//NONSGML v1.0//EN
CALSCALE:GREGORIAN
METHOD:PUBLISH
X-WR-CALNAME:Suncoast Florida Region - PCA
X-ORIGINAL-URL:https://suncoastpca.org
X-WR-CALDESC:Events for Suncoast Florida Region - PCA
REFRESH-INTERVAL;VALUE=DURATION:PT1H
X-Robots-Tag:noindex
X-PUBLISHED-TTL:PT1H
BEGIN:VTIMEZONE
TZID:America/New_York
BEGIN:DAYLIGHT
TZOFFSETFROM:-0500
TZOFFSETTO:-0400
TZNAME:EDT
DTSTART:20190310T070000
END:DAYLIGHT
BEGIN:STANDARD
TZOFFSETFROM:-0400
TZOFFSETTO:-0500
TZNAME:EST
DTSTART:20191103T060000
END:STANDARD
BEGIN:DAYLIGHT
TZOFFSETFROM:-0500
TZOFFSETTO:-0400
TZNAME:EDT
DTSTART:20200308T070000
END:DAYLIGHT
BEGIN:STANDARD
TZOFFSETFROM:-0400
TZOFFSETTO:-0500
TZNAME:EST
DTSTART:20201101T060000
END:STANDARD
BEGIN:DAYLIGHT
TZOFFSETFROM:-0500
TZOFFSETTO:-0400
TZNAME:EDT
DTSTART:20210314T070000
END:DAYLIGHT
BEGIN:STANDARD
TZOFFSETFROM:-0400
TZOFFSETTO:-0500
TZNAME:EST
DTSTART:20211107T060000
END:STANDARD
BEGIN:DAYLIGHT
TZOFFSETFROM:-0500
TZOFFSETTO:-0400
TZNAME:EDT
DTSTART:20220313T070000
END:DAYLIGHT
BEGIN:STANDARD
TZOFFSETFROM:-0400
TZOFFSETTO:-0500
TZNAME:EST
DTSTART:20221106T060000
END:STANDARD
END:VTIMEZONE
BEGIN:VEVENT
DTSTART;TZID=America/New_York:20210516T080000
DTEND;TZID=America/New_York:20210516T170000
DTSTAMP:20260424T211855
CREATED:20201218T181035Z
LAST-MODIFIED:20210413T225033Z
UID:10000740-1621152000-1621184400@suncoastpca.org
SUMMARY:Autocross St Petersburg College AllState Center
DESCRIPTION:St Petersburg College AllState Center – Law Enforcement Driving Pad
URL:https://suncoastpca.org/event/st-pete-college/
LOCATION:St. Petersburg College Allstate Center\, 3200 34th St S\, St Petersburg\, 33711
CATEGORIES:Autocross
END:VEVENT
BEGIN:VEVENT
DTSTART;TZID=America/New_York:20210515T083000
DTEND;TZID=America/New_York:20210515T103000
DTSTAMP:20260424T211855
CREATED:20210430T140552Z
LAST-MODIFIED:20210430T140552Z
UID:10000751-1621067400-1621074600@suncoastpca.org
SUMMARY:Porsches and Eggs
DESCRIPTION:Ed Rossiter\, Social Chairman has arranged to have a breakfast\, call it Porsches and Eggs if you like. It will be on Saturday May 15 at 8:30AM in Venice. It will be at Skillett’s at the corner of Jacaranda Blvd. and Tamiami Trail\, The address is: 4115 Tamiami Trail S. in the Venice Village Shoppes. It is behind SunTrust and Liberty City S&L. And\, it has lots of parking just west and south. \nSign up and sign waivers at www.clubregistration.net Registration opens on May 3rd.  We hope to make this a monthly\, 3rd Saturday morning gathering for the South-Sarasota Porsche group. For those living north of Sarasota county\, let Ed Rossiter know of equally good restaurants near you.
URL:https://suncoastpca.org/event/porsches-and-eggs/
LOCATION:Skillets Venice\, 4115 Tamiami Trail S\, Venice\, FL\, 34293\, United States
CATEGORIES:Social
END:VEVENT
BEGIN:VEVENT
DTSTART;TZID=America/New_York:20210424T093000
DTEND;TZID=America/New_York:20210424T170000
DTSTAMP:20260424T211855
CREATED:20210413T224138Z
LAST-MODIFIED:20210413T224309Z
UID:10000750-1619256600-1619283600@suncoastpca.org
SUMMARY:Gimmick Rally
DESCRIPTION:Registration is now open for what promises to be a lot of fun— \nA Gimmick Rally starting at Porsche of Tampa\, 103 E Fowler Ave\, Tampa\, FL 33612\, and running through the highways and byways in that region for the morning. \nCome join us for a fun day in your Porsche. Breakfast snacks available during the rally instructions meeting 09:45 AM.  \nLunch\, if you so choose\, will be at Tampa Joe’s\, our ending location. (See their menu at: http://tampajoes.com/food-menu) \nWe will set a 30 car limit for this rally. This is based on space available at several venues to be visited during the rally. So\, register early! https://clubregistration.net/events/signUp.cfm/event/11485 \nWhen registering\, please note the following: Each person participating must have their own ClubReg account. Then each person individually registers for the rally as either the Driver or as the Navigator. And\, be sure to complete both waivers for each person. Some may have already completed the Communicable Disease Waiver. However all must sign the Event Waiver. These can be handled digitally on your computer or tablet when you register.\n 
URL:https://suncoastpca.org/event/gimmick-rally/
LOCATION:Porsche of Tampa\, 103 E Fowler Ave\, Tampa\, FL\, 33612\, United States
CATEGORIES:Other
END:VEVENT
BEGIN:VEVENT
DTSTART;TZID=America/New_York:20210418T080000
DTEND;TZID=America/New_York:20210418T170000
DTSTAMP:20260424T211855
CREATED:20201218T181007Z
LAST-MODIFIED:20210318T220532Z
UID:10000739-1618732800-1618765200@suncoastpca.org
SUMMARY:TBA - Tentative Autocross Venice Airport
DESCRIPTION:
URL:https://suncoastpca.org/event/autocross-venice-airport/
LOCATION:Venice Airport\, 150 Airport Ave E\, Venice\, FL\, 34285\, United States
CATEGORIES:Autocross
END:VEVENT
BEGIN:VEVENT
DTSTART;TZID=America/New_York:20210313T140000
DTEND;TZID=America/New_York:20210313T140000
DTSTAMP:20260424T211855
CREATED:20210310T000626Z
LAST-MODIFIED:20210310T000626Z
UID:10000748-1615644000-1615644000@suncoastpca.org
SUMMARY:Celebrate the Life of Gavin Riches
DESCRIPTION:Please join our family on March 13th at 2:00 PM ET to Celebrate the Life of Gavin Riches.  \nAll of the event information is also available on the GatheringUs memorial page for Gavin: https://www.gatheringus.com/memorial/gavin-riches/6886 \nWe would like to share a few notes about our event and a few tips for the best experience: \nBefore The Event\nPlease download the latest version of Zoom by visiting Zoom.us/Download on your preferred device. If you are using a smartphone or a tablet\, you must download the app before our event. \nTo familiarize yourself with Zoom and test your audio/video connection before the event\, join a test meeting there. If you’re using a computer\, you can also join on your browser at gatheringus.zoom.com. For assistance\, please call or text the GatheringUs Tech Support Hotline at 240 – 608 – 6037 \nDuring The Event\nAll guests’ microphones will be muted when entering the event. All speakers will be unmuted by GatheringUs. There are two view options\, ‘Speaker’ and ‘Gallery.’ The Speaker is the main view and your screen will default to this view each time there is a new presenter. You can switch to the Gallery view by pressing on “Gallery” on the top right-hand corner of your screen. \nThe service will be recorded and available to view on the GatheringUs Memorial page. \nThank you. Your support and stories are very meaningful to us. \nIf you would like to share a memory or speak at the service via zoom or live\, please let me know and I will coordinate with you so that it is easy. If you prefer to send in a short video instead of speaking live. Just record it on your phone and send it to me by email or text. \nAmy Riches\nGeneral Manager AutoQuest Motorsports\nChief Track Instructor\, Suncoast Region PCA\nAmy@autoquestcars.com\n239-432-1700 office\n941-518-0004 cell
URL:https://suncoastpca.org/event/celebrate-the-life-of-gavin-riches/
LOCATION:FL\, United States
CATEGORIES:Other
GEO:27.6648274;-81.5157535
END:VEVENT
BEGIN:VEVENT
DTSTART;TZID=America/New_York:20210305T080000
DTEND;TZID=America/New_York:20210307T170000
DTSTAMP:20260424T211855
CREATED:20201213T203532Z
LAST-MODIFIED:20210214T214344Z
UID:10000731-1614931200-1615136400@suncoastpca.org
SUMMARY:Driver's Education
DESCRIPTION:Register here: https://clubregistration.net/events/signUp.cfm/event/11077
URL:https://suncoastpca.org/event/drivers-education-31/
LOCATION:Sebring International Raceway\, 113 Midway Drive\, Sebring\, FL\, 33870\, United States
CATEGORIES:Driver's Education
END:VEVENT
BEGIN:VEVENT
DTSTART;VALUE=DATE:20210227
DTEND;VALUE=DATE:20210228
DTSTAMP:20260424T211855
CREATED:20210204T123954Z
LAST-MODIFIED:20210214T214113Z
UID:10000746-1614384000-1614470399@suncoastpca.org
SUMMARY:Driving Tour – FOG Concours Howie-in-The-Hills Tour
DESCRIPTION:ClubReg registration required\, https://clubregistration.net/events/signUp.cfm/event/11277\, individual participant registration opens Sunday\, February 7\, 2021 @ Noon.  \nEvent master\, Mark Krekorian: krekorian@aol.com \nMeet at The City Park at 7:45am
URL:https://suncoastpca.org/event/driving-tour-fog-concours-howie-in-the-hills-tour/
LOCATION:The City Park\, 32856 Massachusetts Ave\, San Antonio\, FL\, 33576\, United States
CATEGORIES:Social
END:VEVENT
BEGIN:VEVENT
DTSTART;TZID=America/New_York:20210220T083000
DTEND;TZID=America/New_York:20210220T110000
DTSTAMP:20260424T211855
CREATED:20210214T221406Z
LAST-MODIFIED:20210214T221406Z
UID:10000747-1613809800-1613818800@suncoastpca.org
SUMMARY:Breakfast at the Grove
DESCRIPTION:Come join your fellow Suncoast Porsche members and guests for breakfast at the Grove Restaurant\, 10670 Boardwalk Loop\, in Lakewood Ranch. We will be gathering at 8:30am Saturday\, February 20th. The restaurant will provide seating for us together at tables on their outdoor patio\, socially distanced. Due to outdoor space issues we will be limited to 24 participants. \nIf you have not registered an e-signature\, and signed the Communicable Disease Waiver\, please do so now. Also\, we have been directed to have each registrant have their own account on Club Registration\, and sign up for the appropriate events individually. If you have difficulties\, please contact me or Club Registration directly at 512-431-3143. \nhttps://clubregistration.net/events/signUp.cfm/event/11247
URL:https://suncoastpca.org/event/breakfast-at-the-grove/
LOCATION:Grove Restaurant\, 10670 Boardwalk Loop\, Lakewood Ranch\, FL\, 34202\, United States
CATEGORIES:Social
END:VEVENT
BEGIN:VEVENT
DTSTART;TZID=America/New_York:20210206T080000
DTEND;TZID=America/New_York:20210206T170000
DTSTAMP:20260424T211855
CREATED:20201218T180911Z
LAST-MODIFIED:20201218T180911Z
UID:10000738-1612598400-1612630800@suncoastpca.org
SUMMARY:Autocross Sebring
DESCRIPTION:With Gold Coast
URL:https://suncoastpca.org/event/autocross-sebring-8/
LOCATION:Sebring International Raceway\, 113 Midway Drive\, Sebring\, FL\, 33870\, United States
CATEGORIES:Autocross
END:VEVENT
BEGIN:VEVENT
DTSTART;TZID=America/New_York:20210130T100000
DTEND;TZID=America/New_York:20210130T170000
DTSTAMP:20260424T211855
CREATED:20210104T192044Z
LAST-MODIFIED:20210104T192044Z
UID:10000744-1612000800-1612026000@suncoastpca.org
SUMMARY:Time Speed Distance (TSD) Rally
DESCRIPTION:The Time Speed Distance (TSD) Rally is Saturday\, Jan 30th. We will meet at 10 AM for a Rally Driver/Navigator school in the EG Simmons Regional Park: 2401 19th Ave NW\, Ruskin FL 33570. The Rally starts with 1st car out at 10:45. Register at ClubReg with the link below.\nhttps://clubregistration.net/events/signUp.cfm/event/11164
URL:https://suncoastpca.org/event/time-speed-distance-tsd-rally/
LOCATION:EG Simmons Regional Park\, 2401 19th Ave NW\, Ruskin\, FL\, 33570\, United States
CATEGORIES:Other
END:VEVENT
BEGIN:VEVENT
DTSTART;TZID=America/New_York:20210124T080000
DTEND;TZID=America/New_York:20210124T170000
DTSTAMP:20260424T211855
CREATED:20201218T180836Z
LAST-MODIFIED:20201218T180836Z
UID:10000737-1611475200-1611507600@suncoastpca.org
SUMMARY:Autocross Brooksville
DESCRIPTION:
URL:https://suncoastpca.org/event/autocross-brooksville-21/
LOCATION:Brooksville Tampa Bay Regional Airport\, Runway Drive\, Brooksville\, FL\, 34604\, United States
CATEGORIES:Autocross
GEO:28.4629058;-82.4482452
X-APPLE-STRUCTURED-LOCATION;VALUE=URI;X-ADDRESS=Brooksville Tampa Bay Regional Airport Runway Drive Brooksville FL 34604 United States;X-APPLE-RADIUS=500;X-TITLE=Runway Drive:geo:-82.4482452,28.4629058
END:VEVENT
BEGIN:VEVENT
DTSTART;TZID=America/New_York:20210123T120000
DTEND;TZID=America/New_York:20210123T120000
DTSTAMP:20260424T211855
CREATED:20210114T231312Z
LAST-MODIFIED:20210114T231312Z
UID:10000745-1611403200-1611403200@suncoastpca.org
SUMMARY:Lunch - Cambria Hotel
DESCRIPTION:Come and join your fellow Suncoast Porsche members and guests for lunch at the new Cambria Hotel\, in Madeira Beach. We will be gathering at noon Saturday\, January 23rd. The hotel will provide seating for us together at tables on their outdoor terrace\, socially distanced. \nIf you have not registered an e-signature\, and signed the Communicable Disease Waiver\, please do so now. Also\, we have been directed to have each registrant have their own account on Club Registration\, and sign up for the appropriate events individually. If you have difficulties\, please contact me or Club Registration directly at 512-431-3143.  \nhttps://clubregistration.net/events/signUp.cfm/event/11183
URL:https://suncoastpca.org/event/lunch-cambria-hotel/
LOCATION:Cambria Hotel\, 15015 Madeira Way\, Madeira Beach\, FL\, 33708\, United States
CATEGORIES:Social
END:VEVENT
BEGIN:VEVENT
DTSTART;TZID=America/New_York:20210109T080000
DTEND;TZID=America/New_York:20210110T170000
DTSTAMP:20260424T211855
CREATED:20201213T203429Z
LAST-MODIFIED:20201213T203429Z
UID:10000730-1610179200-1610298000@suncoastpca.org
SUMMARY:Driver's Education
DESCRIPTION:
URL:https://suncoastpca.org/event/drivers-education-29/
LOCATION:Sebring International Raceway\, 113 Midway Drive\, Sebring\, FL\, 33870\, United States
CATEGORIES:Driver's Education
END:VEVENT
BEGIN:VEVENT
DTSTART;TZID=America/New_York:20201206T080000
DTEND;TZID=America/New_York:20201206T170000
DTSTAMP:20260424T211855
CREATED:20191215T173828Z
LAST-MODIFIED:20200812T134510Z
UID:10000719-1607241600-1607274000@suncoastpca.org
SUMMARY:Autocross Brooksville
DESCRIPTION:
URL:https://suncoastpca.org/event/autocross-tba-3/
LOCATION:Brooksville Tampa Bay Regional Airport\, Runway Drive\, Brooksville\, FL\, 34604\, United States
CATEGORIES:Autocross
GEO:28.4629058;-82.4482452
X-APPLE-STRUCTURED-LOCATION;VALUE=URI;X-ADDRESS=Brooksville Tampa Bay Regional Airport Runway Drive Brooksville FL 34604 United States;X-APPLE-RADIUS=500;X-TITLE=Runway Drive:geo:-82.4482452,28.4629058
END:VEVENT
BEGIN:VEVENT
DTSTART;TZID=America/New_York:20201120T080000
DTEND;TZID=America/New_York:20201122T170000
DTSTAMP:20260424T211855
CREATED:20191103T155611Z
LAST-MODIFIED:20191103T155611Z
UID:10000710-1605859200-1606064400@suncoastpca.org
SUMMARY:Driver's Education - Instructor Weekend
DESCRIPTION:Need help with creating an account on ClubReg? Click here. 
URL:https://suncoastpca.org/event/drivers-education-instructor-weekend/
LOCATION:Sebring International Raceway\, 113 Midway Drive\, Sebring\, FL\, 33870\, United States
CATEGORIES:Driver's Education
END:VEVENT
BEGIN:VEVENT
DTSTART;TZID=America/New_York:20201115T080000
DTEND;TZID=America/New_York:20201115T170000
DTSTAMP:20260424T211855
CREATED:20191215T173806Z
LAST-MODIFIED:20201006T183451Z
UID:10000718-1605427200-1605459600@suncoastpca.org
SUMMARY:Autocross Brooksville (Tentative)
DESCRIPTION:
URL:https://suncoastpca.org/event/autocross-venice-5/
LOCATION:Brooksville Tampa Bay Regional Airport\, Runway Drive\, Brooksville\, FL\, 34604\, United States
CATEGORIES:Autocross
GEO:28.4629058;-82.4482452
X-APPLE-STRUCTURED-LOCATION;VALUE=URI;X-ADDRESS=Brooksville Tampa Bay Regional Airport Runway Drive Brooksville FL 34604 United States;X-APPLE-RADIUS=500;X-TITLE=Runway Drive:geo:-82.4482452,28.4629058
END:VEVENT
BEGIN:VEVENT
DTSTART;TZID=America/New_York:20201004T080000
DTEND;TZID=America/New_York:20201004T170000
DTSTAMP:20260424T211855
CREATED:20191215T173724Z
LAST-MODIFIED:20200812T134317Z
UID:10000717-1601798400-1601830800@suncoastpca.org
SUMMARY:Autocross Brooksville
DESCRIPTION:
URL:https://suncoastpca.org/event/autocross-tba-2/
LOCATION:Brooksville Tampa Bay Regional Airport\, Runway Drive\, Brooksville\, FL\, 34604\, United States
CATEGORIES:Autocross
GEO:28.4629058;-82.4482452
X-APPLE-STRUCTURED-LOCATION;VALUE=URI;X-ADDRESS=Brooksville Tampa Bay Regional Airport Runway Drive Brooksville FL 34604 United States;X-APPLE-RADIUS=500;X-TITLE=Runway Drive:geo:-82.4482452,28.4629058
END:VEVENT
BEGIN:VEVENT
DTSTART;VALUE=DATE:20200912
DTEND;VALUE=DATE:20200914
DTSTAMP:20260424T211855
CREATED:20191103T155406Z
LAST-MODIFIED:20200505T105534Z
UID:10000709-1599868800-1600041599@suncoastpca.org
SUMMARY:Driver's Education
DESCRIPTION:Need help with creating an account on ClubReg? Click here. 
URL:https://suncoastpca.org/event/drivers-education-30/
LOCATION:Sebring International Raceway\, 113 Midway Drive\, Sebring\, FL\, 33870\, United States
CATEGORIES:Driver's Education
END:VEVENT
BEGIN:VEVENT
DTSTART;TZID=America/New_York:20200802T140000
DTEND;TZID=America/New_York:20200802T180000
DTSTAMP:20260424T211855
CREATED:20200716T154246Z
LAST-MODIFIED:20200716T154246Z
UID:10000729-1596376800-1596391200@suncoastpca.org
SUMMARY:Porsche Club Gathering
DESCRIPTION:Come and join your fellow Porsche club members\, their guests and family for a very social but safe picnic at the Fort De Soto County Park on Sunday\, August 2nd\, from 2:00 to 6:00 pm. Fort De Soto is located at the southern tip of Pinellas County\, 3500 Pinellas Bayway South\, Tierra Verde\, FL\, 33715.\n \n\n\nWe have secured two adjacent shelters\, which can accept 100 people\, but we are limiting our outing to a maximum of 50\, including children. The shelters are open air\, with picnic tables for seating in the shade. We will have enough space to safely social distance between parties. Restrooms and changing facilities are available.\n \nBring your own picnic meal\, cooler and drinks\, and enjoy social distancing with your closest friends. Fort De Soto has numerous activities\, including trails for walking or biking\, swimming beach\, a pier and the historic fort itself. The shelters will be ours for the day (we rented Shelters 8 & 9 in North Beach area) so feel free to stay as late as you want and enjoy the sunset! The park closes 1/2 hour after dusk. \n \nWe know everyone is eager to see their Suncoast PCA friends. And with the large parking lot by the shelters\, it’s a great opportunity to show off the latest addition to your garage or any modifications you’ve made to your Porsche while stuck at home. \n \nBecause of the limit of 50 attendees we do need everyone to preregister in ClubRegistration.net\, the direct link is https://clubregistration.net/events/signUp.cfm/event/10834. Registration will open on July 20th. We look forward to seeing you there! 
URL:https://suncoastpca.org/event/porsche-club-gathering/
LOCATION:Fort De Soto County Park\, 3500 Pinellas Bayway South\, Tierra Verde\, FL\, 33715\, United States
CATEGORIES:Social
END:VEVENT
BEGIN:VEVENT
DTSTART;TZID=America/New_York:20200614T080000
DTEND;TZID=America/New_York:20200614T170000
DTSTAMP:20260424T211855
CREATED:20200513T201022Z
LAST-MODIFIED:20200513T201022Z
UID:10000728-1592121600-1592154000@suncoastpca.org
SUMMARY:Autocross Brooksville
DESCRIPTION:
URL:https://suncoastpca.org/event/autocross-brooksville-19/
LOCATION:Brooksville Tampa Bay Regional Airport\, Runway Drive\, Brooksville\, FL\, 34604\, United States
CATEGORIES:Autocross
GEO:28.4629058;-82.4482452
X-APPLE-STRUCTURED-LOCATION;VALUE=URI;X-ADDRESS=Brooksville Tampa Bay Regional Airport Runway Drive Brooksville FL 34604 United States;X-APPLE-RADIUS=500;X-TITLE=Runway Drive:geo:-82.4482452,28.4629058
END:VEVENT
BEGIN:VEVENT
DTSTART;VALUE=DATE:20200606
DTEND;VALUE=DATE:20200607
DTSTAMP:20260424T211855
CREATED:20200301T191503Z
LAST-MODIFIED:20200301T191503Z
UID:10000726-1591401600-1591487999@suncoastpca.org
SUMMARY:A Down South BBQ Tour to Palm Harbor
DESCRIPTION:Iron Oak New American BBQ\, 917 11th St\, Palm Harbor\, FL 34683 \nDetails to follow \n 
URL:https://suncoastpca.org/event/a-down-south-bbq-tour-to-palm-harbor/
LOCATION:FL
CATEGORIES:Other
END:VEVENT
BEGIN:VEVENT
DTSTART;VALUE=DATE:20200523
DTEND;VALUE=DATE:20200525
DTSTAMP:20260424T211855
CREATED:20200505T105509Z
LAST-MODIFIED:20200505T105726Z
UID:10000727-1590192000-1590364799@suncoastpca.org
SUMMARY:Driver's Education
DESCRIPTION:Sebring International Raceway management has notified us that we can return to the track on May 23 & 24! This is great news! We will hold the event with three run groups – White\, Black and Pink (no students). Registration fees remain the same\, so lots of track time for a reasonable price. \nWe owe a big thank you to Sebring management. This will be their first weekend open and they are willing to work with us on the new entry processes. If you have already registered for the May 16 & 17 event\, registrations have been transferred. If you can’t make the new date\, just cancel in ClubReg and if you’ve already paid\, you will receive a full refund. \nPlease encourage your friends to join us! It’s time to get back to the track! This will be a closed event\, no spectators. \nDenise
URL:https://suncoastpca.org/event/drivers-education-28/
LOCATION:Sebring International Raceway\, 113 Midway Drive\, Sebring\, FL\, 33870\, United States
CATEGORIES:Driver's Education
END:VEVENT
BEGIN:VEVENT
DTSTART;TZID=America/New_York:20200314T110000
DTEND;TZID=America/New_York:20200314T110000
DTSTAMP:20260424T211855
CREATED:20200301T191254Z
LAST-MODIFIED:20200301T191254Z
UID:10000725-1584183600-1584183600@suncoastpca.org
SUMMARY:Tour to Linger Lodge
DESCRIPTION:Join your Tourmeisters and other PCAers on a driving tour to Linger Lodge on the Lazy Braden River.  Confirmed registrants and their guests should plan to gather between 11:15 am to 11:30 am on March 14 in Wimauma for a low pressure driving event of just over seventy miles on mostly little known paved public roads in southern Hillsborough and northern Manatee Counties.  We will make lunch reservations for all registered tour participants at the Linger Lodge.  While we will be touring in loose groups\, all registrants will receive written route instructions\, including the Linger Lodge address and the Tourmeister’s cell numbers. \nIn all Suncoast PCA tour events\, the laws of the road apply\, and participants must safely share the roads with non-tour vehicles and traffic.  For this event only\, our Gathering Place and start will be in back of the Church of God Convention Center\, 5504 FL (Route) 674\, Wimauma\, FL 33598\, on Nichols Ave\, just past the intersection of 10th Ave and Nichols Ave. \nThere is registration fee of $10/car with no refunds for this tour (and all 2020 tours)\, as the proceeds go directly into Suncoast Region’s charity fund.  A short explanation is due here; your Tourmeister is also the board member for Suncoast’s charitable endeavors.  A paid ClubReg registration and confirmation is not transferable to a non-registrant’s car.  We will establish a wait list for this tour\, if necessary.  \nAll Porsche vehicles are welcome\, including Boxster\, Cayman\, Cayenne\, and Macan\, all versions of the 356\, 911\, 914\, 928\, 944\, 968\, and any stray Taycans.  Yes\, if you have a 2005 Carrera GT and register that car\, we will squeeze you in the group.  Every tourmeister has biases. 
URL:https://suncoastpca.org/event/tour-to-linger-lodge/
LOCATION:FL
CATEGORIES:Other
END:VEVENT
BEGIN:VEVENT
DTSTART;TZID=America/New_York:20200306T080000
DTEND;TZID=America/New_York:20200308T170000
DTSTAMP:20260424T211855
CREATED:20191103T155224Z
LAST-MODIFIED:20191103T155224Z
UID:10000708-1583481600-1583686800@suncoastpca.org
SUMMARY:Driver's Education
DESCRIPTION:Friday\, March 6th is Solo & Instructor only. \nNeed help with creating an account on ClubReg? Click here. 
URL:https://suncoastpca.org/event/drivers-education-27/
LOCATION:Sebring International Raceway\, 113 Midway Drive\, Sebring\, FL\, 33870\, United States
CATEGORIES:Driver's Education
END:VEVENT
BEGIN:VEVENT
DTSTART;TZID=America/New_York:20200229T083000
DTEND;TZID=America/New_York:20200229T120000
DTSTAMP:20260424T211855
CREATED:20200217T211932Z
LAST-MODIFIED:20200217T211932Z
UID:10000724-1582965000-1582977600@suncoastpca.org
SUMMARY:Take Your Porsche to Breakfast
DESCRIPTION:Only once every 4 years can you celebrate February 29\, with a chance to get together at the Burgundy Square Café in Venice\, on February 29th at 8:30 am. \nThe restaurant is located at 227 Miami Avenue West in Venice\, FL 34285. Enjoy their expansive menu with your friends and fellow Porsche owners. Parking is ample across Miami Ave.as well as behind the Café off Ponce de Leon Ave. If necessary\, you can use the last row of the Sun Trust lot on the south side of Ponce de Leon. \nThe restaurant will put our group together if possible. Last year there were 40 of us and our group was all together. See: January/February 2019 Profile\, page 19. \nSign up on www.ClubRegistration.net . If you need help setting up an account there\, check out Denise Remus’s article on page 24 of the January 2018 Profile. \nSee you there.
URL:https://suncoastpca.org/event/take-your-porsche-to-breakfast/
LOCATION:Burgundy Square Café\, 227 West Miami Ave\, Venice\, FL\, 34285\, United States
CATEGORIES:Social
END:VEVENT
BEGIN:VEVENT
DTSTART;TZID=America/New_York:20200222T090000
DTEND;TZID=America/New_York:20200222T163000
DTSTAMP:20260424T211855
CREATED:20191222T194433Z
LAST-MODIFIED:20191222T194433Z
UID:10000720-1582362000-1582389000@suncoastpca.org
SUMMARY:Tire Rack Street Survival
DESCRIPTION:
URL:https://suncoastpca.org/event/tire-rack-street-survival-3/
LOCATION:Sebring International Raceway\, 113 Midway Drive\, Sebring\, FL\, 33870\, United States
CATEGORIES:Other
ORGANIZER;CN="John Sabatini":MAILTO:john.a.sabatini@gmail.com
END:VEVENT
BEGIN:VEVENT
DTSTART;TZID=America/New_York:20200222T080000
DTEND;TZID=America/New_York:20200223T170000
DTSTAMP:20260424T211855
CREATED:20191103T155115Z
LAST-MODIFIED:20191103T155115Z
UID:10000707-1582358400-1582477200@suncoastpca.org
SUMMARY:Driver's Education
DESCRIPTION:Need help with creating an account on ClubReg? Click here. 
URL:https://suncoastpca.org/event/drivers-education-26/
LOCATION:Sebring International Raceway\, 113 Midway Drive\, Sebring\, FL\, 33870\, United States
CATEGORIES:Driver's Education
END:VEVENT
BEGIN:VEVENT
DTSTART;TZID=America/New_York:20200219T180000
DTEND;TZID=America/New_York:20200219T180000
DTSTAMP:20260424T211855
CREATED:20200109T114125Z
LAST-MODIFIED:20200109T114125Z
UID:10000722-1582135200-1582135200@suncoastpca.org
SUMMARY:Date Your Porsche Night
DESCRIPTION:Join your fellow PCA members for a night of great Italian food and wine on Wednesday\, February 19th at Carrabba’s Italian Grill\, 1951 4th Street North\, St. Petersburg. The restaurant is located next to the Sunken Gardens; the parking lot is Porsche friendly.  Dinner will begin at 6 pm\, food and drink on your own. \nRegistration is required to provide the restaurant with an accurate head count. Register at Clubregistration.net https://clubregistration.net/events/signUp.cfm/event/10470
URL:https://suncoastpca.org/event/date-your-porsche-night-45/
LOCATION:Carrabba’s Italian Grill\, 1951 4th Street North\, St. Petersburg\, FL\, 33704\, United States
CATEGORIES:Social
END:VEVENT
BEGIN:VEVENT
DTSTART;VALUE=DATE:20200215
DTEND;VALUE=DATE:20200216
DTSTAMP:20260424T211855
CREATED:20200110T173518Z
LAST-MODIFIED:20200110T173518Z
UID:10000723-1581724800-1581811199@suncoastpca.org
SUMMARY:Time Speed Distance Rally
DESCRIPTION:Jim is doing a fantastic job of getting our Rally program up and running again! Beginners are encouraged to come and join the fun! \nWe are having a Time Speed Distance Rally Feb 15. The rally will be preceded by a Rally School. This rally will be on some back roads in Sarasota county. There aren’t many of these so a few parts of the route will be on more moderately travelled roads; but not to worry: you will enjoy the day! The finish will be at an out-of-the-way waterfront restaurant. \nRegistration opens on Jan 13
URL:https://suncoastpca.org/event/time-speed-distance-rally-3/
LOCATION:FL
CATEGORIES:Other
END:VEVENT
BEGIN:VEVENT
DTSTART;TZID=America/New_York:20200201T080000
DTEND;TZID=America/New_York:20200201T170000
DTSTAMP:20260424T211855
CREATED:20191215T173358Z
LAST-MODIFIED:20191218T173924Z
UID:10000716-1580544000-1580576400@suncoastpca.org
SUMMARY:Autocross Sebring
DESCRIPTION: 
URL:https://suncoastpca.org/event/autocross-sebring-7/
LOCATION:Sebring International Raceway\, 113 Midway Drive\, Sebring\, FL\, 33870\, United States
CATEGORIES:Autocross
END:VEVENT
END:VCALENDAR