BEGIN:VCALENDAR
VERSION:2.0
PRODID:-//Suncoast Florida Region - PCA - ECPv6.15.20//NONSGML v1.0//EN
CALSCALE:GREGORIAN
METHOD:PUBLISH
X-WR-CALNAME:Suncoast Florida Region - PCA
X-ORIGINAL-URL:https://suncoastpca.org
X-WR-CALDESC:Events for Suncoast Florida Region - PCA
REFRESH-INTERVAL;VALUE=DURATION:PT1H
X-Robots-Tag:noindex
X-PUBLISHED-TTL:PT1H
BEGIN:VTIMEZONE
TZID:America/New_York
BEGIN:DAYLIGHT
TZOFFSETFROM:-0500
TZOFFSETTO:-0400
TZNAME:EDT
DTSTART:20200308T070000
END:DAYLIGHT
BEGIN:STANDARD
TZOFFSETFROM:-0400
TZOFFSETTO:-0500
TZNAME:EST
DTSTART:20201101T060000
END:STANDARD
BEGIN:DAYLIGHT
TZOFFSETFROM:-0500
TZOFFSETTO:-0400
TZNAME:EDT
DTSTART:20210314T070000
END:DAYLIGHT
BEGIN:STANDARD
TZOFFSETFROM:-0400
TZOFFSETTO:-0500
TZNAME:EST
DTSTART:20211107T060000
END:STANDARD
BEGIN:DAYLIGHT
TZOFFSETFROM:-0500
TZOFFSETTO:-0400
TZNAME:EDT
DTSTART:20220313T070000
END:DAYLIGHT
BEGIN:STANDARD
TZOFFSETFROM:-0400
TZOFFSETTO:-0500
TZNAME:EST
DTSTART:20221106T060000
END:STANDARD
BEGIN:DAYLIGHT
TZOFFSETFROM:-0500
TZOFFSETTO:-0400
TZNAME:EDT
DTSTART:20230312T070000
END:DAYLIGHT
BEGIN:STANDARD
TZOFFSETFROM:-0400
TZOFFSETTO:-0500
TZNAME:EST
DTSTART:20231105T060000
END:STANDARD
END:VTIMEZONE
BEGIN:VEVENT
DTSTART;TZID=America/New_York:20220409T093000
DTEND;TZID=America/New_York:20220409T170000
DTSTAMP:20260424T165048
CREATED:20220126T134606Z
LAST-MODIFIED:20220126T134606Z
UID:10000774-1649496600-1649523600@suncoastpca.org
SUMMARY:Double Deuce Tour & Picnic
DESCRIPTION:On Saturday April 9 we will gather at the Target Parking Lot at 1040 North Dale Mabry Hwy in Lutz\, 33548. Arrive at 9:30 and depart at 10:00.  From there we will travel mostly back roads to our destination just north of Brooksville—an Antebellum Frontier Plantation. The Chinsegut Hills historical site has witnessed thousands of years of Florida history. Our road tour will end here and we will be able to explore the diverse stories of Florida`s past at this unique location.
URL:https://suncoastpca.org/event/double-deuce-tour-picnic/
LOCATION:FL\, United States
CATEGORIES:Other
GEO:27.6648274;-81.5157535
END:VEVENT
BEGIN:VEVENT
DTSTART;TZID=America/New_York:20220327T080000
DTEND;TZID=America/New_York:20220327T170000
DTSTAMP:20260424T165048
CREATED:20220221T222910Z
LAST-MODIFIED:20220221T222910Z
UID:10000778-1648368000-1648400400@suncoastpca.org
SUMMARY:Autocross St Petersburg College AllState Center
DESCRIPTION:
URL:https://suncoastpca.org/event/autocross-st-petersburg-college-allstate-center-2/
LOCATION:St. Petersburg College Allstate Center\, 3200 34th St S\, St Petersburg\, 33711
CATEGORIES:Autocross
END:VEVENT
BEGIN:VEVENT
DTSTART;VALUE=DATE:20220304
DTEND;VALUE=DATE:20220307
DTSTAMP:20260424T165048
CREATED:20211213T163849Z
LAST-MODIFIED:20211213T163849Z
UID:10000762-1646352000-1646611199@suncoastpca.org
SUMMARY:Driver's Education
DESCRIPTION:Solo and Instructor only Fri\, regular DE on Sat and Sun
URL:https://suncoastpca.org/event/drivers-education-38/
LOCATION:Sebring International Raceway\, 113 Midway Drive\, Sebring\, FL\, 33870\, United States
CATEGORIES:Driver's Education
END:VEVENT
BEGIN:VEVENT
DTSTART;TZID=America/New_York:20220226T083000
DTEND;TZID=America/New_York:20220226T110000
DTSTAMP:20260424T165048
CREATED:20220213T191243Z
LAST-MODIFIED:20220213T191522Z
UID:10000777-1645864200-1645873200@suncoastpca.org
SUMMARY:Monthly Breakfast
DESCRIPTION:Come join your fellow Suncoast Porsche members and guests for breakfast at Skillet’s at 9722 FL-64\, Bradenton. We will be gathering at 8:30am Saturday\, February 26th. The restaurant will provide seating for us at tables inside because of potential cold weather.\nThis a monthly affair we hope to continue on the fourth Saturday of each month. So plan to come and enjoy each others’ company and make it a habit.
URL:https://suncoastpca.org/event/monthly-breakfast-2/
LOCATION:Skillets Bradenton\, 9722 FL-64\, Bradenton\, FL\, 34212\, United States
CATEGORIES:Social
END:VEVENT
BEGIN:VEVENT
DTSTART;TZID=America/New_York:20220222T180000
DTEND;TZID=America/New_York:20220222T210000
DTSTAMP:20260424T165048
CREATED:20220213T190923Z
LAST-MODIFIED:20220213T191414Z
UID:10000776-1645552800-1645563600@suncoastpca.org
SUMMARY:Date Your Porsche Night
DESCRIPTION:Come and join your fellow Porsche club members and guests for a very enjoyable evening with dinner at McGrath’s Irish Ale House\, 8110 Lakewood Main Street\, in Lakewood Ranch\, on Tuesday\, February 22nd\, beginning at 6:00 pm. The restaurant has a menu to satisfy all tastes. We are limited to 35 attendees\, so sign up early.\nOur hosts will again be Harvey and Ann Goldberg. We hope to see you there!
URL:https://suncoastpca.org/event/date-your-porsche-night-51/
LOCATION:McGrath’s\, 8110 Lakewood Main St\, Lakewood Ranch\, FL\, 34202\, United States
CATEGORIES:Social
END:VEVENT
BEGIN:VEVENT
DTSTART;TZID=America/New_York:20220219T090000
DTEND;TZID=America/New_York:20220219T163000
DTSTAMP:20260424T165048
CREATED:20211213T160612Z
LAST-MODIFIED:20211213T160612Z
UID:10000758-1645261200-1645288200@suncoastpca.org
SUMMARY:Tire Rack Street Survival
DESCRIPTION:
URL:https://suncoastpca.org/event/tire-rack-street-survival-4/
LOCATION:Sebring International Raceway\, 113 Midway Drive\, Sebring\, FL\, 33870\, United States
CATEGORIES:Other
END:VEVENT
BEGIN:VEVENT
DTSTART;TZID=America/New_York:20220219T083000
DTEND;TZID=America/New_York:20220219T110000
DTSTAMP:20260424T165048
CREATED:20220213T190727Z
LAST-MODIFIED:20220213T191449Z
UID:10000775-1645259400-1645268400@suncoastpca.org
SUMMARY:Monthly Breakfast
DESCRIPTION:Come join your fellow Suncoast Porsche members and guests for the monthly breakfast at Skillet’s at 4115 South Tamiami Trail South\, in Venice. We will be gathering at 8:30am Saturday\, February 19th. The restaurant will provide seating for us both at tables inside and outside.\nThis a monthly affair on the third Saturday of each month. So plan to come and enjoy each others’ company and make it a habit.
URL:https://suncoastpca.org/event/monthly-breakfast/
LOCATION:Skillets Venice\, 4115 Tamiami Trail S\, Venice\, FL\, 34293\, United States
CATEGORIES:Social
END:VEVENT
BEGIN:VEVENT
DTSTART;VALUE=DATE:20220219
DTEND;VALUE=DATE:20220221
DTSTAMP:20260424T165048
CREATED:20211213T163757Z
LAST-MODIFIED:20211213T163757Z
UID:10000761-1645228800-1645401599@suncoastpca.org
SUMMARY:Driver's Education
DESCRIPTION:
URL:https://suncoastpca.org/event/drivers-education-37/
LOCATION:Sebring International Raceway\, 113 Midway Drive\, Sebring\, FL\, 33870\, United States
CATEGORIES:Driver's Education
END:VEVENT
BEGIN:VEVENT
DTSTART;VALUE=DATE:20220219
DTEND;VALUE=DATE:20220220
DTSTAMP:20260424T165048
CREATED:20220126T134443Z
LAST-MODIFIED:20220201T005501Z
UID:10000773-1645228800-1645315199@suncoastpca.org
SUMMARY:Tour to Gathering of the Faithful
DESCRIPTION:Alert – Tour Registration!\nClubRegistration Opens for The Run for the Hills Tour Signup \n 12:00 Noon\, Tuesday\,February 1\, 2022 \nJoin other Suncoasters in the Region’s first tour of 2022\, a back road driving event to connect with both the Yalaha (German) Bakery\, and the 356 Florida Owners Group (FOG) at its Gathering and Concours at a new location within the Mission Inn. This PCA-only driving event\, for all Porsche models\, is 58.5 miles +/- in length\, with a driving time less than 1.5 hours on paved roads principally in Pasco\, Citrus\, and Lake Counties. \nPlease register for this tour on ClubRegistration.net (“ClubReg”).  Here is the direct link: https://clubregistration.net/events/signUp.cfm/event/12198 \nDue to time constraints at the Gathering Point\, no vehicles will be registered the day of the tour at the Gathering Point. Do it now on ClubReg while you have the freedom of time and opportunity to schedule THE RUN FOR THE HILLS outing. \nThere is a $20 non-refundable registration fee for each vehicle\, which includes its occupants\, on ClubReg. You\, your vehicle\, and your navigator-occupants will be confirmed by email\, and the written instructions for THE RUN TO THE HILLS TOUR will be included as an attachment to the entry confirmation. \nQuestions regarding the Tour Gathering Point\, the tour route\, the Yalaha German Bakery\, and the FOG Concours: please email Bill Caldwell\, WAC911@gmail.com.
URL:https://suncoastpca.org/event/tour-to-gathering-of-the-faithful/
LOCATION:FL\, United States
CATEGORIES:Other
GEO:27.6648274;-81.5157535
END:VEVENT
BEGIN:VEVENT
DTSTART;TZID=America/New_York:20220205T080000
DTEND;TZID=America/New_York:20220205T170000
DTSTAMP:20260424T165048
CREATED:20211213T184454Z
LAST-MODIFIED:20211213T184454Z
UID:10000770-1644048000-1644080400@suncoastpca.org
SUMMARY:Autocross Sebring
DESCRIPTION:48 Hours at Sebring MORNING AutoX Challenge 2022\nhttps://clubregistration.net/events/signUp.cfm/event/11952 \n48 Hours at Sebring AFTERNOON AutoX Challenge 2022\nhttps://clubregistration.net/events/signUp.cfm/event/11953
URL:https://suncoastpca.org/event/autocross-sebring-9/
LOCATION:Sebring International Raceway\, 113 Midway Drive\, Sebring\, FL\, 33870\, United States
CATEGORIES:Autocross
END:VEVENT
BEGIN:VEVENT
DTSTART;TZID=America/New_York:20220130T080000
DTEND;TZID=America/New_York:20220130T170000
DTSTAMP:20260424T165048
CREATED:20211213T181956Z
LAST-MODIFIED:20211213T183359Z
UID:10000769-1643529600-1643562000@suncoastpca.org
SUMMARY:Autocross St Petersburg College AllState Center
DESCRIPTION:Registration link: https://clubregistration.net/events/signUp.cfm/event/12041
URL:https://suncoastpca.org/event/autocross-st-petersburg-college-allstate-center/
LOCATION:St. Petersburg College Allstate Center\, 3200 34th St S\, St Petersburg\, 33711
CATEGORIES:Autocross
END:VEVENT
BEGIN:VEVENT
DTSTART;TZID=America/New_York:20220118T183000
DTEND;TZID=America/New_York:20220118T213000
DTSTAMP:20260424T165048
CREATED:20220112T122645Z
LAST-MODIFIED:20220112T122645Z
UID:10000772-1642530600-1642541400@suncoastpca.org
SUMMARY:Date your Porsche Night
DESCRIPTION:Come and join your fellow Suncoast Porsche members and guests for Dinner at the beautiful Cambria Hotel\, in Madeira Beach. We will be gathering at 6:30 pm Tuesday\, January 18th. Due to the size of the dining room we can only have 30 in attendance. We will be offered a limited menu of sumptuous entrees\, salads and desserts.\nPlease sign up early to make sure of your place at the table.\nWe look forward to seeing many of you there
URL:https://suncoastpca.org/event/date-your-porsche-night-50/
LOCATION:Cambria Hotel\, 15015 Madeira Way\, Madeira Beach\, FL\, 33708\, United States
CATEGORIES:Social
END:VEVENT
BEGIN:VEVENT
DTSTART;TZID=America/New_York:20220115T083000
DTEND;TZID=America/New_York:20220115T113000
DTSTAMP:20260424T165048
CREATED:20220112T122342Z
LAST-MODIFIED:20220112T122342Z
UID:10000771-1642235400-1642246200@suncoastpca.org
SUMMARY:Breakfast with Porsches
DESCRIPTION:Come join your fellow Suncoast Porsche members and guests for the monthly breakfast at Skillet’s at 4115 South Tamiami Trail South\, in Venice. We will be gathering at 8:30am Saturday\, January 15th. The restaurant will provide seating for us both at tables inside and outside.\nThis a monthly affair on the third Saturday of each month. So plan to come and enjoy each others’ company and make it a habit.
URL:https://suncoastpca.org/event/breakfast-with-porsches-3/
LOCATION:Skillets Venice\, 4115 Tamiami Trail S\, Venice\, FL\, 34293\, United States
CATEGORIES:Social
END:VEVENT
BEGIN:VEVENT
DTSTART;TZID=America/New_York:20211219T140000
DTEND;TZID=America/New_York:20211219T160000
DTSTAMP:20260424T165048
CREATED:20211213T160947Z
LAST-MODIFIED:20211213T160947Z
UID:10000759-1639922400-1639929600@suncoastpca.org
SUMMARY:Suncoast PCA Food Drive
DESCRIPTION:Join your fellow Suncoast PCA members in a food drive to benefit the Food Bank at First Baptist Church\, 1900 Gandy Blvd N.\, St. Petersburg\, FL\, 33702 on Sunday\, December 19. Plan to arrive at the church by 2:00 PM. Events end at 4:00 PM. Bring your donations of non-perishable food and/or grocery store gift cards. This is a chance to give back to our community and help others less fortunate. The church has a large parking lot so we’ll have a chance to enjoy cars\, coffee and some holiday treats. Please respond with estimated number of attendees so we can have enough refreshments for all.\n \nIf you’re unable to attend in-person\, you may make a charitable donation and event admins will purchase food items and bring to the pantry on your behalf. \n \nRegister at: https://clubregistration.net/events/event-details.cfm?event_id=12019
URL:https://suncoastpca.org/event/suncoast-pca-food-drive/
LOCATION:First Baptist Church\, 1900 Gandy Blvd N.\, St Petersburg\, FL\, 33702\, United States
CATEGORIES:Other
END:VEVENT
BEGIN:VEVENT
DTSTART;TZID=America/New_York:20211218T083000
DTEND;TZID=America/New_York:20211218T113000
DTSTAMP:20260424T165048
CREATED:20211213T162910Z
LAST-MODIFIED:20211213T162910Z
UID:10000760-1639816200-1639827000@suncoastpca.org
SUMMARY:Breakfast with Porsches
DESCRIPTION:On your way out to do some last minute Christmas shopping on December 18\, plan to gain some morning energy by dining with the Suncoast Porsche group at Skillet’s in Venice at Jacaranda Blvd. and Tamiami Trail. We meet at 8:30 AM. \nWe generally have our own room to the right of the entrance and always have a good group of local Suncoasters and some visitors. \nThis will be our last Breakfast with Porsches of the year. Let’s make it a memorable one. Register at: https://clubregistration.net/events/event-details.cfm?event_id=11986
URL:https://suncoastpca.org/event/breakfast-with-porsches-2/
LOCATION:Skillets Venice\, 4115 Tamiami Trail S\, Venice\, FL\, 34293\, United States
CATEGORIES:Social
END:VEVENT
BEGIN:VEVENT
DTSTART;TZID=America/New_York:20211212T080000
DTEND;TZID=America/New_York:20211212T170000
DTSTAMP:20260424T165048
CREATED:20201218T181305Z
LAST-MODIFIED:20210413T225722Z
UID:10000743-1639296000-1639328400@suncoastpca.org
SUMMARY:Autocross St Petersburg College AllState Center
DESCRIPTION:St Petersburg College AllState Center – Law Enforcement Driving Pad
URL:https://suncoastpca.org/event/st-pete-college-3/
LOCATION:St. Petersburg College Allstate Center\, 3200 34th St S\, St Petersburg\, 33711
CATEGORIES:Autocross
END:VEVENT
BEGIN:VEVENT
DTSTART;TZID=America/New_York:20211121T080000
DTEND;TZID=America/New_York:20211121T170000
DTSTAMP:20260424T165048
CREATED:20201218T181234Z
LAST-MODIFIED:20210815T144432Z
UID:10000742-1637481600-1637514000@suncoastpca.org
SUMMARY:Autocross Venice Airport
DESCRIPTION:
URL:https://suncoastpca.org/event/autocross-venice-airport-2/
LOCATION:Venice Airport\, 150 Airport Ave E\, Venice\, FL\, 34285\, United States
CATEGORIES:Autocross
END:VEVENT
BEGIN:VEVENT
DTSTART;TZID=America/New_York:20211112T080000
DTEND;TZID=America/New_York:20211114T170000
DTSTAMP:20260424T165048
CREATED:20201213T203828Z
LAST-MODIFIED:20210310T012922Z
UID:10000736-1636704000-1636909200@suncoastpca.org
SUMMARY:Driver's Education
DESCRIPTION:
URL:https://suncoastpca.org/event/drivers-education-36/
LOCATION:Sebring International Raceway\, 113 Midway Drive\, Sebring\, FL\, 33870\, United States
CATEGORIES:Driver's Education
END:VEVENT
BEGIN:VEVENT
DTSTART;VALUE=DATE:20211105
DTEND;VALUE=DATE:20211108
DTSTAMP:20260424T165048
CREATED:20210430T141122Z
LAST-MODIFIED:20210511T231145Z
UID:10000753-1636070400-1636329599@suncoastpca.org
SUMMARY:60th Anniversary Celebration
DESCRIPTION:Suncoast Region was formed 60 years ago! So\, we are going to celebrate. \nWe will hold a weekend celebration at Saddlebrook Resort in Wesley Chapel on November 5 to 7\, 2021. \nSaddlebrook was site to Zonefest in 2002 and Parade in 2003. Some of you may remember either or both of those events. Plans are developing for a weekend of activities including: new-member welcome session\, Concours\, tech sessions\, Rally\, Tour\, Autocross\, banquet\, and a silent auction to benefit Ready for Life. And\, possibly a Golf Tournament. \nMore details as we develop the programs.  Meanwhile\, mark the dates on your calendars and go to Saddlebrook’s website to learn more about what they have to offer: https://www.saddlebrook.com \nStay tuned.
URL:https://suncoastpca.org/event/60th-anniversary-celebration/
LOCATION:Saddlebrook Resort & Spa\, 5700 Saddlebrook Way\, Wesley Chapel\, FL\, 33543\, United States
CATEGORIES:Social
END:VEVENT
BEGIN:VEVENT
DTSTART;TZID=America/New_York:20211017T080000
DTEND;TZID=America/New_York:20211017T170000
DTSTAMP:20260424T165048
CREATED:20201218T181153Z
LAST-MODIFIED:20210827T201339Z
UID:10000741-1634457600-1634490000@suncoastpca.org
SUMMARY:Autocross St Petersburg College AllState Center
DESCRIPTION:St Petersburg College AllState Center – Law Enforcement Driving Pad
URL:https://suncoastpca.org/event/st-pete-college-2/
LOCATION:St. Petersburg College Allstate Center\, 3200 34th St S\, St Petersburg\, 33711
CATEGORIES:Autocross
END:VEVENT
BEGIN:VEVENT
DTSTART;TZID=America/New_York:20211009T080000
DTEND;TZID=America/New_York:20211010T170000
DTSTAMP:20260424T165048
CREATED:20201213T203741Z
LAST-MODIFIED:20201213T203741Z
UID:10000735-1633766400-1633885200@suncoastpca.org
SUMMARY:Driver's Education
DESCRIPTION:
URL:https://suncoastpca.org/event/drivers-education-35/
LOCATION:Sebring International Raceway\, 113 Midway Drive\, Sebring\, FL\, 33870\, United States
CATEGORIES:Driver's Education
END:VEVENT
BEGIN:VEVENT
DTSTART;TZID=America/New_York:20210911T080000
DTEND;TZID=America/New_York:20210912T170000
DTSTAMP:20260424T165048
CREATED:20201213T203714Z
LAST-MODIFIED:20201213T203714Z
UID:10000734-1631347200-1631466000@suncoastpca.org
SUMMARY:Driver's Education
DESCRIPTION:
URL:https://suncoastpca.org/event/drivers-education-34/
LOCATION:Sebring International Raceway\, 113 Midway Drive\, Sebring\, FL\, 33870\, United States
CATEGORIES:Driver's Education
END:VEVENT
BEGIN:VEVENT
DTSTART;TZID=America/New_York:20210819T180000
DTEND;TZID=America/New_York:20210819T210000
DTSTAMP:20260424T165048
CREATED:20210706T194443Z
LAST-MODIFIED:20210706T194443Z
UID:10000757-1629396000-1629406800@suncoastpca.org
SUMMARY:Date Your Porsche Night
DESCRIPTION:While it isn’t scheduled for March 17\, it will get you in the mood for St. Paddy’s Day\, or a trip to the Emerald Isle. \nMcGrath’s is a family-friendly neighborhood Irish Ale House and Restaurant that has a modern atmosphere. Enjoy their delicious family-inspired dishes located in the heart of Lakewood Ranch\, FL—8110 Lakewood Main St.\, Lakewood Ranch. \nTheir food menu features a mixture of favorite traditional Irish and European dishes. “Let us bring a little piece of Ireland to you.” \nCome and join your fellow Porsche club members and guests for a very enjoyable evening with dinner at McGrath’s Irish Ale House\, 8110 Lakewood Main Street\, in Lakewood Ranch\, on Thursday\, August 19th\, beginning at 6:00 pm. The restaurant has a menu to satisfy all tastes. It should be a great time. We are limited to 36 attendees\, so sign up early.
URL:https://suncoastpca.org/event/date-your-porsche-night-49/
LOCATION:McGrath’s\, 8110 Lakewood Main St\, Lakewood Ranch\, FL\, 34202\, United States
CATEGORIES:Social
END:VEVENT
BEGIN:VEVENT
DTSTART;TZID=America/New_York:20210807T080000
DTEND;TZID=America/New_York:20210807T170000
DTSTAMP:20260424T165048
CREATED:20210606T132608Z
LAST-MODIFIED:20210622T025203Z
UID:10000754-1628323200-1628355600@suncoastpca.org
SUMMARY:Tour and Outing to Pecks Old Port Cove on Ozello Trail
DESCRIPTION:The tour will be approximately 91 miles\, and starts in San Antonio\, FL. An early lunch is scheduled at our destination restaurant. Registration opens on www.ClubRegistration.net on Tuesday\, July 20\, 2021 @ Noon EDT. \nHere’s a direct link to the event: \nhttps://clubregistration.net/events/signUp.cfm/event/11662
URL:https://suncoastpca.org/event/tour-and-outing-to-pecks-old-port-cove-on-ozello-trail/
LOCATION:Peck’s Old Port Cove Restaurant\, 139 N Ozello Trail\, Crystal River\, FL\, 34429\, United States
CATEGORIES:Other
GEO:28.863382;-82.667728
X-APPLE-STRUCTURED-LOCATION;VALUE=URI;X-ADDRESS=Peck’s Old Port Cove Restaurant 139 N Ozello Trail Crystal River FL 34429 United States;X-APPLE-RADIUS=500;X-TITLE=139 N Ozello Trail:geo:-82.667728,28.863382
END:VEVENT
BEGIN:VEVENT
DTSTART;TZID=America/New_York:20210720T183000
DTEND;TZID=America/New_York:20210720T210000
DTSTAMP:20260424T165048
CREATED:20210706T191737Z
LAST-MODIFIED:20210706T191755Z
UID:10000755-1626805800-1626814800@suncoastpca.org
SUMMARY:Date Your Porsche Night
DESCRIPTION:Come and join your fellow Porsche club members and guests for a very enjoyable evening with dinner at Waterfrontoo Restaurant\, 2205 N. Tamiami Trail\, in Nokomis\, FL\, on Tuesday\, July 20th\, beginning at 6:30 PM. The restaurant has a menu to satisfy all tastes\, located on a canal\, and with a separate parking lot for our Porsches.It should be a great time. \nRegistration is now open at: www.clubregistration.net Register soon as there are already 22 people registered as of Monday night\, July 5th.
URL:https://suncoastpca.org/event/date-your-porsche-night-48/
LOCATION:Waterfronttoo Restaurant\, 2205 N. Tamiami Trail\, Nokomis\, FL\, 34275\, United States
CATEGORIES:Social
END:VEVENT
BEGIN:VEVENT
DTSTART;TZID=America/New_York:20210717T083000
DTEND;TZID=America/New_York:20210717T103000
DTSTAMP:20260424T165048
CREATED:20210706T194122Z
LAST-MODIFIED:20210706T194122Z
UID:10000756-1626510600-1626517800@suncoastpca.org
SUMMARY:Breakfast with Porsches
DESCRIPTION:Our usual 3rd Saturday morning Breakfast with Porsches at Skillet’s in Venice. Going forward\, this will be a regular 3rd Saturday gathering at 8:30 AM with fellow Porschephiles early enough on a Saturday that you can head out for chores or a drive in the country in your Porsche. Need ideas on where to go? Discuss it with your table-mates over breakfast. Bring your smart phones and look at places to go. Need ideas? Check out: https://www.florida-backroads-travel.com/southwest-florida-day-trips.html
URL:https://suncoastpca.org/event/breakfast-with-porsches/
LOCATION:Skillets Venice\, 4115 Tamiami Trail S\, Venice\, FL\, 34293\, United States
CATEGORIES:Social
END:VEVENT
BEGIN:VEVENT
DTSTART;TZID=America/New_York:20210626T080000
DTEND;TZID=America/New_York:20210627T170000
DTSTAMP:20260424T165048
CREATED:20201213T203642Z
LAST-MODIFIED:20201213T203642Z
UID:10000733-1624694400-1624813200@suncoastpca.org
SUMMARY:Driver's Education
DESCRIPTION:
URL:https://suncoastpca.org/event/drivers-education-33/
LOCATION:Sebring International Raceway\, 113 Midway Drive\, Sebring\, FL\, 33870\, United States
CATEGORIES:Driver's Education
END:VEVENT
BEGIN:VEVENT
DTSTART;TZID=America/New_York:20210522T080000
DTEND;TZID=America/New_York:20210523T170000
DTSTAMP:20260424T165048
CREATED:20201213T203610Z
LAST-MODIFIED:20201213T203610Z
UID:10000732-1621670400-1621789200@suncoastpca.org
SUMMARY:Driver's Education
DESCRIPTION:
URL:https://suncoastpca.org/event/drivers-education-32/
LOCATION:Sebring International Raceway\, 113 Midway Drive\, Sebring\, FL\, 33870\, United States
CATEGORIES:Driver's Education
END:VEVENT
BEGIN:VEVENT
DTSTART;TZID=America/New_York:20210522T080000
DTEND;TZID=America/New_York:20210522T170000
DTSTAMP:20260424T165048
CREATED:20210318T220841Z
LAST-MODIFIED:20210422T125924Z
UID:10000749-1621670400-1621702800@suncoastpca.org
SUMMARY:Autocross Sebring with Gold Coast
DESCRIPTION:
URL:https://suncoastpca.org/event/autocross-sebring-with-gold-coast/
LOCATION:Sebring International Raceway\, 113 Midway Drive\, Sebring\, FL\, 33870\, United States
CATEGORIES:Autocross
END:VEVENT
BEGIN:VEVENT
DTSTART;TZID=America/New_York:20210518T180000
DTEND;TZID=America/New_York:20210518T210000
DTSTAMP:20260424T165048
CREATED:20210430T140644Z
LAST-MODIFIED:20210430T140644Z
UID:10000752-1621360800-1621371600@suncoastpca.org
SUMMARY:Date Your Porsche Night
DESCRIPTION:Please make plans to join your fellow Suncoast PCA members for our fifth\, almost-annual! Dinner-on-the-Beach at Sharky’s in Venice on Tuesday\, May 18\, at around 6:00 or 6:30\, you know\, like Jimmy Buffet beach time\, whatever…  \nAs in the past\, Sharky’s has again made their tent available to our group. This is a covered semi-fixed area\, where we will be well-sheltered in case of a shower\, but which is completely outdoors and allows us to enjoy those Gulf breezes that our area is famous for. We will have our own dedicated wait staff with individual\, couple\, or group checks available. The menu will be wide open\, that is\, everything that you see on the Sharky’s web site will be available.  \nParking\, while not reserved specifically for PCA\, is plentiful near the south end of the restaurant.  (Ed Note: Near the left (south) side of Sharky’s is “Beach Access #1.”) Follow the boardwalk toward the beach. As you approach the beach\, you’ll see your fellow Porsche-Pushers to your right. Yes\, you guessed it\, under the tent. After a friendly wave\, proceed to the end of the boardwalk and execute a sharp 180-degree turn to your right and come straight into the tent. \nWe’ll all be waiting for you…. But\, before you do that\, you must register and sign waivers at: www.clubregistration.net  And\, as the breakfast above\, registration will open on May 3rd.
URL:https://suncoastpca.org/event/date-your-porsche-night-47/
LOCATION:Sharky’s on the Pier\, 1600 Harbor Drive South\, Venice\, FL\, 34238\, United States
CATEGORIES:Social
GEO:27.0732367;-82.4501965
X-APPLE-STRUCTURED-LOCATION;VALUE=URI;X-ADDRESS=Sharky’s on the Pier 1600 Harbor Drive South Venice FL 34238 United States;X-APPLE-RADIUS=500;X-TITLE=1600 Harbor Drive South:geo:-82.4501965,27.0732367
END:VEVENT
END:VCALENDAR